BEGIN:VCALENDAR
VERSION:2.0
PRODID:-//Ayuntamiento de Motril. Transparencia - ECPv6.15.20//NONSGML v1.0//EN
CALSCALE:GREGORIAN
METHOD:PUBLISH
X-ORIGINAL-URL:https://transparencia.motril.es
X-WR-CALDESC:Eventos para Ayuntamiento de Motril. Transparencia
REFRESH-INTERVAL;VALUE=DURATION:PT1H
X-Robots-Tag:noindex
X-PUBLISHED-TTL:PT1H
BEGIN:VTIMEZONE
TZID:UTC
BEGIN:STANDARD
TZOFFSETFROM:+0000
TZOFFSETTO:+0000
TZNAME:UTC
DTSTART:20220101T000000
END:STANDARD
END:VTIMEZONE
BEGIN:VEVENT
DTSTART;TZID=UTC:20231201T120000
DTEND;TZID=UTC:20231201T130000
DTSTAMP:20260424T143613
CREATED:20240129T084713Z
LAST-MODIFIED:20240129T084713Z
UID:7364-1701432000-1701435600@transparencia.motril.es
SUMMARY:La alcaldesa de Motril\, Luisa García Chamorro\, junto con la concejal de Comercio\, Susana Peña\, asisten a la inauguración de MUSG\, Belleza y Agua.
DESCRIPTION:
URL:https://transparencia.motril.es/evento/la-alcaldesa-de-motril-luisa-garcia-chamorro-junto-con-la-concejal-de-comercio-susana-pena-asisten-a-la-inauguracion-de-musg-belleza-y-agua/
CATEGORIES:Comercio
END:VEVENT
BEGIN:VEVENT
DTSTART;TZID=UTC:20231201T210000
DTEND;TZID=UTC:20231201T230000
DTSTAMP:20260424T143613
CREATED:20240129T084910Z
LAST-MODIFIED:20240129T084910Z
UID:7366-1701464400-1701471600@transparencia.motril.es
SUMMARY:La alcaldesa de Motril\, Luisa García Chamorro\, junto miembros del Gobierno municipal asisten a la gala ¡Con Ganas! de Telemotril.
DESCRIPTION:
URL:https://transparencia.motril.es/evento/la-alcaldesa-de-motril-luisa-garcia-chamorro-junto-miembros-del-gobierno-municipal-asisten-a-la-gala-con-ganas-de-telemotril/
LOCATION:Teatro Calderón de la Barca\, Plaza Paulino Bellido\, s/n\, Motril\, Granada\, 18600\, España
END:VEVENT
BEGIN:VEVENT
DTSTART;TZID=UTC:20231202T210000
DTEND;TZID=UTC:20231202T220000
DTSTAMP:20260424T143613
CREATED:20240129T085348Z
LAST-MODIFIED:20240129T085348Z
UID:7368-1701550800-1701554400@transparencia.motril.es
SUMMARY:La alcaldesa de Motril\, Luisa García Chamorro\, junto con miembros de la corporación municipal\, asisten a los actos institucionales y de culto por la clausura del 275 Aniversario de la llegada a Motril de la Divina Pastora de las Almas.
DESCRIPTION:
URL:https://transparencia.motril.es/evento/la-alcaldesa-de-motril-luisa-garcia-chamorro-junto-con-miembros-de-la-corporacion-municipal-asisten-a-los-actos-institucionales-y-de-culto-por-la-clausura-del-275-aniversario-de-la-llegada-a-motril/
LOCATION:Iglesia Divina Pastora\, Avenida Pío XII\, Motril\, Granada\, 18600\, España
CATEGORIES:Actos
END:VEVENT
BEGIN:VEVENT
DTSTART;TZID=UTC:20231204T110000
DTEND;TZID=UTC:20231204T120000
DTSTAMP:20260424T143613
CREATED:20240130T084110Z
LAST-MODIFIED:20240130T084110Z
UID:7397-1701687600-1701691200@transparencia.motril.es
SUMMARY:Reunión interna
DESCRIPTION:
URL:https://transparencia.motril.es/evento/reunion-interna-277/
LOCATION:Despacho alcaldesa Ayuntamiento de Motril
CATEGORIES:Reunión
END:VEVENT
BEGIN:VEVENT
DTSTART;TZID=UTC:20231204T120000
DTEND;TZID=UTC:20231204T130000
DTSTAMP:20260424T143613
CREATED:20240130T084214Z
LAST-MODIFIED:20240130T084214Z
UID:7399-1701691200-1701694800@transparencia.motril.es
SUMMARY:Reunión interna
DESCRIPTION:
URL:https://transparencia.motril.es/evento/reunion-interna-278/
LOCATION:Salón de Protocolo\, Plaza de España\, 1\, Granada\, 18600\, España
CATEGORIES:Reunión
END:VEVENT
BEGIN:VEVENT
DTSTART;TZID=UTC:20231205T091500
DTEND;TZID=UTC:20231205T214500
DTSTAMP:20260424T143613
CREATED:20240130T084449Z
LAST-MODIFIED:20240130T084449Z
UID:7401-1701767700-1701812700@transparencia.motril.es
SUMMARY:Reunión interna
DESCRIPTION:
URL:https://transparencia.motril.es/evento/reunion-interna-279/
LOCATION:Despacho alcaldesa Ayuntamiento de Motril
CATEGORIES:Reunión
END:VEVENT
BEGIN:VEVENT
DTSTART;TZID=UTC:20231205T103000
DTEND;TZID=UTC:20231205T230000
DTSTAMP:20260424T143613
CREATED:20240129T085630Z
LAST-MODIFIED:20240129T085630Z
UID:7371-1701772200-1701817200@transparencia.motril.es
SUMMARY:La alcaldesa de Motril\, Luisa García Chamorro\, junto con la teniente de alcalde de Igualdad\, Inmaculada Torres\, asisten a la inauguración de la Feria de Asociaciones.
DESCRIPTION:
URL:https://transparencia.motril.es/evento/la-alcaldesa-de-motril-luisa-garcia-chamorro-junto-con-la-teniente-de-alcalde-de-igualdad-inmaculada-torres-asisten-a-la-inauguracion-de-la-feria-de-asociaciones/
LOCATION:Parque de los Pueblos de América
CATEGORIES:Acción Social
END:VEVENT
BEGIN:VEVENT
DTSTART;TZID=UTC:20231205T120000
DTEND;TZID=UTC:20231205T123000
DTSTAMP:20260424T143613
CREATED:20240129T085813Z
LAST-MODIFIED:20240129T085813Z
UID:7373-1701777600-1701779400@transparencia.motril.es
SUMMARY:La alcaldesa de Motril\, Luisa García Chamorro\, junto miembros de la corporación municipal\, asisten al acto con motivo del Día de la Constitución Española.
DESCRIPTION:
URL:https://transparencia.motril.es/evento/la-alcaldesa-de-motril-luisa-garcia-chamorro-junto-miembros-de-la-corporacion-municipal-asisten-al-acto-con-motivo-del-dia-de-la-constitucion-espanola/
LOCATION:Plaza de España
CATEGORIES:Actos
END:VEVENT
BEGIN:VEVENT
DTSTART;TZID=UTC:20231205T190000
DTEND;TZID=UTC:20231205T200000
DTSTAMP:20260424T143613
CREATED:20240129T090034Z
LAST-MODIFIED:20240129T090034Z
UID:7375-1701802800-1701806400@transparencia.motril.es
SUMMARY:La alcaldesa de Motril\, Luisa García Chamorro\, junto al concejal de Fiestas y Eventos\, Gerardo Romano\, y miembros de la corporación municipal\, asisten a la inauguración del alumbrado de Navidad 2023.
DESCRIPTION:
URL:https://transparencia.motril.es/evento/la-alcaldesa-de-motril-luisa-garcia-chamorro-junto-al-concejal-de-fiestas-y-eventos-gerardo-romano-y-miembros-de-la-corporacion-municipal-asisten-a-la-inauguracion-del-alumbrado-de-navidad-2023/
LOCATION:Plaza de España
CATEGORIES:Actos
END:VEVENT
BEGIN:VEVENT
DTSTART;TZID=UTC:20231211T183000
DTEND;TZID=UTC:20231211T193000
DTSTAMP:20260424T143613
CREATED:20240129T090228Z
LAST-MODIFIED:20240129T090228Z
UID:7377-1702319400-1702323000@transparencia.motril.es
SUMMARY:La alcaldesa de Motril\, Luisa García Chamorro\, junto con la concejal de Anejos\, Concepción Abarca\, y miembros del Gobierno municipal visitan La Garnatilla.
DESCRIPTION:
URL:https://transparencia.motril.es/evento/la-alcaldesa-de-motril-luisa-garcia-chamorro-junto-con-la-concejal-de-anejos-concepcion-abarca-y-miembros-del-gobierno-municipal-visitan-la-garnatilla/
LOCATION:La Garnatilla
END:VEVENT
BEGIN:VEVENT
DTSTART;TZID=UTC:20231212T190000
DTEND;TZID=UTC:20231212T210000
DTSTAMP:20260424T143613
CREATED:20240129T090338Z
LAST-MODIFIED:20240129T090338Z
UID:7379-1702407600-1702414800@transparencia.motril.es
SUMMARY:La alcaldesa de Motril\, Luisa García Chamorro\, junto con el teniente de alcalde de Presidencia\, Juan Fernando Hernández\, asisten a los Premios Ideales Granada 2023.
DESCRIPTION:
URL:https://transparencia.motril.es/evento/la-alcaldesa-de-motril-luisa-garcia-chamorro-junto-con-el-teniente-de-alcalde-de-presidencia-juan-fernando-hernandez-asisten-a-los-premios-ideales-granada-2023/
END:VEVENT
BEGIN:VEVENT
DTSTART;TZID=UTC:20231213T103000
DTEND;TZID=UTC:20231213T230000
DTSTAMP:20260424T143613
CREATED:20240129T090503Z
LAST-MODIFIED:20240129T101932Z
UID:7381-1702463400-1702508400@transparencia.motril.es
SUMMARY:La alcaldesa de Motril\, Luisa García Chamorro\, asiste al pleno escolar municipal.
DESCRIPTION:
URL:https://transparencia.motril.es/evento/la-alcaldesa-de-motril-luisa-garcia-chamorro-asiste-al-pleno-escolar-municipal/
LOCATION:Salón de Plenos de la Casa Consistorial\, PLAZA DE ESPAÑA\, 1\, MOTRIL\, Granada\, 18600\, España
CATEGORIES:Educación
END:VEVENT
BEGIN:VEVENT
DTSTART;TZID=UTC:20231228T093000
DTEND;TZID=UTC:20231228T120000
DTSTAMP:20260424T143613
CREATED:20240126T113145Z
LAST-MODIFIED:20240126T113145Z
UID:7336-1703755800-1703764800@transparencia.motril.es
SUMMARY:La corporación municipal celebra sesión plenaria ordinaria.
DESCRIPTION:
URL:https://transparencia.motril.es/evento/la-corporacion-municipal-celebra-sesion-plenaria-ordinaria/
LOCATION:Salón de Plenos de la Casa Consistorial\, PLAZA DE ESPAÑA\, 1\, MOTRIL\, Granada\, 18600\, España
END:VEVENT
END:VCALENDAR