BEGIN:VCALENDAR
VERSION:2.0
PRODID:-//Ayuntamiento de Motril. Transparencia - ECPv6.15.20//NONSGML v1.0//EN
CALSCALE:GREGORIAN
METHOD:PUBLISH
X-ORIGINAL-URL:https://transparencia.motril.es
X-WR-CALDESC:Eventos para Ayuntamiento de Motril. Transparencia
REFRESH-INTERVAL;VALUE=DURATION:PT1H
X-Robots-Tag:noindex
X-PUBLISHED-TTL:PT1H
BEGIN:VTIMEZONE
TZID:UTC
BEGIN:STANDARD
TZOFFSETFROM:+0000
TZOFFSETTO:+0000
TZNAME:UTC
DTSTART:20210101T000000
END:STANDARD
END:VTIMEZONE
BEGIN:VEVENT
DTSTART;TZID=UTC:20220702T120000
DTEND;TZID=UTC:20220702T120000
DTSTAMP:20260424T143508
CREATED:20220701T103734Z
LAST-MODIFIED:20220701T103734Z
UID:4140-1656763200-1656763200@transparencia.motril.es
SUMMARY:La alcaldesa de Motril\, Luisa García Chamorro\, junto al teniente de alcalde de Playas\, José Lemos\, y miembros del equipo de Gobierno realizarán el izado de la Bandera Azul
DESCRIPTION:
URL:https://transparencia.motril.es/evento/la-alcaldesa-de-motril-luisa-garcia-chamorro-junto-al-teniente-de-alcalde-de-playas-jose-lemos-y-miembros-del-equipo-de-gobierno-realizaran-el-izado-de-la-bandera-azul/
LOCATION:Restaurante Los Moriscos
END:VEVENT
BEGIN:VEVENT
DTSTART;TZID=UTC:20220702T123000
DTEND;TZID=UTC:20220702T123000
DTSTAMP:20260424T143508
CREATED:20220701T103806Z
LAST-MODIFIED:20220701T103806Z
UID:4142-1656765000-1656765000@transparencia.motril.es
SUMMARY:La alcaldesa de Motril\, Luisa García Chamorro\, junto a la presidenta de la ELA Carchuna y Calahonda\, Concepción Abarca realizarán el izado de la Bandera Azul
DESCRIPTION:
URL:https://transparencia.motril.es/evento/la-alcaldesa-de-motril-luisa-garcia-chamorro-junto-a-la-presidenta-de-la-ela-carchuna-y-calahonda-concepcion-abarca-realizaran-el-izado-de-la-bandera-azul/
LOCATION:Playas de Calahonda\, junto al puesto de salvamento
END:VEVENT
BEGIN:VEVENT
DTSTART;TZID=UTC:20220702T210000
DTEND;TZID=UTC:20220702T210000
DTSTAMP:20260424T143508
CREATED:20220701T103829Z
LAST-MODIFIED:20220701T103829Z
UID:4145-1656795600-1656795600@transparencia.motril.es
SUMMARY:La alcaldesa de Motril\, Luisa García Chamorro\, junto al concejal de Deportes\, Daniel Ortega\, y miembros del equipo de Gobierno acuden a la gala de Mucho Deporte
DESCRIPTION:
URL:https://transparencia.motril.es/evento/la-alcaldesa-de-motril-luisa-garcia-chamorro-junto-al-concejal-de-deportes-daniel-ortega-y-miembros-del-equipo-de-gobierno-acuden-a-la-gala-de-mucho-deporte/
LOCATION:Teatro Calderón de la Barca\, Plaza Paulino Bellido\, s/n\, Motril\, Granada\, 18600\, España
END:VEVENT
BEGIN:VEVENT
DTSTART;TZID=UTC:20220703T133000
DTEND;TZID=UTC:20220703T133000
DTSTAMP:20260424T143508
CREATED:20220701T103850Z
LAST-MODIFIED:20220701T103850Z
UID:4147-1656855000-1656855000@transparencia.motril.es
SUMMARY:La alcaldesa de Motril\, Luisa García Chamorro\, asiste a la concentración de motos que se va a desarrollar en Las Explanadas
DESCRIPTION:
URL:https://transparencia.motril.es/evento/la-alcaldesa-de-motril-luisa-garcia-chamorro-asiste-a-la-concentracion-de-motos-que-se-va-a-desarrollar-en-las-explanadas/
LOCATION:Paseo de las Explanadas
END:VEVENT
BEGIN:VEVENT
DTSTART;TZID=UTC:20220704T100000
DTEND;TZID=UTC:20220704T100000
DTSTAMP:20260424T143508
CREATED:20220701T103913Z
LAST-MODIFIED:20220701T103913Z
UID:4149-1656928800-1656928800@transparencia.motril.es
SUMMARY:La alcaldesa de Motril\, Luisa García Chamorro\, recibe al campeón de Andalucía de pádel
DESCRIPTION:
URL:https://transparencia.motril.es/evento/la-alcaldesa-de-motril-luisa-garcia-chamorro-recibe-al-campeon-de-andalucia-de-padel/
LOCATION:Despacho alcaldesa Ayuntamiento de Motril
END:VEVENT
BEGIN:VEVENT
DTSTART;TZID=UTC:20220704T110000
DTEND;TZID=UTC:20220704T110000
DTSTAMP:20260424T143508
CREATED:20220701T103937Z
LAST-MODIFIED:20220701T103937Z
UID:4151-1656932400-1656932400@transparencia.motril.es
SUMMARY:La alcaldesa de Motril\, Luisa García Chamorro\, junto al teniente de alcalde de Playas\, José Lemos\, la teniente de alcalde de Seguridad\, Mª Ángeles Escámez\, y miembros del equipo de Gobierno presentan el dispositivo de playas para este verano
DESCRIPTION:
URL:https://transparencia.motril.es/evento/la-alcaldesa-de-motril-luisa-garcia-chamorro-junto-al-teniente-de-alcalde-de-playas-jose-lemos-la-teniente-de-alcalde-de-seguridad-ma-angeles-escamez-y-miembros-del-equipo-de-gobierno-presentan/
LOCATION:Restaurante Los Moriscos
END:VEVENT
BEGIN:VEVENT
DTSTART;TZID=UTC:20220704T112500
DTEND;TZID=UTC:20220704T112500
DTSTAMP:20260424T143508
CREATED:20220701T104014Z
LAST-MODIFIED:20220701T104014Z
UID:4153-1656933900-1656933900@transparencia.motril.es
SUMMARY:La alcaldesa de Motril\, Luisa García Chamorro\, junto al teniente de alcalde de Playas\, José Lemos\, y miembros del equipo de Gobierno izarán la bandera Q de calidad
DESCRIPTION:
URL:https://transparencia.motril.es/evento/la-alcaldesa-de-motril-luisa-garcia-chamorro-junto-al-teniente-de-alcalde-de-playas-jose-lemos-y-miembros-del-equipo-de-gobierno-izaran-la-bandera-q-de-calidad/
LOCATION:Junto al puente de Playa de Poniente
END:VEVENT
BEGIN:VEVENT
DTSTART;TZID=UTC:20220704T124500
DTEND;TZID=UTC:20220704T124500
DTSTAMP:20260424T143508
CREATED:20220701T104041Z
LAST-MODIFIED:20220701T104041Z
UID:4156-1656938700-1656938700@transparencia.motril.es
SUMMARY:La alcaldesa de Motril\, Luisa García Chamorro\, junto a la presidenta de la ELA\, Concepción Abarca\, izarán la bandera Q de calidad
DESCRIPTION:
URL:https://transparencia.motril.es/evento/la-alcaldesa-de-motril-luisa-garcia-chamorro-junto-a-la-presidenta-de-la-ela-concepcion-abarca-izaran-la-bandera-q-de-calidad/
LOCATION:Despacho alcaldesa Ayuntamiento de Motril
END:VEVENT
BEGIN:VEVENT
DTSTART;TZID=UTC:20220704T124500
DTEND;TZID=UTC:20220704T124500
DTSTAMP:20260424T143508
CREATED:20220701T104108Z
LAST-MODIFIED:20220701T104108Z
UID:4158-1656938700-1656938700@transparencia.motril.es
SUMMARY:La alcaldesa de Motril\, Luisa García Chamorro\, recibe al atleta Juan Luis López Anaya
DESCRIPTION:
URL:https://transparencia.motril.es/evento/la-alcaldesa-de-motril-luisa-garcia-chamorro-recibe-al-atleta-juan-luis-lopez-anaya/
LOCATION:Despacho alcaldesa Ayuntamiento de Motril
END:VEVENT
BEGIN:VEVENT
DTSTART;TZID=UTC:20220704T131500
DTEND;TZID=UTC:20220704T131500
DTSTAMP:20260424T143508
CREATED:20220701T104137Z
LAST-MODIFIED:20220701T104137Z
UID:4160-1656940500-1656940500@transparencia.motril.es
SUMMARY:La alcaldesa de Motril\, Luisa García Chamorro\, presenta la academia de Baloncesto Costa Motril
DESCRIPTION:
URL:https://transparencia.motril.es/evento/la-alcaldesa-de-motril-luisa-garcia-chamorro-presenta-la-academia-de-baloncesto-costa-motril/
LOCATION:Despacho alcaldesa Ayuntamiento de Motril
END:VEVENT
BEGIN:VEVENT
DTSTART;TZID=UTC:20220707T100000
DTEND;TZID=UTC:20220707T100000
DTSTAMP:20260424T143508
CREATED:20220706T092740Z
LAST-MODIFIED:20220706T092740Z
UID:4170-1657188000-1657188000@transparencia.motril.es
SUMMARY:Reunión interna
DESCRIPTION:
URL:https://transparencia.motril.es/evento/reunion-interna-69/
END:VEVENT
BEGIN:VEVENT
DTSTART;TZID=UTC:20220707T110000
DTEND;TZID=UTC:20220707T110000
DTSTAMP:20260424T143508
CREATED:20220706T092643Z
LAST-MODIFIED:20220706T092643Z
UID:4164-1657191600-1657191600@transparencia.motril.es
SUMMARY:La alcaldesa de Motril\, Luisa García Chamorro\, junto a la concejala de Comercio\, Susana Peña\, visitarán el obrador de queso fresco ‘El parranda’
DESCRIPTION:
URL:https://transparencia.motril.es/evento/la-alcaldesa-de-motril-luisa-garcia-chamorro-junto-a-la-concejala-de-comercio-susana-pena-visitaran-el-obrador-de-queso-fresco-el-parranda/
LOCATION:Calle San Blas
END:VEVENT
BEGIN:VEVENT
DTSTART;TZID=UTC:20220707T130000
DTEND;TZID=UTC:20220707T130000
DTSTAMP:20260424T143508
CREATED:20220706T092712Z
LAST-MODIFIED:20220706T092712Z
UID:4167-1657198800-1657198800@transparencia.motril.es
SUMMARY:La alcaldesa de Motril\, Luisa García Chamorro\, junto a la concejala de Comercio\, Susana Peña\, visitan el espacio gastronómico IME
DESCRIPTION:
URL:https://transparencia.motril.es/evento/la-alcaldesa-de-motril-luisa-garcia-chamorro-junto-a-la-concejala-de-comercio-susana-pena-visitan-el-espacio-gastronomico-ime/
LOCATION:Calle Francisco Díaz Cardona
END:VEVENT
BEGIN:VEVENT
DTSTART;TZID=UTC:20220708T100000
DTEND;TZID=UTC:20220708T100000
DTSTAMP:20260424T143508
CREATED:20220707T102452Z
LAST-MODIFIED:20220707T102501Z
UID:4172-1657274400-1657274400@transparencia.motril.es
SUMMARY:La alcaldesa de Motril\, Luisa García Chamorro\, junto a miembros del equipo de Gobierno asisten a la instalación de un nuevo contenedor para la recogida de tapones
DESCRIPTION:
URL:https://transparencia.motril.es/evento/la-alcaldesa-de-motril-luisa-garcia-chamorro-junto-a-miembros-del-equipo-de-gobierno-asisten-a-la-instalacion-de-un-nuevo-contenedor-para-la-recogida-de-tapones/
LOCATION:Junto al acceso sur del Hospital Comarcal Santa Ana
END:VEVENT
BEGIN:VEVENT
DTSTART;TZID=UTC:20220708T110000
DTEND;TZID=UTC:20220708T110000
DTSTAMP:20260424T143508
CREATED:20220707T102657Z
LAST-MODIFIED:20220707T102657Z
UID:4184-1657278000-1657278000@transparencia.motril.es
SUMMARY:Reunión interna
DESCRIPTION:
URL:https://transparencia.motril.es/evento/reunion-interna-70/
END:VEVENT
BEGIN:VEVENT
DTSTART;TZID=UTC:20220708T120000
DTEND;TZID=UTC:20220708T120000
DTSTAMP:20260424T143508
CREATED:20220707T102528Z
LAST-MODIFIED:20220707T102528Z
UID:4176-1657281600-1657281600@transparencia.motril.es
SUMMARY:La alcaldesa de Motril\, Luisa García Chamorro\, junto a miembros del equipo de Gobierno asiste al acto de bienvenida de la nueva maestra ronera de la bodega Ron Montero
DESCRIPTION:
URL:https://transparencia.motril.es/evento/la-alcaldesa-de-motril-luisa-garcia-chamorro-junto-a-miembros-del-equipo-de-gobierno-asiste-al-acto-de-bienvenida-de-la-nueva-maestra-ronera-de-la-bodega-ron-montero/
LOCATION:Bodega Ron Montero
END:VEVENT
BEGIN:VEVENT
DTSTART;TZID=UTC:20220708T183000
DTEND;TZID=UTC:20220708T183000
DTSTAMP:20260424T143508
CREATED:20220707T102602Z
LAST-MODIFIED:20220707T102602Z
UID:4179-1657305000-1657305000@transparencia.motril.es
SUMMARY:La alcaldesa de Motril\, Luisa García Chamorro\, junto a la presidenta de la ELA Carchuna-Calahonda\, Concepción Abarca\, asiste al acto inaugural del Paseo Marítimo de Calahonda
DESCRIPTION:
URL:https://transparencia.motril.es/evento/la-alcaldesa-de-motril-luisa-garcia-chamorro-junto-a-la-presidenta-de-la-ela-carchuna-calahonda-concepcion-abarca-asiste-al-acto-inaugural-del-paseo-maritimo-de-calahonda/
LOCATION:Paseo Marítimo Calahonda
END:VEVENT
BEGIN:VEVENT
DTSTART;TZID=UTC:20220708T203000
DTEND;TZID=UTC:20220708T203000
DTSTAMP:20260424T143508
CREATED:20220707T102631Z
LAST-MODIFIED:20220707T102631Z
UID:4182-1657312200-1657312200@transparencia.motril.es
SUMMARY:La alcaldesa de Motril\, Luisa García Chamorro\, asiste al encuentro ‘Encuentro del mundo jurídico en la Costa’
DESCRIPTION:
URL:https://transparencia.motril.es/evento/la-alcaldesa-de-motril-luisa-garcia-chamorro-asiste-al-encuentro-encuentro-del-mundo-juridico-en-la-costa/
LOCATION:Real Club Náutico\, Motril\, 18600\, España
END:VEVENT
BEGIN:VEVENT
DTSTART;TZID=UTC:20220710T210000
DTEND;TZID=UTC:20220710T210000
DTSTAMP:20260424T143508
CREATED:20220708T100932Z
LAST-MODIFIED:20220708T100932Z
UID:4186-1657486800-1657486800@transparencia.motril.es
SUMMARY:La alcaldesa de Motril\, Luisa García Chamorro\, asiste al concierto ‘Dial al sol’
DESCRIPTION:
URL:https://transparencia.motril.es/evento/la-alcaldesa-de-motril-luisa-garcia-chamorro-asiste-al-concierto-dial-al-sol/
LOCATION:Plaza de la Coronación
END:VEVENT
BEGIN:VEVENT
DTSTART;TZID=UTC:20220711T093000
DTEND;TZID=UTC:20220711T093000
DTSTAMP:20260424T143508
CREATED:20220708T101003Z
LAST-MODIFIED:20220708T101003Z
UID:4188-1657531800-1657531800@transparencia.motril.es
SUMMARY:La alcaldesa de Motril\, Luisa García Chamorro\, junto al concejal de Juventud\, Alejandro Vilar\, presentan una actividad para visitar Isla Mágica
DESCRIPTION:
URL:https://transparencia.motril.es/evento/la-alcaldesa-de-motril-luisa-garcia-chamorro-junto-al-concejal-de-juventud-alejandro-vilar-presentan-una-actividad-para-visitar-isla-magica/
LOCATION:Despacho alcaldesa Ayuntamiento de Motril
END:VEVENT
BEGIN:VEVENT
DTSTART;TZID=UTC:20220711T100000
DTEND;TZID=UTC:20220711T100000
DTSTAMP:20260424T143508
CREATED:20220708T101029Z
LAST-MODIFIED:20220708T101029Z
UID:4190-1657533600-1657533600@transparencia.motril.es
SUMMARY:La alcaldesa de Motril\, Luisa García Chamorro\, asiste al desayuno del taller de mayores del centro de día Andalucía
DESCRIPTION:
URL:https://transparencia.motril.es/evento/la-alcaldesa-de-motril-luisa-garcia-chamorro-asiste-al-desayuno-del-taller-de-mayores-del-centro-de-dia-andalucia/
LOCATION:Calle Ancha\, 33
END:VEVENT
BEGIN:VEVENT
DTSTART;TZID=UTC:20220711T110000
DTEND;TZID=UTC:20220711T110000
DTSTAMP:20260424T143508
CREATED:20220708T101052Z
LAST-MODIFIED:20220708T101052Z
UID:4193-1657537200-1657537200@transparencia.motril.es
SUMMARY:La alcaldesa de Motril\, Luisa García Chamorro\, junto a la concejal de Comercio\, Susana Peña\, visita la nueva tienda de moda ‘El Vestidor’
DESCRIPTION:
URL:https://transparencia.motril.es/evento/la-alcaldesa-de-motril-luisa-garcia-chamorro-junto-a-la-concejal-de-comercio-susana-pena-visita-la-nueva-tienda-de-moda-el-vestidor/
LOCATION:Calle Cruz de Conchas\, 9
END:VEVENT
BEGIN:VEVENT
DTSTART;TZID=UTC:20220712T093000
DTEND;TZID=UTC:20220712T093000
DTSTAMP:20260424T143508
CREATED:20220711T101017Z
LAST-MODIFIED:20220711T101017Z
UID:4196-1657618200-1657618200@transparencia.motril.es
SUMMARY:Reunión interna
DESCRIPTION:
URL:https://transparencia.motril.es/evento/reunion-interna-71/
END:VEVENT
BEGIN:VEVENT
DTSTART;TZID=UTC:20220712T100000
DTEND;TZID=UTC:20220712T100000
DTSTAMP:20260424T143508
CREATED:20220711T101056Z
LAST-MODIFIED:20220711T101056Z
UID:4198-1657620000-1657620000@transparencia.motril.es
SUMMARY:La alcaldesa visita el taller de mayores del barrio de las Angustias
DESCRIPTION:
URL:https://transparencia.motril.es/evento/la-alcaldesa-visita-el-taller-de-mayores-del-barrio-de-las-angustias/
LOCATION:Calle Madreselva\, 6
END:VEVENT
BEGIN:VEVENT
DTSTART;TZID=UTC:20220712T120000
DTEND;TZID=UTC:20220712T120000
DTSTAMP:20260424T143508
CREATED:20220711T101117Z
LAST-MODIFIED:20220711T101117Z
UID:4201-1657627200-1657627200@transparencia.motril.es
SUMMARY:Reunión interna
DESCRIPTION:
URL:https://transparencia.motril.es/evento/reunion-interna-72/
END:VEVENT
BEGIN:VEVENT
DTSTART;TZID=UTC:20220712T130000
DTEND;TZID=UTC:20220712T130000
DTSTAMP:20260424T143508
CREATED:20220711T101143Z
LAST-MODIFIED:20220711T101143Z
UID:4203-1657630800-1657630800@transparencia.motril.es
SUMMARY:Reunión interna
DESCRIPTION:
URL:https://transparencia.motril.es/evento/reunion-interna-73/
END:VEVENT
BEGIN:VEVENT
DTSTART;TZID=UTC:20220713T100000
DTEND;TZID=UTC:20220713T100000
DTSTAMP:20260424T143508
CREATED:20220713T115343Z
LAST-MODIFIED:20220713T115343Z
UID:4208-1657706400-1657706400@transparencia.motril.es
SUMMARY:La alcaldesa de Motril\, Luisa García Chamorro\, visita el taller de mayores Rompeolas
DESCRIPTION:
URL:https://transparencia.motril.es/evento/la-alcaldesa-de-motril-luisa-garcia-chamorro-visita-el-taller-de-mayores-rompeolas/
LOCATION:: Calle Copo\, 1 – Santa Adela
END:VEVENT
BEGIN:VEVENT
DTSTART;TZID=UTC:20220714T090000
DTEND;TZID=UTC:20220714T090000
DTSTAMP:20260424T143508
CREATED:20220713T115300Z
LAST-MODIFIED:20220713T115300Z
UID:4205-1657789200-1657789200@transparencia.motril.es
SUMMARY:La alcaldesa de Motril\, Luisa García Chamorro\, visita el taller de mayores Altamar
DESCRIPTION:
URL:https://transparencia.motril.es/evento/la-alcaldesa-de-motril-luisa-garcia-chamorro-visita-el-taller-de-mayores-altamar/
LOCATION:Centro multifuncional Varadero
END:VEVENT
BEGIN:VEVENT
DTSTART;TZID=UTC:20220714T110000
DTEND;TZID=UTC:20220714T110000
DTSTAMP:20260424T143508
CREATED:20220713T115412Z
LAST-MODIFIED:20220713T115412Z
UID:4211-1657796400-1657796400@transparencia.motril.es
SUMMARY:La alcaldesa de Motril\, Luisa García Chamorro\, junto al concejal de Juventud y Fiestas\, Alejandro Vilar\, presentan el tributo musical del Rey León
DESCRIPTION:
URL:https://transparencia.motril.es/evento/la-alcaldesa-de-motril-luisa-garcia-chamorro-junto-al-concejal-de-juventud-y-fiestas-alejandro-vilar-presentan-el-tributo-musical-del-rey-leon/
LOCATION:Despacho alcaldesa Ayuntamiento de Motril
END:VEVENT
BEGIN:VEVENT
DTSTART;TZID=UTC:20220714T120000
DTEND;TZID=UTC:20220714T120000
DTSTAMP:20260424T143508
CREATED:20220713T121031Z
LAST-MODIFIED:20220713T121031Z
UID:4218-1657800000-1657800000@transparencia.motril.es
SUMMARY:La alcaldesa de Motril\, Luisa García Chamorro\, junto al teniente de alcalde de Playas\, José Lemos\, comparecen para informar sobre el estado actual de las playas de Motril.
DESCRIPTION:
URL:https://transparencia.motril.es/evento/la-alcaldesa-de-motril-luisa-garcia-chamorro-junto-al-teniente-de-alcalde-de-playas-jose-lemos-comparecen-para-informar-sobre-el-estado-actual-de-las-playas-de-motril/
LOCATION:: Playa de Poniente\, junto a Chiringuito Alonso
END:VEVENT
END:VCALENDAR