BEGIN:VCALENDAR
VERSION:2.0
PRODID:-//Ayuntamiento de Motril. Transparencia - ECPv6.15.20//NONSGML v1.0//EN
CALSCALE:GREGORIAN
METHOD:PUBLISH
X-ORIGINAL-URL:https://transparencia.motril.es
X-WR-CALDESC:Eventos para Ayuntamiento de Motril. Transparencia
REFRESH-INTERVAL;VALUE=DURATION:PT1H
X-Robots-Tag:noindex
X-PUBLISHED-TTL:PT1H
BEGIN:VTIMEZONE
TZID:UTC
BEGIN:STANDARD
TZOFFSETFROM:+0000
TZOFFSETTO:+0000
TZNAME:UTC
DTSTART:20220101T000000
END:STANDARD
END:VTIMEZONE
BEGIN:VEVENT
DTSTART;TZID=UTC:20230103T103000
DTEND;TZID=UTC:20230103T103000
DTSTAMP:20260424T051039
CREATED:20230101T173914Z
LAST-MODIFIED:20230101T173914Z
UID:5620-1672741800-1672741800@transparencia.motril.es
SUMMARY:La alcaldesa de Motril\, Luisa García Chamorro\, y representantes de la Hermandad de la Virgen de la Cabeza presentan la renovación de los votos de la ciudad de Motril a la Virgen de la Cabeza con motivo del Día de los Terremotos
DESCRIPTION:
URL:https://transparencia.motril.es/evento/la-alcaldesa-de-motril-luisa-garcia-chamorro-y-representantes-de-la-hermandad-de-la-virgen-de-la-cabeza-presentan-la-renovacion-de-los-votos-de-la-ciudad-de-motril-a-la-virgen-de-la-cabeza-con-motiv/
CATEGORIES:Actos,Día de los Terremotos
END:VEVENT
BEGIN:VEVENT
DTSTART;TZID=UTC:20230103T113000
DTEND;TZID=UTC:20230103T113000
DTSTAMP:20260424T051039
CREATED:20230101T173817Z
LAST-MODIFIED:20230101T173817Z
UID:5618-1672745400-1672745400@transparencia.motril.es
SUMMARY:La alcaldesa de Motril\, Luisa García Chamorro\, visita las carrozas de la Cabalgata de Reyes Magos.
DESCRIPTION:
URL:https://transparencia.motril.es/evento/la-alcaldesa-de-motril-luisa-garcia-chamorro-visita-las-carrozas-de-la-cabalgata-de-reyes-magos/
CATEGORIES:Actos
END:VEVENT
BEGIN:VEVENT
DTSTART;TZID=UTC:20230103T180000
DTEND;TZID=UTC:20230103T180000
DTSTAMP:20260424T051039
CREATED:20230101T174018Z
LAST-MODIFIED:20230101T174018Z
UID:5622-1672768800-1672768800@transparencia.motril.es
SUMMARY:La alcaldesa de Motril\, Luisa García Chamorro\, asiste a la salida del Pasacalles Maravís
DESCRIPTION:
URL:https://transparencia.motril.es/evento/la-alcaldesa-de-motril-luisa-garcia-chamorro-asiste-a-la-salida-del-pasacalles-maravis/
CATEGORIES:Actos
END:VEVENT
BEGIN:VEVENT
DTSTART;TZID=UTC:20230103T190000
DTEND;TZID=UTC:20230103T190000
DTSTAMP:20260424T051039
CREATED:20230101T174101Z
LAST-MODIFIED:20230101T174101Z
UID:5624-1672772400-1672772400@transparencia.motril.es
SUMMARY:La alcaldesa de Motril\, Luisa García Chamorro\, asiste a la firma de libros ‘Cómetelo’ de Enrique Sánchez y en el que colabora el motrileño Federico Jiménez.
DESCRIPTION:
URL:https://transparencia.motril.es/evento/la-alcaldesa-de-motril-luisa-garcia-chamorro-asiste-a-la-firma-de-libros-cometelo-de-enrique-sanchez-y-en-el-que-colabora-el-motrileno-federico-jimenez/
CATEGORIES:Actos
END:VEVENT
BEGIN:VEVENT
DTSTART;TZID=UTC:20230104T160000
DTEND;TZID=UTC:20230104T160000
DTSTAMP:20260424T051039
CREATED:20230103T185729Z
LAST-MODIFIED:20230103T185729Z
UID:5632-1672848000-1672848000@transparencia.motril.es
SUMMARY:La alcaldesa de Motril\, Luisa García Chamorro\, asiste a la actividad ‘Plazas Divertidas en Navidad’
DESCRIPTION:
URL:https://transparencia.motril.es/evento/la-alcaldesa-de-motril-luisa-garcia-chamorro-asiste-a-la-actividad-plazas-divertidas-en-navidad-2/
CATEGORIES:Actos
END:VEVENT
BEGIN:VEVENT
DTSTART;TZID=UTC:20230104T170000
DTEND;TZID=UTC:20230104T170000
DTSTAMP:20260424T051039
CREATED:20230103T185806Z
LAST-MODIFIED:20230103T185806Z
UID:5634-1672851600-1672851600@transparencia.motril.es
SUMMARY:La alcaldesa de Motril\, Luisa García Chamorro\, recibe al Emisario Real en la Plaza de España
DESCRIPTION:
URL:https://transparencia.motril.es/evento/la-alcaldesa-de-motril-luisa-garcia-chamorro-recibe-al-emisario-real-en-la-plaza-de-espana/
CATEGORIES:Actos
END:VEVENT
BEGIN:VEVENT
DTSTART;TZID=UTC:20230104T184500
DTEND;TZID=UTC:20230104T184500
DTSTAMP:20260424T051039
CREATED:20230103T185858Z
LAST-MODIFIED:20230103T185858Z
UID:5636-1672857900-1672857900@transparencia.motril.es
SUMMARY:La alcaldesa de Motril\, Luisa García Chamorro\, visita a los Reyes en la Asociación de vecinos de Santa Adela
DESCRIPTION:
URL:https://transparencia.motril.es/evento/la-alcaldesa-de-motril-luisa-garcia-chamorro-visita-a-los-reyes-en-la-asociacion-de-vecinos-de-santa-adela/
CATEGORIES:Actos
END:VEVENT
BEGIN:VEVENT
DTSTART;TZID=UTC:20230105T153000
DTEND;TZID=UTC:20230105T153000
DTSTAMP:20260424T051039
CREATED:20230104T125237Z
LAST-MODIFIED:20230104T125237Z
UID:5642-1672932600-1672932600@transparencia.motril.es
SUMMARY:La alcaldesa de Motril\, Luisa García Chamorro\, recibe a sus majestades los Reyes Magos de Oriente en el Ayuntamiento de Motril\, donde les hará entrega de las llaves de la ciudad
DESCRIPTION:
URL:https://transparencia.motril.es/evento/la-alcaldesa-de-motril-luisa-garcia-chamorro-recibe-a-sus-majestades-los-reyes-magos-de-oriente-en-el-ayuntamiento-de-motril-donde-les-hara-entrega-de-las-llaves-de-la-ciudad/
CATEGORIES:Actos
END:VEVENT
BEGIN:VEVENT
DTSTART;TZID=UTC:20230105T173000
DTEND;TZID=UTC:20230105T173000
DTSTAMP:20260424T051039
CREATED:20230104T125318Z
LAST-MODIFIED:20230104T125318Z
UID:5644-1672939800-1672939800@transparencia.motril.es
SUMMARY:La alcaldesa de Motril\, Luisa García Chamorro\, asiste a la llegada de los Reyes Magos al Puerto de Motril
DESCRIPTION:
URL:https://transparencia.motril.es/evento/la-alcaldesa-de-motril-luisa-garcia-chamorro-asiste-a-la-llegada-de-los-reyes-magos-al-puerto-de-motril/
CATEGORIES:Actos
END:VEVENT
BEGIN:VEVENT
DTSTART;TZID=UTC:20230105T183000
DTEND;TZID=UTC:20230105T183000
DTSTAMP:20260424T051039
CREATED:20230104T125416Z
LAST-MODIFIED:20230104T125416Z
UID:5646-1672943400-1672943400@transparencia.motril.es
SUMMARY:La alcaldesa de Motril\, Luisa García Chamorro\, asiste a la salida de la Cabalgata de Reyes Magos de Motril
DESCRIPTION:
URL:https://transparencia.motril.es/evento/la-alcaldesa-de-motril-luisa-garcia-chamorro-asiste-a-la-salida-de-la-cabalgata-de-reyes-magos-de-motril/
CATEGORIES:Actos
END:VEVENT
BEGIN:VEVENT
DTSTART;TZID=UTC:20230110T100000
DTEND;TZID=UTC:20230110T100000
DTSTAMP:20260424T051039
CREATED:20230109T132916Z
LAST-MODIFIED:20230109T132916Z
UID:5652-1673344800-1673344800@transparencia.motril.es
SUMMARY:La alcaldesa de Motril visita las obras de la calle Santísimo
DESCRIPTION:
URL:https://transparencia.motril.es/evento/la-alcaldesa-de-motril-visita-las-obras-de-la-calle-santisimo/
LOCATION:Calle Santísimo
END:VEVENT
BEGIN:VEVENT
DTSTART;TZID=UTC:20230110T110000
DTEND;TZID=UTC:20230110T110000
DTSTAMP:20260424T051039
CREATED:20230109T133006Z
LAST-MODIFIED:20230109T133006Z
UID:5656-1673348400-1673348400@transparencia.motril.es
SUMMARY:Reunión interna
DESCRIPTION:
URL:https://transparencia.motril.es/evento/reunion-interna-154/
END:VEVENT
BEGIN:VEVENT
DTSTART;TZID=UTC:20230111T110000
DTEND;TZID=UTC:20230111T110000
DTSTAMP:20260424T051039
CREATED:20230110T124234Z
LAST-MODIFIED:20230110T124234Z
UID:5658-1673434800-1673434800@transparencia.motril.es
SUMMARY:Reunión interna
DESCRIPTION:
URL:https://transparencia.motril.es/evento/reunion-interna-155/
END:VEVENT
BEGIN:VEVENT
DTSTART;TZID=UTC:20230112T100000
DTEND;TZID=UTC:20230112T100000
DTSTAMP:20260424T051039
CREATED:20230112T115948Z
LAST-MODIFIED:20230112T115948Z
UID:5664-1673517600-1673517600@transparencia.motril.es
SUMMARY:La alcaldesa de Motril\, Luisa García Chamorro\, asiste a un nuevo encuentro de radioaficionados
DESCRIPTION:
URL:https://transparencia.motril.es/evento/la-alcaldesa-de-motril-luisa-garcia-chamorro-asiste-a-un-nuevo-encuentro-de-radioaficionados/
LOCATION:Santuario de Ntra. Sra. de la Cabeza
END:VEVENT
BEGIN:VEVENT
DTSTART;TZID=UTC:20230113T110000
DTEND;TZID=UTC:20230113T110000
DTSTAMP:20260424T051039
CREATED:20230112T120027Z
LAST-MODIFIED:20230112T120027Z
UID:5666-1673607600-1673607600@transparencia.motril.es
SUMMARY:La alcaldesa de Motril\, Luisa García Chamorro\, junto los teniente de alcalde de Obras Públicas\, Nicolás Navarro; Formación y Empleo\, Mª Ángeles Escámez; Turismo\, José Lemos y el concejal de Juventud\, Alejandro Vilar\, presentan el nuevo edificio para la Casa de la Juventud y Formación y Empleo
DESCRIPTION:
URL:https://transparencia.motril.es/evento/la-alcaldesa-de-motril-luisa-garcia-chamorro-junto-los-teniente-de-alcalde-de-obras-publicas-nicolas-navarro-formacion-y-empleo-ma-angeles-escamez-turismo-jose-lemos-y-el-concejal-de-juventud/
LOCATION:junto al gimnasio Time
END:VEVENT
BEGIN:VEVENT
DTSTART;TZID=UTC:20230113T200000
DTEND;TZID=UTC:20230113T200000
DTSTAMP:20260424T051039
CREATED:20230112T120420Z
LAST-MODIFIED:20230112T120420Z
UID:5669-1673640000-1673640000@transparencia.motril.es
SUMMARY:La alcaldesa de Motril\, Luisa García Chamorro\, y miembros del equipo de Gobierno asisten a la misa y procesión con motivo del Día de los Terremotos
DESCRIPTION:
URL:https://transparencia.motril.es/evento/la-alcaldesa-de-motril-luisa-garcia-chamorro-y-miembros-del-equipo-de-gobierno-asisten-a-la-misa-y-procesion-con-motivo-del-dia-de-los-terremotos/
LOCATION:Iglesia Mayor de la Encarnación\, Plaza de España\, Motril\, Granada\, 18600\, España
END:VEVENT
BEGIN:VEVENT
DTSTART;TZID=UTC:20230114T113000
DTEND;TZID=UTC:20230114T113000
DTSTAMP:20260424T051039
CREATED:20230113T122658Z
LAST-MODIFIED:20230113T122658Z
UID:5671-1673695800-1673695800@transparencia.motril.es
SUMMARY:La alcaldesa de Motril\, Luisa García Chamorro y el concejal de Deportes\, Daniel Ortega\, visitan al grupo de atletas italianos que están entrenando en Motril.
DESCRIPTION:
URL:https://transparencia.motril.es/evento/la-alcaldesa-de-motril-luisa-garcia-chamorro-y-el-concejal-de-deportes-daniel-ortega-visitan-al-grupo-de-atletas-italianos-que-estan-entrenando-en-motril/
CATEGORIES:Actos,Deportes
END:VEVENT
BEGIN:VEVENT
DTSTART;TZID=UTC:20230116T090000
DTEND;TZID=UTC:20230116T090000
DTSTAMP:20260424T051039
CREATED:20230115T175943Z
LAST-MODIFIED:20230115T175943Z
UID:5676-1673859600-1673859600@transparencia.motril.es
SUMMARY:La alcaldesa de Motril\, Luisa García Chamorro\, asiste al Consejo de administración de la Autoridad Portuaria de Motril.
DESCRIPTION:
URL:https://transparencia.motril.es/evento/la-alcaldesa-de-motril-luisa-garcia-chamorro-asiste-al-consejo-de-administracion-de-la-autoridad-portuaria-de-motril/
CATEGORIES:Actos
END:VEVENT
BEGIN:VEVENT
DTSTART;TZID=UTC:20230116T130000
DTEND;TZID=UTC:20230116T130000
DTSTAMP:20260424T051039
CREATED:20230115T175553Z
LAST-MODIFIED:20230115T175553Z
UID:5674-1673874000-1673874000@transparencia.motril.es
SUMMARY:La alcaldesa de Motril\, Luisa García Chamorro\, asiste a la XV Expoasamblea de la Asociación de Chiringuitos.
DESCRIPTION:
URL:https://transparencia.motril.es/evento/la-alcaldesa-de-motril-luisa-garcia-chamorro-asiste-a-la-xv-expoasamblea-de-la-asociacion-de-chiringuitos/
CATEGORIES:Actos
END:VEVENT
BEGIN:VEVENT
DTSTART;TZID=UTC:20230117T100000
DTEND;TZID=UTC:20230117T100000
DTSTAMP:20260424T051039
CREATED:20230116T172117Z
LAST-MODIFIED:20230116T172117Z
UID:5689-1673949600-1673949600@transparencia.motril.es
SUMMARY:Reunión interna
DESCRIPTION:
URL:https://transparencia.motril.es/evento/reunion-interna-156/
CATEGORIES:Reunión
END:VEVENT
BEGIN:VEVENT
DTSTART;TZID=UTC:20230117T101500
DTEND;TZID=UTC:20230117T101500
DTSTAMP:20260424T051039
CREATED:20230116T172310Z
LAST-MODIFIED:20230116T172310Z
UID:5691-1673950500-1673950500@transparencia.motril.es
SUMMARY:Reunión interna
DESCRIPTION:
URL:https://transparencia.motril.es/evento/reunion-interna-157/
CATEGORIES:Reunión
END:VEVENT
BEGIN:VEVENT
DTSTART;TZID=UTC:20230117T110000
DTEND;TZID=UTC:20230117T110000
DTSTAMP:20260424T051039
CREATED:20230116T172411Z
LAST-MODIFIED:20230116T172411Z
UID:5693-1673953200-1673953200@transparencia.motril.es
SUMMARY:Reunión interna
DESCRIPTION:
URL:https://transparencia.motril.es/evento/reunion-interna-158/
CATEGORIES:Reunión
END:VEVENT
BEGIN:VEVENT
DTSTART;TZID=UTC:20230118T103000
DTEND;TZID=UTC:20230118T103000
DTSTAMP:20260424T051039
CREATED:20230118T083948Z
LAST-MODIFIED:20230118T083948Z
UID:5695-1674037800-1674037800@transparencia.motril.es
SUMMARY:Reunión interna Fitur
DESCRIPTION:
URL:https://transparencia.motril.es/evento/reunion-interna-fitur/
CATEGORIES:Actos,Turismo
END:VEVENT
BEGIN:VEVENT
DTSTART;TZID=UTC:20230118T110000
DTEND;TZID=UTC:20230118T110000
DTSTAMP:20260424T051039
CREATED:20230118T084231Z
LAST-MODIFIED:20230118T084231Z
UID:5697-1674039600-1674039600@transparencia.motril.es
SUMMARY:Reunión interna Fitur
DESCRIPTION:
URL:https://transparencia.motril.es/evento/reunion-interna-fitur-2/
CATEGORIES:Actos,Turismo
END:VEVENT
BEGIN:VEVENT
DTSTART;TZID=UTC:20230118T113000
DTEND;TZID=UTC:20230118T113000
DTSTAMP:20260424T051039
CREATED:20230118T084514Z
LAST-MODIFIED:20230118T084514Z
UID:5699-1674041400-1674041400@transparencia.motril.es
SUMMARY:Reunión interna Fitur
DESCRIPTION:
URL:https://transparencia.motril.es/evento/reunion-interna-fitur-3/
CATEGORIES:Actos,Turismo
END:VEVENT
BEGIN:VEVENT
DTSTART;TZID=UTC:20230118T133000
DTEND;TZID=UTC:20230118T133000
DTSTAMP:20260424T051039
CREATED:20230118T084612Z
LAST-MODIFIED:20230118T084612Z
UID:5701-1674048600-1674048600@transparencia.motril.es
SUMMARY:Reunión interna Fitur
DESCRIPTION:
URL:https://transparencia.motril.es/evento/reunion-interna-fitur-4/
CATEGORIES:Reunión,Turismo
END:VEVENT
BEGIN:VEVENT
DTSTART;TZID=UTC:20230119T103000
DTEND;TZID=UTC:20230119T103000
DTSTAMP:20260424T051039
CREATED:20230118T084709Z
LAST-MODIFIED:20230118T084709Z
UID:5703-1674124200-1674124200@transparencia.motril.es
SUMMARY:La alcaldesa de Motril\, Luisa García Chamorro y el teniente de alcalde de Desarrollo del Litoral\, Turismo y Playas\, José Lemos\, recogen el Diploma Sistema de Calidad Turística en Destino como destino NOVEL
DESCRIPTION:
URL:https://transparencia.motril.es/evento/la-alcaldesa-de-motril-luisa-garcia-chamorro-y-el-teniente-de-alcalde-de-desarrollo-del-litoral-turismo-y-playas-jose-lemos-recogen-el-diploma-sistema-de-calidad-turistica-en-destino-como-destino/
CATEGORIES:Actos,Turismo
END:VEVENT
BEGIN:VEVENT
DTSTART;TZID=UTC:20230119T120000
DTEND;TZID=UTC:20230119T120000
DTSTAMP:20260424T051039
CREATED:20230118T084819Z
LAST-MODIFIED:20230118T084819Z
UID:5705-1674129600-1674129600@transparencia.motril.es
SUMMARY:La alcaldesa de Motril\, Luisa García Chamorro\, y el teniente de alcalde de Desarrollo del Litoral\, Turismo y Playas\, José Lemos\, presentan\, junto al consejero de Turismo\, Cultura y Deporte\, Arturo Bernal Bergua y el delegado en Granada\, Fernando Egea Fernández-Montesinos\, el Plan de Turismo Sostenible de Motril.
DESCRIPTION:
URL:https://transparencia.motril.es/evento/la-alcaldesa-de-motril-luisa-garcia-chamorro-y-el-teniente-de-alcalde-de-desarrollo-del-litoral-turismo-y-playas-jose-lemos-presentan-junto-al-consejero-de-turismo-cultura-y-deporte-arturo-ber/
CATEGORIES:Actos,Turismo
END:VEVENT
BEGIN:VEVENT
DTSTART;TZID=UTC:20230119T135000
DTEND;TZID=UTC:20230119T135000
DTSTAMP:20260424T051039
CREATED:20230118T090202Z
LAST-MODIFIED:20230118T090203Z
UID:5707-1674136200-1674136200@transparencia.motril.es
SUMMARY:Reunión interna Fitur
DESCRIPTION:
URL:https://transparencia.motril.es/evento/reunion-interna-fitur-5/
CATEGORIES:Reunión,Turismo
END:VEVENT
BEGIN:VEVENT
DTSTART;TZID=UTC:20230119T150000
DTEND;TZID=UTC:20230119T150000
DTSTAMP:20260424T051039
CREATED:20230118T090719Z
LAST-MODIFIED:20230118T090719Z
UID:5709-1674140400-1674140400@transparencia.motril.es
SUMMARY:Reunión interna Fitur
DESCRIPTION:
URL:https://transparencia.motril.es/evento/reunion-interna-fitur-6/
CATEGORIES:Reunión,Turismo
END:VEVENT
END:VCALENDAR