BEGIN:VCALENDAR
VERSION:2.0
PRODID:-//Ayuntamiento de Motril. Transparencia - ECPv6.15.20//NONSGML v1.0//EN
CALSCALE:GREGORIAN
METHOD:PUBLISH
X-ORIGINAL-URL:https://transparencia.motril.es
X-WR-CALDESC:Eventos para Ayuntamiento de Motril. Transparencia
REFRESH-INTERVAL;VALUE=DURATION:PT1H
X-Robots-Tag:noindex
X-PUBLISHED-TTL:PT1H
BEGIN:VTIMEZONE
TZID:UTC
BEGIN:STANDARD
TZOFFSETFROM:+0000
TZOFFSETTO:+0000
TZNAME:UTC
DTSTART:20210101T000000
END:STANDARD
END:VTIMEZONE
BEGIN:VEVENT
DTSTART;TZID=UTC:20221214T091500
DTEND;TZID=UTC:20221214T091500
DTSTAMP:20260424T065319
CREATED:20221213T101332Z
LAST-MODIFIED:20221213T101332Z
UID:5438-1671009300-1671009300@transparencia.motril.es
SUMMARY:La alcaldesa de Motril\, Luisa García Chamorro\, asiste a la salida del evento de la asociación Mucho Corazón desde la Plaza de España.
DESCRIPTION:
URL:https://transparencia.motril.es/evento/la-alcaldesa-de-motril-luisa-garcia-chamorro-asiste-a-la-salida-del-evento-de-la-asociacion-mucho-corazon-desde-la-plaza-de-espana/
CATEGORIES:Actos
END:VEVENT
BEGIN:VEVENT
DTSTART;TZID=UTC:20221215T090000
DTEND;TZID=UTC:20221215T090000
DTSTAMP:20260424T065319
CREATED:20221214T093313Z
LAST-MODIFIED:20221214T093313Z
UID:5447-1671094800-1671094800@transparencia.motril.es
SUMMARY:La alcaldesa de Motril\, Luisa García Chamorro\, asiste a la inauguración de la I Feria de Empleo y Emprendimiento.
DESCRIPTION:
URL:https://transparencia.motril.es/evento/la-alcaldesa-de-motril-luisa-garcia-chamorro-asiste-a-la-inauguracion-de-la-i-feria-de-empleo-y-emprendimiento/
CATEGORIES:Actos,Comercio
END:VEVENT
BEGIN:VEVENT
DTSTART;TZID=UTC:20221215T100000
DTEND;TZID=UTC:20221215T100000
DTSTAMP:20260424T065319
CREATED:20221214T093431Z
LAST-MODIFIED:20221214T093431Z
UID:5449-1671098400-1671098400@transparencia.motril.es
SUMMARY:La alcaldesa de Motril\, Luisa García Chamorro\, junto con el delegado de Empleo\, Javier Martín\, asiste a la presentación de los trabajadores del programa ‘Joven Ahora’
DESCRIPTION:
URL:https://transparencia.motril.es/evento/la-alcaldesa-de-motril-luisa-garcia-chamorro-junto-con-el-delegado-de-empleo-javier-martin-asiste-a-la-presentacion-de-los-trabajadores-del-programa-joven-ahora/
CATEGORIES:Actos,Formación y Empleo
END:VEVENT
BEGIN:VEVENT
DTSTART;TZID=UTC:20221215T120000
DTEND;TZID=UTC:20221215T120000
DTSTAMP:20260424T065319
CREATED:20221214T093742Z
LAST-MODIFIED:20221214T093742Z
UID:5451-1671105600-1671105600@transparencia.motril.es
SUMMARY:Reunión interna
DESCRIPTION:
URL:https://transparencia.motril.es/evento/reunion-interna-147/
CATEGORIES:Reunión
END:VEVENT
BEGIN:VEVENT
DTSTART;TZID=UTC:20221216T100000
DTEND;TZID=UTC:20221216T100000
DTSTAMP:20260424T065319
CREATED:20221215T100630Z
LAST-MODIFIED:20221215T100630Z
UID:5454-1671184800-1671184800@transparencia.motril.es
SUMMARY:Reunión interna
DESCRIPTION:
URL:https://transparencia.motril.es/evento/reunion-interna-148/
CATEGORIES:Reunión
END:VEVENT
BEGIN:VEVENT
DTSTART;TZID=UTC:20221216T110000
DTEND;TZID=UTC:20221216T110000
DTSTAMP:20260424T065319
CREATED:20221215T102202Z
LAST-MODIFIED:20221215T102202Z
UID:5456-1671188400-1671188400@transparencia.motril.es
SUMMARY:La alcaldesa de Motril\, Luisa García Chamorro\, y responsables de la empresa Wiber presentan el evento Wiber Party.
DESCRIPTION:
URL:https://transparencia.motril.es/evento/la-alcaldesa-de-motril-luisa-garcia-chamorro-y-responsables-de-la-empresa-wiber-presentan-el-evento-wiber-party/
CATEGORIES:Actos
END:VEVENT
BEGIN:VEVENT
DTSTART;TZID=UTC:20221216T120000
DTEND;TZID=UTC:20221216T120000
DTSTAMP:20260424T065319
CREATED:20221215T102620Z
LAST-MODIFIED:20221215T102620Z
UID:5458-1671192000-1671192000@transparencia.motril.es
SUMMARY:La alcaldesa de Motril\, Luisa García Chamorro\, visita la inmobiliaria Rosales.
DESCRIPTION:
URL:https://transparencia.motril.es/evento/la-alcaldesa-de-motril-luisa-garcia-chamorro-visita-la-inmobiliaria-rosales-2/
CATEGORIES:Actos
END:VEVENT
BEGIN:VEVENT
DTSTART;TZID=UTC:20221216T123000
DTEND;TZID=UTC:20221216T123000
DTSTAMP:20260424T065319
CREATED:20221215T102744Z
LAST-MODIFIED:20221215T102744Z
UID:5460-1671193800-1671193800@transparencia.motril.es
SUMMARY:La alcaldesa de Motril\, Luisa García Chamorro\, visita la empresa Serviltec.
DESCRIPTION:
URL:https://transparencia.motril.es/evento/la-alcaldesa-de-motril-luisa-garcia-chamorro-visita-la-empresa-serviltec/
CATEGORIES:Actos
END:VEVENT
BEGIN:VEVENT
DTSTART;TZID=UTC:20221218T100000
DTEND;TZID=UTC:20221218T100000
DTSTAMP:20260424T065319
CREATED:20221216T112527Z
LAST-MODIFIED:20221216T112527Z
UID:5493-1671357600-1671357600@transparencia.motril.es
SUMMARY:La alcaldesa de Motril\, Luisa García Chamorro\, y miembros del equipo de gobierno visitan el Belén viviente de Los Tablones
DESCRIPTION:
URL:https://transparencia.motril.es/evento/la-alcaldesa-de-motril-luisa-garcia-chamorro-y-miembros-del-equipo-de-gobierno-visitan-el-belen-viviente-de-los-tablones/
CATEGORIES:Actos
END:VEVENT
BEGIN:VEVENT
DTSTART;TZID=UTC:20221218T110000
DTEND;TZID=UTC:20221218T110000
DTSTAMP:20260424T065319
CREATED:20221216T112622Z
LAST-MODIFIED:20221216T112622Z
UID:5496-1671361200-1671361200@transparencia.motril.es
SUMMARY:La alcaldesa de Motril\, Luisa García Chamorro\, junto a la presidenta de la ELA de Carchuna Calahonda\, Conchi Abarca\, visita el Belén Viviente de Carchuna.
DESCRIPTION:
URL:https://transparencia.motril.es/evento/la-alcaldesa-de-motril-luisa-garcia-chamorro-junto-a-la-presidenta-de-la-ela-de-carchuna-calahonda-conchi-abarca-visita-el-belen-viviente-de-carchuna/
CATEGORIES:Actos
END:VEVENT
BEGIN:VEVENT
DTSTART;TZID=UTC:20221218T120000
DTEND;TZID=UTC:20221218T120000
DTSTAMP:20260424T065319
CREATED:20221216T112704Z
LAST-MODIFIED:20221216T112704Z
UID:5498-1671364800-1671364800@transparencia.motril.es
SUMMARY:La alcaldesa de Motril\, Luisa García Chamorro\, asiste a la presentación de los equipos del CB Costa Motril
DESCRIPTION:
URL:https://transparencia.motril.es/evento/la-alcaldesa-de-motril-luisa-garcia-chamorro-asiste-a-la-presentacion-de-los-equipos-del-cb-costa-motril/
CATEGORIES:Actos,Deportes
END:VEVENT
BEGIN:VEVENT
DTSTART;TZID=UTC:20221218T130000
DTEND;TZID=UTC:20221218T130000
DTSTAMP:20260424T065319
CREATED:20221216T112744Z
LAST-MODIFIED:20221216T112744Z
UID:5500-1671368400-1671368400@transparencia.motril.es
SUMMARY:La alcaldesa de Motril\, Luisa García Chamorro\, asiste a la actividad benéfica Motorchristmas.
DESCRIPTION:
URL:https://transparencia.motril.es/evento/la-alcaldesa-de-motril-luisa-garcia-chamorro-asiste-a-la-actividad-benefica-motorchristmas/
CATEGORIES:Actos
END:VEVENT
BEGIN:VEVENT
DTSTART;TZID=UTC:20221218T133000
DTEND;TZID=UTC:20221218T133000
DTSTAMP:20260424T065319
CREATED:20221216T112857Z
LAST-MODIFIED:20221216T112857Z
UID:5502-1671370200-1671370200@transparencia.motril.es
SUMMARY:La alcaldesa de Motril\, Luisa García Chamorro\, junto a la concejala de Anejos\, visitan el árbol de los pescadores
DESCRIPTION:
URL:https://transparencia.motril.es/evento/la-alcaldesa-de-motril-luisa-garcia-chamorro-junto-a-la-concejala-de-anejos-visitan-el-arbol-de-los-pescadores/
CATEGORIES:Actos
END:VEVENT
BEGIN:VEVENT
DTSTART;TZID=UTC:20221218T140000
DTEND;TZID=UTC:20221218T140000
DTSTAMP:20260424T065319
CREATED:20221216T112942Z
LAST-MODIFIED:20221216T112942Z
UID:5504-1671372000-1671372000@transparencia.motril.es
SUMMARY:La alcaldesa de Motril\, Luisa García Chamorro\, asiste a la Papanoelada motera de Motril
DESCRIPTION:
URL:https://transparencia.motril.es/evento/la-alcaldesa-de-motril-luisa-garcia-chamorro-asiste-a-la-papanoelada-motera-de-motril/
CATEGORIES:Actos
END:VEVENT
BEGIN:VEVENT
DTSTART;TZID=UTC:20221219T093000
DTEND;TZID=UTC:20221219T093000
DTSTAMP:20260424T065319
CREATED:20221218T180728Z
LAST-MODIFIED:20221218T180728Z
UID:5508-1671442200-1671442200@transparencia.motril.es
SUMMARY:Reunión interna
DESCRIPTION:
URL:https://transparencia.motril.es/evento/reunion-interna-149/
CATEGORIES:Reunión
END:VEVENT
BEGIN:VEVENT
DTSTART;TZID=UTC:20221219T103000
DTEND;TZID=UTC:20221219T103000
DTSTAMP:20260424T065319
CREATED:20221218T180842Z
LAST-MODIFIED:20221218T181513Z
UID:5510-1671445800-1671445800@transparencia.motril.es
SUMMARY:La alcaldesa de Motril\, Luisa García Chamorro\, junto a miembros del equipo de gobierno\, visita la Residencia San Luis.
DESCRIPTION:
URL:https://transparencia.motril.es/evento/la-alcaldesa-de-motril-luisa-garcia-chamorro-visita-la-residencia-san-luis/
CATEGORIES:Actos
END:VEVENT
BEGIN:VEVENT
DTSTART;TZID=UTC:20221219T111500
DTEND;TZID=UTC:20221219T111500
DTSTAMP:20260424T065319
CREATED:20221218T181013Z
LAST-MODIFIED:20221218T181013Z
UID:5512-1671448500-1671448500@transparencia.motril.es
SUMMARY:La alcaldesa de Motril\, Luisa García Chamorro\, junto a miembros del equipo de gobierno\, visita la Residencia Costa Nevada.
DESCRIPTION:
URL:https://transparencia.motril.es/evento/la-alcaldesa-de-motril-luisa-garcia-chamorro-junto-a-miembros-del-equipo-de-gobierno-visita-la-residencia-costa-nevada/
CATEGORIES:Actos
END:VEVENT
BEGIN:VEVENT
DTSTART;TZID=UTC:20221219T120000
DTEND;TZID=UTC:20221219T120000
DTSTAMP:20260424T065319
CREATED:20221218T181109Z
LAST-MODIFIED:20221218T181109Z
UID:5514-1671451200-1671451200@transparencia.motril.es
SUMMARY:La alcaldesa de Motril\, Luisa García Chamorro\, junto a miembros del equipo de gobierno\, visita la Residencia Nueva Vida.
DESCRIPTION:
URL:https://transparencia.motril.es/evento/la-alcaldesa-de-motril-luisa-garcia-chamorro-junto-a-miembros-del-equipo-de-gobierno-visita-la-residencia-nueva-vida/
CATEGORIES:Actos
END:VEVENT
BEGIN:VEVENT
DTSTART;TZID=UTC:20221219T123000
DTEND;TZID=UTC:20221219T123000
DTSTAMP:20260424T065319
CREATED:20221218T181247Z
LAST-MODIFIED:20221218T181247Z
UID:5516-1671453000-1671453000@transparencia.motril.es
SUMMARY:La alcaldesa de Motril\, Luisa García Chamorro\, presenta la Gala de Navidad de Gimnasia rítmica
DESCRIPTION:
URL:https://transparencia.motril.es/evento/la-alcaldesa-de-motril-luisa-garcia-chamorro-presenta-la-gala-de-navidad-de-gimnasia-ritmica/
CATEGORIES:Actos,Deportes
END:VEVENT
BEGIN:VEVENT
DTSTART;TZID=UTC:20221219T130000
DTEND;TZID=UTC:20221219T130000
DTSTAMP:20260424T065319
CREATED:20221218T181434Z
LAST-MODIFIED:20221218T181434Z
UID:5518-1671454800-1671454800@transparencia.motril.es
SUMMARY:La alcaldesa de Motril\, Luisa García Chamorro\, recibe al director del Instituto Andaluz de Patrimonio industrial.
DESCRIPTION:
URL:https://transparencia.motril.es/evento/la-alcaldesa-de-motril-luisa-garcia-chamorro-recibe-al-director-del-instituto-andaluz-de-patrimonio-industrial/
CATEGORIES:Actos
END:VEVENT
BEGIN:VEVENT
DTSTART;TZID=UTC:20221219T180000
DTEND;TZID=UTC:20221219T180000
DTSTAMP:20260424T065319
CREATED:20221219T082146Z
LAST-MODIFIED:20221219T082146Z
UID:5521-1671472800-1671472800@transparencia.motril.es
SUMMARY:La alcaldesa de Motril\, Luisa García Chamorro\, y miembros del equipo de gobierno\, asisten a la zambomba flamenca de San Antonio.
DESCRIPTION:
URL:https://transparencia.motril.es/evento/la-alcaldesa-de-motril-luisa-garcia-chamorro-y-miembros-del-equipo-de-gobierno-asisten-a-la-zambomba-flamenca-de-san-antonio/
CATEGORIES:Actos
END:VEVENT
BEGIN:VEVENT
DTSTART;TZID=UTC:20221219T200000
DTEND;TZID=UTC:20221219T200000
DTSTAMP:20260424T065319
CREATED:20221219T082526Z
LAST-MODIFIED:20221219T082526Z
UID:5523-1671480000-1671480000@transparencia.motril.es
SUMMARY:La alcaldesa de Motril\, Luisa García Chamorro\, y miembros del equipo de gobierno\, asisten a los Premios Pyme Motril.
DESCRIPTION:
URL:https://transparencia.motril.es/evento/la-alcaldesa-de-motril-luisa-garcia-chamorro-y-miembros-del-equipo-de-gobierno-asisten-a-los-premios-pyme-motril/
CATEGORIES:Actos,Comercio
END:VEVENT
BEGIN:VEVENT
DTSTART;TZID=UTC:20221220T093000
DTEND;TZID=UTC:20221220T093000
DTSTAMP:20260424T065319
CREATED:20221219T131900Z
LAST-MODIFIED:20221219T131900Z
UID:5526-1671528600-1671528600@transparencia.motril.es
SUMMARY:La alcaldesa de Motril\, Luisa García Chamorro\, asiste al primer Encuentro de apadrinamiento de playas.
DESCRIPTION:
URL:https://transparencia.motril.es/evento/la-alcaldesa-de-motril-luisa-garcia-chamorro-asiste-al-primer-encuentro-de-apadrinamiento-de-playas/
CATEGORIES:Actos
END:VEVENT
BEGIN:VEVENT
DTSTART;TZID=UTC:20221220T110000
DTEND;TZID=UTC:20221220T110000
DTSTAMP:20260424T065319
CREATED:20221219T132011Z
LAST-MODIFIED:20221219T132011Z
UID:5528-1671534000-1671534000@transparencia.motril.es
SUMMARY:La alcaldesa de Motril\, Luisa García Chamorro\, junto a miembros del equipo de gobierno\, asiste al Encuentro joven 2022
DESCRIPTION:
URL:https://transparencia.motril.es/evento/la-alcaldesa-de-motril-luisa-garcia-chamorro-junto-a-miembros-del-equipo-de-gobierno-asiste-al-encuentro-joven-2022/
CATEGORIES:Actos
END:VEVENT
BEGIN:VEVENT
DTSTART;TZID=UTC:20221220T120000
DTEND;TZID=UTC:20221220T120000
DTSTAMP:20260424T065319
CREATED:20221219T132502Z
LAST-MODIFIED:20221219T132502Z
UID:5530-1671537600-1671537600@transparencia.motril.es
SUMMARY:Reunión interna
DESCRIPTION:
URL:https://transparencia.motril.es/evento/reunion-interna-150/
CATEGORIES:Reunión
END:VEVENT
BEGIN:VEVENT
DTSTART;TZID=UTC:20221220T130000
DTEND;TZID=UTC:20221220T130000
DTSTAMP:20260424T065319
CREATED:20221219T132638Z
LAST-MODIFIED:20221219T132638Z
UID:5532-1671541200-1671541200@transparencia.motril.es
SUMMARY:Reunión interna
DESCRIPTION:
URL:https://transparencia.motril.es/evento/reunion-interna-151/
CATEGORIES:Reunión
END:VEVENT
BEGIN:VEVENT
DTSTART;TZID=UTC:20221221T100000
DTEND;TZID=UTC:20221221T100000
DTSTAMP:20260424T065319
CREATED:20221220T114921Z
LAST-MODIFIED:20221220T114921Z
UID:5534-1671616800-1671616800@transparencia.motril.es
SUMMARY:La alcaldesa de Motril\, Luisa García Chamorro\, junto a miembros del equipo de gobierno\, visita la tienda Souvenirs
DESCRIPTION:
URL:https://transparencia.motril.es/evento/la-alcaldesa-de-motril-luisa-garcia-chamorro-junto-a-miembros-del-equipo-de-gobierno-visita-la-tienda-souvenirs/
CATEGORIES:Actos,Comercio
END:VEVENT
BEGIN:VEVENT
DTSTART;TZID=UTC:20221221T103000
DTEND;TZID=UTC:20221221T103000
DTSTAMP:20260424T065319
CREATED:20221220T122512Z
LAST-MODIFIED:20221220T122512Z
UID:5536-1671618600-1671618600@transparencia.motril.es
SUMMARY:La alcaldesa de Motril\, Luisa García Chamorro\, junto a miembros del equipo de gobierno\, visita la tienda Serviltec.
DESCRIPTION:
URL:https://transparencia.motril.es/evento/la-alcaldesa-de-motril-luisa-garcia-chamorro-junto-a-miembros-del-equipo-de-gobierno-visita-la-tienda-serviltec/
CATEGORIES:Actos,Comercio
END:VEVENT
BEGIN:VEVENT
DTSTART;TZID=UTC:20221221T110000
DTEND;TZID=UTC:20221221T110000
DTSTAMP:20260424T065319
CREATED:20221220T122627Z
LAST-MODIFIED:20221220T122627Z
UID:5538-1671620400-1671620400@transparencia.motril.es
SUMMARY:La alcaldesa de Motril\, Luisa García Chamorro\, junto a miembros del equipo de gobierno y el presidente de la Cámara de comercio\, Julio Rodríguez\, entregan los premios del concurso ‘Sembrando para el futuro’.
DESCRIPTION:
URL:https://transparencia.motril.es/evento/la-alcaldesa-de-motril-luisa-garcia-chamorro-junto-a-miembros-del-equipo-de-gobierno-y-el-presidente-de-la-camara-de-comercio-julio-rodriguez-entregan-los-premios-del-concurso-sembrando-p/
CATEGORIES:Actos,Comercio
END:VEVENT
BEGIN:VEVENT
DTSTART;TZID=UTC:20221221T173000
DTEND;TZID=UTC:20221221T173000
DTSTAMP:20260424T065319
CREATED:20221220T122725Z
LAST-MODIFIED:20221220T122725Z
UID:5540-1671643800-1671643800@transparencia.motril.es
SUMMARY:La alcaldesa de Motril\, Luisa García Chamorro\, asiste a la Zambombá del colegio Ave María de Santa Adela.
DESCRIPTION:
URL:https://transparencia.motril.es/evento/la-alcaldesa-de-motril-luisa-garcia-chamorro-asiste-a-la-zambomba-del-colegio-ave-maria-de-santa-adela/
CATEGORIES:Actos
END:VEVENT
END:VCALENDAR