BEGIN:VCALENDAR
VERSION:2.0
PRODID:-//Ayuntamiento de Motril. Transparencia - ECPv6.15.20//NONSGML v1.0//EN
CALSCALE:GREGORIAN
METHOD:PUBLISH
X-ORIGINAL-URL:https://transparencia.motril.es
X-WR-CALDESC:Eventos para Ayuntamiento de Motril. Transparencia
REFRESH-INTERVAL;VALUE=DURATION:PT1H
X-Robots-Tag:noindex
X-PUBLISHED-TTL:PT1H
BEGIN:VTIMEZONE
TZID:UTC
BEGIN:STANDARD
TZOFFSETFROM:+0000
TZOFFSETTO:+0000
TZNAME:UTC
DTSTART:20210101T000000
END:STANDARD
END:VTIMEZONE
BEGIN:VEVENT
DTSTART;TZID=UTC:20220601T103000
DTEND;TZID=UTC:20220601T110000
DTSTAMP:20260424T222519
CREATED:20220531T084552Z
LAST-MODIFIED:20220531T084552Z
UID:3952-1654079400-1654081200@transparencia.motril.es
SUMMARY:Reunión interna
DESCRIPTION:
URL:https://transparencia.motril.es/evento/reunion-interna-58/
END:VEVENT
BEGIN:VEVENT
DTSTART;TZID=UTC:20220601T110000
DTEND;TZID=UTC:20220601T124500
DTSTAMP:20260424T222519
CREATED:20220531T084622Z
LAST-MODIFIED:20220531T084622Z
UID:3954-1654081200-1654087500@transparencia.motril.es
SUMMARY:Reunión interna
DESCRIPTION:
URL:https://transparencia.motril.es/evento/reunion-interna-59/
END:VEVENT
BEGIN:VEVENT
DTSTART;TZID=UTC:20220602T093000
DTEND;TZID=UTC:20220602T093000
DTSTAMP:20260424T222519
CREATED:20220601T103548Z
LAST-MODIFIED:20220601T103548Z
UID:3956-1654162200-1654162200@transparencia.motril.es
SUMMARY:La alcaldesa de Motril\, Luisa García Chamorro\, junto al concejal de Fiestas\, Alejandro Vilar\, presentan el concierto de Cadena Dial
DESCRIPTION:
URL:https://transparencia.motril.es/evento/la-alcaldesa-de-motril-luisa-garcia-chamorro-junto-al-concejal-de-fiestas-alejandro-vilar-presentan-el-concierto-de-cadena-dial/
LOCATION:Salón de Protocolo\, Plaza de España\, 1\, Granada\, 18600\, España
END:VEVENT
BEGIN:VEVENT
DTSTART;TZID=UTC:20220602T110000
DTEND;TZID=UTC:20220602T110000
DTSTAMP:20260424T222519
CREATED:20220601T104948Z
LAST-MODIFIED:20220601T104948Z
UID:3964-1654167600-1654167600@transparencia.motril.es
SUMMARY:Reunión interna
DESCRIPTION:
URL:https://transparencia.motril.es/evento/reunion-interna-60/
END:VEVENT
BEGIN:VEVENT
DTSTART;TZID=UTC:20220602T120000
DTEND;TZID=UTC:20220602T120000
DTSTAMP:20260424T222519
CREATED:20220601T105013Z
LAST-MODIFIED:20220601T105013Z
UID:3966-1654171200-1654171200@transparencia.motril.es
SUMMARY:Reunión interna
DESCRIPTION:
URL:https://transparencia.motril.es/evento/reunion-interna-61/
END:VEVENT
BEGIN:VEVENT
DTSTART;TZID=UTC:20220602T123000
DTEND;TZID=UTC:20220602T123000
DTSTAMP:20260424T222519
CREATED:20220601T103615Z
LAST-MODIFIED:20220601T103615Z
UID:3958-1654173000-1654173000@transparencia.motril.es
SUMMARY:La alcaldesa de Motril\, Luisa García Chamorro\, junto a la concejal de Comercio\, Susana Peña\, visitan la panadería Productos Andaluces
DESCRIPTION:
URL:https://transparencia.motril.es/evento/la-alcaldesa-de-motril-luisa-garcia-chamorro-junto-a-la-concejal-de-comercio-susana-pena-visitan-la-panaderia-productos-andaluces/
LOCATION:Plaza Cruz Verde\, Plaza Cruz Verde\, Motril\, Granada\, 18600\, España
END:VEVENT
BEGIN:VEVENT
DTSTART;TZID=UTC:20220602T130000
DTEND;TZID=UTC:20220602T130000
DTSTAMP:20260424T222519
CREATED:20220601T105035Z
LAST-MODIFIED:20220601T105035Z
UID:3968-1654174800-1654174800@transparencia.motril.es
SUMMARY:Reunión interna
DESCRIPTION:
URL:https://transparencia.motril.es/evento/reunion-interna-62/
END:VEVENT
BEGIN:VEVENT
DTSTART;TZID=UTC:20220602T193000
DTEND;TZID=UTC:20220602T193000
DTSTAMP:20260424T222519
CREATED:20220601T103717Z
LAST-MODIFIED:20220601T103717Z
UID:3960-1654198200-1654198200@transparencia.motril.es
SUMMARY:La alcaldesa de Motril\, Luisa García Chamorro\, asiste a la conferencia de Sebastián Linde para Aula de Pensamiento Francisco Javier de Burgos
DESCRIPTION:
URL:https://transparencia.motril.es/evento/la-alcaldesa-de-motril-luisa-garcia-chamorro-asiste-a-la-conferencia-de-sebastian-linde-para-aula-de-pensamiento-francisco-javier-de-burgos/
LOCATION:Escuela de Artes y Oficios de Motril
END:VEVENT
BEGIN:VEVENT
DTSTART;TZID=UTC:20220602T200000
DTEND;TZID=UTC:20220602T200000
DTSTAMP:20260424T222519
CREATED:20220601T103746Z
LAST-MODIFIED:20220601T104923Z
UID:3962-1654200000-1654200000@transparencia.motril.es
SUMMARY:La alcaldesa de Motril\, Luisa García Chamorro\, asiste a la inauguración de Tropicart
DESCRIPTION:
URL:https://transparencia.motril.es/evento/la-alcaldesa-de-motril-luisa-garcia-chamorro-asiste-a-la-inauguracion-de-tropicart/
LOCATION:Museo Hernandez Quero
END:VEVENT
BEGIN:VEVENT
DTSTART;TZID=UTC:20220603T090000
DTEND;TZID=UTC:20220603T090000
DTSTAMP:20260424T222519
CREATED:20220602T115927Z
LAST-MODIFIED:20220602T115927Z
UID:3973-1654246800-1654246800@transparencia.motril.es
SUMMARY:La alcaldesa de Motril\, Luisa García Chamorro\, junto al concejal de Deportes\, Daniel Ortega\, reciben al preparador físico Juan Carlos Marín
DESCRIPTION:
URL:https://transparencia.motril.es/evento/la-alcaldesa-de-motril-luisa-garcia-chamorro-junto-al-concejal-de-deportes-daniel-ortega-reciben-al-preparador-fisico-juan-carlos-marin/
LOCATION:Salón de Protocolo\, Plaza de España\, 1\, Granada\, 18600\, España
END:VEVENT
BEGIN:VEVENT
DTSTART;TZID=UTC:20220603T093000
DTEND;TZID=UTC:20220603T093000
DTSTAMP:20260424T222519
CREATED:20220602T115947Z
LAST-MODIFIED:20220602T115947Z
UID:3975-1654248600-1654248600@transparencia.motril.es
SUMMARY:Pleno Ordinario
DESCRIPTION:
URL:https://transparencia.motril.es/evento/pleno-ordinario-3/
LOCATION:Salón de Plenos\, Plaza de España\, 1\, Granada\, 18600\, España
END:VEVENT
BEGIN:VEVENT
DTSTART;TZID=UTC:20220603T120000
DTEND;TZID=UTC:20220603T120000
DTSTAMP:20260424T222519
CREATED:20220602T120012Z
LAST-MODIFIED:20220602T120012Z
UID:3977-1654257600-1654257600@transparencia.motril.es
SUMMARY:La alcaldesa de Motril\, Luisa García Chamorro\, junto con miembros de la corporación municipal asisten a la concentración contra la violencia de género
DESCRIPTION:
URL:https://transparencia.motril.es/evento/la-alcaldesa-de-motril-luisa-garcia-chamorro-junto-con-miembros-de-la-corporacion-municipal-asisten-a-la-concentracion-contra-la-violencia-de-genero/
LOCATION:Plaza de España
END:VEVENT
BEGIN:VEVENT
DTSTART;TZID=UTC:20220603T183000
DTEND;TZID=UTC:20220603T183000
DTSTAMP:20260424T222519
CREATED:20220602T120039Z
LAST-MODIFIED:20220602T120039Z
UID:3979-1654281000-1654281000@transparencia.motril.es
SUMMARY:La alcaldesa de Motril\, Luisa García Chamorro\, junto a la concejal de Comercio\, Susana Peña\, visitan la clínica de fisioterapia de José Ramón Alabarces
DESCRIPTION:
URL:https://transparencia.motril.es/evento/la-alcaldesa-de-motril-luisa-garcia-chamorro-junto-a-la-concejal-de-comercio-susana-pena-visitan-la-clinica-de-fisioterapia-de-jose-ramon-alabarces/
LOCATION:Plaza San Agustín
END:VEVENT
BEGIN:VEVENT
DTSTART;TZID=UTC:20220603T200000
DTEND;TZID=UTC:20220603T200000
DTSTAMP:20260424T222519
CREATED:20220602T120108Z
LAST-MODIFIED:20220602T120108Z
UID:3981-1654286400-1654286400@transparencia.motril.es
SUMMARY:La alcaldesa de Motril\, Luisa García Chamorro\, junto al concejal de Fiestas\, Alejandro Vilar\, mantienen un encuentro con la nueva Asociación Taurina de Motril
DESCRIPTION:
URL:https://transparencia.motril.es/evento/la-alcaldesa-de-motril-luisa-garcia-chamorro-junto-al-concejal-de-fiestas-alejandro-vilar-mantienen-un-encuentro-con-la-nueva-asociacion-taurina-de-motril/
LOCATION:Plaza de Toros de Motril
END:VEVENT
BEGIN:VEVENT
DTSTART;TZID=UTC:20220603T210000
DTEND;TZID=UTC:20220603T210000
DTSTAMP:20260424T222519
CREATED:20220602T120142Z
LAST-MODIFIED:20220602T120142Z
UID:3983-1654290000-1654290000@transparencia.motril.es
SUMMARY:La alcaldesa de Motril\, Luisa García Chamorro\, junto al concejal de Deportes\, Daniel Ortega\, asisten a la Copa Alcaldesa de Fútbol
DESCRIPTION:
URL:https://transparencia.motril.es/evento/la-alcaldesa-de-motril-luisa-garcia-chamorro-junto-al-concejal-de-deportes-daniel-ortega-asisten-a-la-copa-alcaldesa-de-futbol/
LOCATION:Estadio Municipal Escribano Castilla
END:VEVENT
BEGIN:VEVENT
DTSTART;TZID=UTC:20220604T213000
DTEND;TZID=UTC:20220604T213000
DTSTAMP:20260424T222519
CREATED:20220603T114625Z
LAST-MODIFIED:20220603T114625Z
UID:3992-1654378200-1654378200@transparencia.motril.es
SUMMARY:La alcaldesa de Motril\, Luisa García Chamorro\, asiste a la entrega de premios de la final de los juegos escolares de atletismo en pista y al torneo Pepe Carrasco
DESCRIPTION:
URL:https://transparencia.motril.es/evento/la-alcaldesa-de-motril-luisa-garcia-chamorro-asiste-a-la-entrega-de-premios-de-la-final-de-los-juegos-escolares-de-atletismo-en-pista-y-al-torneo-pepe-carrasco/
LOCATION:Polideportivo Municipal Emilio Hidalgo
END:VEVENT
BEGIN:VEVENT
DTSTART;TZID=UTC:20220605T082000
DTEND;TZID=UTC:20220605T082000
DTSTAMP:20260424T222519
CREATED:20220603T104457Z
LAST-MODIFIED:20220603T104457Z
UID:3986-1654417200-1654417200@transparencia.motril.es
SUMMARY:La alcaldesa de Motril\, Luisa García Chamorro\, junto al concejal de Deportes\, Daniel Ortega\, acude a la salida de Miguel González en su participación en la prueba Iron Man
DESCRIPTION:
URL:https://transparencia.motril.es/evento/la-alcaldesa-de-motril-luisa-garcia-chamorro-junto-al-concejal-de-deportes-daniel-ortega-acude-a-la-salida-de-miguel-gonzalez-en-su-participacion-en-la-prueba-iron-man/
LOCATION:Oficina de Turismo
END:VEVENT
BEGIN:VEVENT
DTSTART;TZID=UTC:20220606T183000
DTEND;TZID=UTC:20220606T183000
DTSTAMP:20260424T222519
CREATED:20220603T104534Z
LAST-MODIFIED:20220603T114550Z
UID:3989-1654540200-1654540200@transparencia.motril.es
SUMMARY:La alcaldesa de Motril\, Luisa García Chamorro\, asiste a la entrega de premios ‘Araceli Morales’
DESCRIPTION:
URL:https://transparencia.motril.es/evento/la-alcaldesa-de-motril-luisa-garcia-chamorro-asiste-a-la-entrega-de-premios-araceli-morales/
LOCATION:CEIP Reina Fabiola
END:VEVENT
BEGIN:VEVENT
DTSTART;TZID=UTC:20220607T110000
DTEND;TZID=UTC:20220607T110000
DTSTAMP:20260424T222519
CREATED:20220606T122251Z
LAST-MODIFIED:20220606T122251Z
UID:3995-1654599600-1654599600@transparencia.motril.es
SUMMARY:La alcaldesa de Motril presenta el campeonato de Crossfit 'Fittes Box'
DESCRIPTION:
URL:https://transparencia.motril.es/evento/la-alcaldesa-de-motril-presenta-el-campeonato-de-crossfit-fittes-box/
LOCATION:Salón de Protocolo\, Plaza de España\, 1\, Granada\, 18600\, España
END:VEVENT
BEGIN:VEVENT
DTSTART;TZID=UTC:20220607T113000
DTEND;TZID=UTC:20220607T113000
DTSTAMP:20260424T222519
CREATED:20220606T122339Z
LAST-MODIFIED:20220606T122339Z
UID:3997-1654601400-1654601400@transparencia.motril.es
SUMMARY:La alcaldesa de Motril asiste a la presentación de la campaña de promoción de cruceros
DESCRIPTION:
URL:https://transparencia.motril.es/evento/la-alcaldesa-de-motril-asiste-a-la-presentacion-de-la-campana-de-promocion-de-cruceros/
LOCATION:Autoridad Portuaria de Motril\, Recinto Portuario\, s/n\, Motril\, Granada\, 18613\, España
END:VEVENT
BEGIN:VEVENT
DTSTART;TZID=UTC:20220607T130000
DTEND;TZID=UTC:20220607T130000
DTSTAMP:20260424T222519
CREATED:20220606T122627Z
LAST-MODIFIED:20220606T122627Z
UID:4003-1654606800-1654606800@transparencia.motril.es
SUMMARY:Reunión interna
DESCRIPTION:
URL:https://transparencia.motril.es/evento/reunion-interna-63/
END:VEVENT
BEGIN:VEVENT
DTSTART;TZID=UTC:20220607T180000
DTEND;TZID=UTC:20220607T180000
DTSTAMP:20260424T222519
CREATED:20220606T122429Z
LAST-MODIFIED:20220606T122429Z
UID:3999-1654624800-1654624800@transparencia.motril.es
SUMMARY:La alcaldesa de Motril asiste a la clausura de la Universidad de Mayores
DESCRIPTION:
URL:https://transparencia.motril.es/evento/la-alcaldesa-de-motril-asiste-a-la-clausura-de-la-universidad-de-mayores/
LOCATION:Salón de Plenos\, Plaza de España\, 1\, Granada\, 18600\, España
END:VEVENT
BEGIN:VEVENT
DTSTART;TZID=UTC:20220607T190000
DTEND;TZID=UTC:20220607T190000
DTSTAMP:20260424T222519
CREATED:20220606T122545Z
LAST-MODIFIED:20220606T122545Z
UID:4001-1654628400-1654628400@transparencia.motril.es
SUMMARY:La alcaldesa de Motril recibe al equipo Mutrayil en su categoría cadete
DESCRIPTION:
URL:https://transparencia.motril.es/evento/la-alcaldesa-de-motril-recibe-al-equipo-mutrayil-en-su-categoria-cadete/
LOCATION:Salón de Protocolo\, Plaza de España\, 1\, Granada\, 18600\, España
END:VEVENT
BEGIN:VEVENT
DTSTART;TZID=UTC:20220608T110000
DTEND;TZID=UTC:20220608T110000
DTSTAMP:20260424T222519
CREATED:20220607T125752Z
LAST-MODIFIED:20220607T125752Z
UID:4005-1654686000-1654686000@transparencia.motril.es
SUMMARY:La alcaldesa de Motril\, junto con la presidenta de la ELA de Carchuna-Calahonda\, presentan el I Plan de Igualdad
DESCRIPTION:
URL:https://transparencia.motril.es/evento/la-alcaldesa-de-motril-junto-con-la-presidenta-de-la-ela-de-carchuna-calahonda-presentan-el-i-plan-de-igualdad/
LOCATION:Casa de la Cultura de Carchuna
END:VEVENT
BEGIN:VEVENT
DTSTART;TZID=UTC:20220608T120000
DTEND;TZID=UTC:20220608T120000
DTSTAMP:20260424T222519
CREATED:20220607T125900Z
LAST-MODIFIED:20220607T125900Z
UID:4011-1654689600-1654689600@transparencia.motril.es
SUMMARY:Reunión interna
DESCRIPTION:
URL:https://transparencia.motril.es/evento/reunion-interna-64/
END:VEVENT
BEGIN:VEVENT
DTSTART;TZID=UTC:20220608T130000
DTEND;TZID=UTC:20220608T130000
DTSTAMP:20260424T222519
CREATED:20220607T125830Z
LAST-MODIFIED:20220607T125830Z
UID:4008-1654693200-1654693200@transparencia.motril.es
SUMMARY:La alcaldesa de Motril\, junto con la concejal de Comercio\, visitan el bar 'La Bien Pagá'
DESCRIPTION:
URL:https://transparencia.motril.es/evento/la-alcaldesa-de-motril-junto-con-la-concejal-de-comercio-visitan-el-bar-la-bien-paga/
LOCATION:Calle Ntra Sra de Lourdes
END:VEVENT
BEGIN:VEVENT
DTSTART;TZID=UTC:20220610T103000
DTEND;TZID=UTC:20220610T103000
DTSTAMP:20260424T222519
CREATED:20220609T105746Z
LAST-MODIFIED:20220609T105746Z
UID:4014-1654857000-1654857000@transparencia.motril.es
SUMMARY:La alcaldesa de Motril\, Luisa García Chamorro\, junto con el teniente de alcalde de Obras Públicas\, Nicolás Navarro\, la teniente de alcalde de Seguridad Ciudadana\, Mª Ángeles Escámez\, y miembros del equipo de Gobierno visitan las obras de la nueva jefatura de Policía Local
DESCRIPTION:
URL:https://transparencia.motril.es/evento/la-alcaldesa-de-motril-luisa-garcia-chamorro-junto-con-el-teniente-de-alcalde-de-obras-publicas-nicolas-navarro-la-teniente-de-alcalde-de-seguridad-ciudadana-ma-angeles-escamez-y-miembros-del-eq/
LOCATION:Avda. Doctor Norman Bethune
END:VEVENT
BEGIN:VEVENT
DTSTART;TZID=UTC:20220610T111500
DTEND;TZID=UTC:20220610T111500
DTSTAMP:20260424T222519
CREATED:20220609T105838Z
LAST-MODIFIED:20220609T105838Z
UID:4017-1654859700-1654859700@transparencia.motril.es
SUMMARY:La alcaldesa de Motril\, Luisa García Chamorro\, asiste a la campaña realizada por los alumnos del colegio Río Ebro relacionada con la limpieza de playas
DESCRIPTION:
URL:https://transparencia.motril.es/evento/la-alcaldesa-de-motril-luisa-garcia-chamorro-asiste-a-la-campana-realizada-por-los-alumnos-del-colegio-rio-ebro-relacionada-con-la-limpieza-de-playas/
LOCATION:Restaurante Los Moriscos
END:VEVENT
BEGIN:VEVENT
DTSTART;TZID=UTC:20220610T123000
DTEND;TZID=UTC:20220610T123000
DTSTAMP:20260424T222519
CREATED:20220609T110858Z
LAST-MODIFIED:20220609T110858Z
UID:4022-1654864200-1654864200@transparencia.motril.es
SUMMARY:La alcaldesa de Motril\, Luisa García Chamorro\, junto con el teniente de alcalde de Turismo\, José Lemos\, reciben a la viceconsejera de Turismo de la Junta de Andalucía\, Ana García.
DESCRIPTION:
URL:https://transparencia.motril.es/evento/la-alcaldesa-de-motril-luisa-garcia-chamorro-junto-con-el-teniente-de-alcalde-de-turismo-jose-lemos-reciben-a-la-viceconsejera-de-turismo-de-la-junta-de-andalucia-ana-garcia/
LOCATION:Salón de Protocolo\, Plaza de España\, 1\, Granada\, 18600\, España
END:VEVENT
BEGIN:VEVENT
DTSTART;TZID=UTC:20220610T210000
DTEND;TZID=UTC:20220610T210000
DTSTAMP:20260424T222519
CREATED:20220609T105905Z
LAST-MODIFIED:20220609T105905Z
UID:4020-1654894800-1654894800@transparencia.motril.es
SUMMARY:La alcaldesa de Motril\, Luisa García Chamorro\, asiste a la obra de teatro ‘La diversidad en tus ojos’
DESCRIPTION:
URL:https://transparencia.motril.es/evento/la-alcaldesa-de-motril-luisa-garcia-chamorro-asiste-a-la-obra-de-teatro-la-diversidad-en-tus-ojos/
LOCATION:Teatro Calderón de la Barca\, Plaza Paulino Bellido\, s/n\, Motril\, Granada\, 18600\, España
END:VEVENT
END:VCALENDAR