BEGIN:VCALENDAR
VERSION:2.0
PRODID:-//Ayuntamiento de Motril. Transparencia - ECPv6.15.20//NONSGML v1.0//EN
CALSCALE:GREGORIAN
METHOD:PUBLISH
X-ORIGINAL-URL:https://transparencia.motril.es
X-WR-CALDESC:Eventos para Ayuntamiento de Motril. Transparencia
REFRESH-INTERVAL;VALUE=DURATION:PT1H
X-Robots-Tag:noindex
X-PUBLISHED-TTL:PT1H
BEGIN:VTIMEZONE
TZID:UTC
BEGIN:STANDARD
TZOFFSETFROM:+0000
TZOFFSETTO:+0000
TZNAME:UTC
DTSTART:20210101T000000
END:STANDARD
END:VTIMEZONE
BEGIN:VEVENT
DTSTART;TZID=UTC:20220321T103000
DTEND;TZID=UTC:20220321T113000
DTSTAMP:20260425T152929
CREATED:20220318T125014Z
LAST-MODIFIED:20220318T125014Z
UID:3240-1647858600-1647862200@transparencia.motril.es
SUMMARY:La alcaldesa de Motril presenta la 2ª Maratón benéfica por relevos de la Asociación Run&Run
DESCRIPTION:La alcaldesa de Motril\, Luisa García Chamorro\, presenta la 2ª Maratón benéfica por relevos de la Asociación Run&Run.
URL:https://transparencia.motril.es/evento/la-alcaldesa-de-motril-presenta-la-2a-maraton-benefica-por-relevos-de-la-asociacion-runrun/
LOCATION:Salón de Protocolo\, Plaza de España\, 1\, Granada\, 18600\, España
CATEGORIES:Actos
END:VEVENT
BEGIN:VEVENT
DTSTART;TZID=UTC:20220321T120000
DTEND;TZID=UTC:20220321T130000
DTSTAMP:20260425T152929
CREATED:20220318T125132Z
LAST-MODIFIED:20220318T125132Z
UID:3242-1647864000-1647867600@transparencia.motril.es
SUMMARY:La alcaldesa de Motril\, junto a la teniente de alcalde de Formación y Empleo\, visitan el curso de subtropicales que se está impartiendo a través del proyecto de FormActiva+
DESCRIPTION:La alcaldesa de Motril\, Luisa García Chamorro\, junto a la teniente de alcalde de Formación y Empleo\, Mª Ángeles Escámez\, visitan el curso de subtropicales que se está impartiendo a través del proyecto de FormActiva+.
URL:https://transparencia.motril.es/evento/la-alcaldesa-de-motril-junto-a-la-teniente-de-alcalde-de-formacion-y-empleo-visitan-el-curso-de-subtropicales-que-se-esta-impartiendo-a-traves-del-proyecto-de-formactiva/
LOCATION:Finca Cabrera – Carretera Lújar\, 4
CATEGORIES:Formación y Empleo
END:VEVENT
BEGIN:VEVENT
DTSTART;TZID=UTC:20220322T090000
DTEND;TZID=UTC:20220322T100000
DTSTAMP:20260425T152929
CREATED:20220321T115304Z
LAST-MODIFIED:20220321T115304Z
UID:3274-1647939600-1647943200@transparencia.motril.es
SUMMARY:Reunión interna
DESCRIPTION:
URL:https://transparencia.motril.es/evento/reunion-interna-19/
LOCATION:Salón de Protocolo\, Plaza de España\, 1\, Granada\, 18600\, España
CATEGORIES:Reunión
END:VEVENT
BEGIN:VEVENT
DTSTART;TZID=UTC:20220322T103000
DTEND;TZID=UTC:20220322T113000
DTSTAMP:20260425T152929
CREATED:20220321T115454Z
LAST-MODIFIED:20220321T115454Z
UID:3276-1647945000-1647948600@transparencia.motril.es
SUMMARY:La alcaldesa asiste al primer encuentro de antiguos trabajadores de la Fábrica del Pilar
DESCRIPTION:La alcaldesa de Motril\, Luisa García Chamorro\, y miembros del equipo de Gobierno municipal asisten al primer encuentro con los antiguos trabajadores de la Fábrica de Nuestra Señora del Pilar.
URL:https://transparencia.motril.es/evento/la-alcaldesa-asiste-al-primer-encuentro-de-antiguos-trabajadores-de-la-fabrica-del-pilar/
LOCATION:Almacén del Azúcar
CATEGORIES:Recepciones
END:VEVENT
BEGIN:VEVENT
DTSTART;TZID=UTC:20220322T120000
DTEND;TZID=UTC:20220322T123000
DTSTAMP:20260425T152929
CREATED:20220321T115551Z
LAST-MODIFIED:20220321T115551Z
UID:3279-1647950400-1647952200@transparencia.motril.es
SUMMARY:Reunión interna
DESCRIPTION:
URL:https://transparencia.motril.es/evento/reunion-interna-20/
CATEGORIES:Reunión
END:VEVENT
BEGIN:VEVENT
DTSTART;TZID=UTC:20220322T124500
DTEND;TZID=UTC:20220322T130000
DTSTAMP:20260425T152929
CREATED:20220321T115810Z
LAST-MODIFIED:20220321T115810Z
UID:3283-1647953100-1647954000@transparencia.motril.es
SUMMARY:Junta de Gobierno
DESCRIPTION:
URL:https://transparencia.motril.es/evento/junta-de-gobierno/
LOCATION:Salón de Protocolo\, Plaza de España\, 1\, Granada\, 18600\, España
CATEGORIES:Reunión
END:VEVENT
BEGIN:VEVENT
DTSTART;TZID=UTC:20220322T130000
DTEND;TZID=UTC:20220322T140000
DTSTAMP:20260425T152929
CREATED:20220321T115722Z
LAST-MODIFIED:20220321T115722Z
UID:3281-1647954000-1647957600@transparencia.motril.es
SUMMARY:Reunión interna
DESCRIPTION:
URL:https://transparencia.motril.es/evento/reunion-interna-21/
LOCATION:Salón de Protocolo\, Plaza de España\, 1\, Granada\, 18600\, España
CATEGORIES:Reunión
END:VEVENT
BEGIN:VEVENT
DTSTART;TZID=UTC:20220323T093000
DTEND;TZID=UTC:20220323T103000
DTSTAMP:20260425T152929
CREATED:20220322T121941Z
LAST-MODIFIED:20220322T121941Z
UID:3288-1648027800-1648031400@transparencia.motril.es
SUMMARY:La alcaldesa de Motril asiste a la presentación del desayuno empresarial organizado por AECOST
DESCRIPTION:
URL:https://transparencia.motril.es/evento/la-alcaldesa-de-motril-asiste-a-la-presentacion-del-desayuno-empresarial-organizado-por-aecost/
LOCATION:Sede AECOST\, Plaza de la Libertad
CATEGORIES:Actos
END:VEVENT
BEGIN:VEVENT
DTSTART;TZID=UTC:20220323T100000
DTEND;TZID=UTC:20220323T110000
DTSTAMP:20260425T152929
CREATED:20220322T122410Z
LAST-MODIFIED:20220322T122410Z
UID:3298-1648029600-1648033200@transparencia.motril.es
SUMMARY:Reunión interna
DESCRIPTION:
URL:https://transparencia.motril.es/evento/reunion-interna-22/
CATEGORIES:Reunión
END:VEVENT
BEGIN:VEVENT
DTSTART;TZID=UTC:20220323T110000
DTEND;TZID=UTC:20220323T120000
DTSTAMP:20260425T152929
CREATED:20220322T122042Z
LAST-MODIFIED:20220322T122042Z
UID:3291-1648033200-1648036800@transparencia.motril.es
SUMMARY:La alcaldesa de Motril junto a la concejal de Comercio visitan la fábrica y distribuidora de productos de limpieza e higiene ‘Jema’.
DESCRIPTION:La alcaldesa de Motril\, Luisa García Chamorro\, junto a la concejal de Comercio\, Susana Peña\, visitan la fábrica y distribuidora de productos de limpieza e higiene ‘Jema’.
URL:https://transparencia.motril.es/evento/la-alcaldesa-de-motril-junto-a-la-concejal-de-comercio-visitan-la-fabrica-y-distribuidora-de-productos-de-limpieza-e-higiene-jema/
LOCATION:Polígono El Vadillo\, Ctra. de Almería 53
CATEGORIES:Comercio
END:VEVENT
BEGIN:VEVENT
DTSTART;TZID=UTC:20220323T120000
DTEND;TZID=UTC:20220323T130000
DTSTAMP:20260425T152929
CREATED:20220322T122141Z
LAST-MODIFIED:20220322T205328Z
UID:3294-1648036800-1648040400@transparencia.motril.es
SUMMARY:La alcaldesa de Motril junto a la concejal de Comercio visitan la tienda ‘Traviesos’.
DESCRIPTION:La alcaldesa de Motril\, Luisa García Chamorro\, junto a la concejal de Comercio\, Susana Peña\, visitan la tienda ‘Traviesos’.
URL:https://transparencia.motril.es/evento/la-alcaldesa-de-motril-junto-a-la-concejal-de-comercio-visitan-la-tienda-traviesos/
LOCATION:Calle Vicario
CATEGORIES:Comercio
END:VEVENT
BEGIN:VEVENT
DTSTART;TZID=UTC:20220323T130000
DTEND;TZID=UTC:20220323T140000
DTSTAMP:20260425T152929
CREATED:20220322T122441Z
LAST-MODIFIED:20220322T122441Z
UID:3300-1648040400-1648044000@transparencia.motril.es
SUMMARY:Reunión interna
DESCRIPTION:
URL:https://transparencia.motril.es/evento/reunion-interna-23/
CATEGORIES:Reunión
END:VEVENT
BEGIN:VEVENT
DTSTART;TZID=UTC:20220323T173000
DTEND;TZID=UTC:20220323T183000
DTSTAMP:20260425T152929
CREATED:20220322T122226Z
LAST-MODIFIED:20220322T122226Z
UID:3296-1648056600-1648060200@transparencia.motril.es
SUMMARY:La alcaldesa de Motril asiste a la presentación del libro ‘Las aventuras de Kiray la valiente’
DESCRIPTION:La alcaldesa de Motril\, Luisa García Chamorro\, asiste a la presentación del libro ‘Las aventuras de Kiray la valiente’.
URL:https://transparencia.motril.es/evento/la-alcaldesa-de-motril-asiste-a-la-presentacion-del-libro-las-aventuras-de-kiray-la-valiente-2/
LOCATION:Ludoteca de Varadero
CATEGORIES:Actos
END:VEVENT
BEGIN:VEVENT
DTSTART;TZID=UTC:20220324T093000
DTEND;TZID=UTC:20220324T100000
DTSTAMP:20260425T152929
CREATED:20220323T125337Z
LAST-MODIFIED:20220323T125337Z
UID:3322-1648114200-1648116000@transparencia.motril.es
SUMMARY:La alcaldesa de Motril\, junto a la teniente de alcalde de Participación Ciudadana\, presentan una nueva asociación
DESCRIPTION:
URL:https://transparencia.motril.es/evento/la-alcaldesa-de-motril-junto-a-la-teniente-de-alcalde-de-participacion-ciudadana-presentan-una-nueva-asociacion/
LOCATION:Salón de Protocolo\, Plaza de España\, 1\, Granada\, 18600\, España
CATEGORIES:Actos
END:VEVENT
BEGIN:VEVENT
DTSTART;TZID=UTC:20220324T100000
DTEND;TZID=UTC:20220324T110000
DTSTAMP:20260425T152929
CREATED:20220323T125411Z
LAST-MODIFIED:20220323T125411Z
UID:3324-1648116000-1648119600@transparencia.motril.es
SUMMARY:Reunión interna
DESCRIPTION:
URL:https://transparencia.motril.es/evento/reunion-interna-24/
LOCATION:Salón de Protocolo\, Plaza de España\, 1\, Granada\, 18600\, España
CATEGORIES:Reunión
END:VEVENT
BEGIN:VEVENT
DTSTART;TZID=UTC:20220324T110000
DTEND;TZID=UTC:20220324T120000
DTSTAMP:20260425T152929
CREATED:20220323T125458Z
LAST-MODIFIED:20220323T125458Z
UID:3326-1648119600-1648123200@transparencia.motril.es
SUMMARY:Reunión interna
DESCRIPTION:
URL:https://transparencia.motril.es/evento/reunion-interna-25/
LOCATION:Salón de Protocolo\, Plaza de España\, 1\, Granada\, 18600\, España
CATEGORIES:Reunión
END:VEVENT
BEGIN:VEVENT
DTSTART;TZID=UTC:20220324T123000
DTEND;TZID=UTC:20220324T130000
DTSTAMP:20260425T152929
CREATED:20220323T125629Z
LAST-MODIFIED:20220323T125629Z
UID:3329-1648125000-1648126800@transparencia.motril.es
SUMMARY:Reunión interna
DESCRIPTION:
URL:https://transparencia.motril.es/evento/reunion-interna-26/
LOCATION:Salón de Protocolo\, Plaza de España\, 1\, Granada\, 18600\, España
CATEGORIES:Reunión
END:VEVENT
BEGIN:VEVENT
DTSTART;TZID=UTC:20220324T130000
DTEND;TZID=UTC:20220324T140000
DTSTAMP:20260425T152929
CREATED:20220323T125735Z
LAST-MODIFIED:20220323T125735Z
UID:3331-1648126800-1648130400@transparencia.motril.es
SUMMARY:La alcaldesa recibe al poeta Nicolás Medina
DESCRIPTION:
URL:https://transparencia.motril.es/evento/la-alcaldesa-recibe-al-poeta-nicolas-medina/
LOCATION:Salón de Protocolo\, Plaza de España\, 1\, Granada\, 18600\, España
CATEGORIES:Recepciones
END:VEVENT
BEGIN:VEVENT
DTSTART;TZID=UTC:20220328T080000
DTEND;TZID=UTC:20220328T220000
DTSTAMP:20260425T152929
CREATED:20220325T123327Z
LAST-MODIFIED:20220325T123327Z
UID:3385-1648454400-1648504800@transparencia.motril.es
SUMMARY:Reunión interna
DESCRIPTION:
URL:https://transparencia.motril.es/evento/reunion-interna-27/
CATEGORIES:Reunión
END:VEVENT
BEGIN:VEVENT
DTSTART;TZID=UTC:20220328T120000
DTEND;TZID=UTC:20220328T130000
DTSTAMP:20260425T152929
CREATED:20220325T123448Z
LAST-MODIFIED:20220325T123448Z
UID:3387-1648468800-1648472400@transparencia.motril.es
SUMMARY:La alcaldesa\, junto a la teniente de alcalde de Formación y Empleo\, visita el curso de cultivos subtropicales de FormActiva+
DESCRIPTION:
URL:https://transparencia.motril.es/evento/la-alcaldesa-junto-a-la-teniente-de-alcalde-de-formacion-y-empleo-visita-el-curso-de-cultivos-subtropicales-de-formactiva/
LOCATION:Finca Cabrera – Carretera Lújar\, 4
CATEGORIES:Actos
END:VEVENT
BEGIN:VEVENT
DTSTART;TZID=UTC:20220329T090000
DTEND;TZID=UTC:20220329T100000
DTSTAMP:20260425T152929
CREATED:20220328T113402Z
LAST-MODIFIED:20220328T113402Z
UID:3403-1648544400-1648548000@transparencia.motril.es
SUMMARY:Reunión interna
DESCRIPTION:
URL:https://transparencia.motril.es/evento/reunion-interna-28/
LOCATION:Salón de Protocolo\, Plaza de España\, 1\, Granada\, 18600\, España
CATEGORIES:Reunión
END:VEVENT
BEGIN:VEVENT
DTSTART;TZID=UTC:20220329T110000
DTEND;TZID=UTC:20220329T120000
DTSTAMP:20260425T152929
CREATED:20220328T113435Z
LAST-MODIFIED:20220328T113435Z
UID:3405-1648551600-1648555200@transparencia.motril.es
SUMMARY:Reunión interna
DESCRIPTION:
URL:https://transparencia.motril.es/evento/reunion-interna-29/
CATEGORIES:Reunión
END:VEVENT
BEGIN:VEVENT
DTSTART;TZID=UTC:20220329T120000
DTEND;TZID=UTC:20220329T130000
DTSTAMP:20260425T152929
CREATED:20220328T113507Z
LAST-MODIFIED:20220328T113507Z
UID:3407-1648555200-1648558800@transparencia.motril.es
SUMMARY:Reunión interna
DESCRIPTION:
URL:https://transparencia.motril.es/evento/reunion-interna-30/
CATEGORIES:Reunión
END:VEVENT
BEGIN:VEVENT
DTSTART;TZID=UTC:20220329T130000
DTEND;TZID=UTC:20220329T140000
DTSTAMP:20260425T152929
CREATED:20220328T112943Z
LAST-MODIFIED:20220328T112943Z
UID:3400-1648558800-1648562400@transparencia.motril.es
SUMMARY:La alcaldesa de Motril\, junto a la presidenta de la ELA de Carchuna y Calahonda\, visitan las obras que se están realizando en la Perla.
DESCRIPTION:
URL:https://transparencia.motril.es/evento/la-alcaldesa-de-motril-junto-a-la-presidenta-de-la-ela-de-carchuna-y-calahonda-visitan-las-obras-que-se-estan-realizando-en-la-perla/
LOCATION:ELA Carchuna-Calahonda
CATEGORIES:Obras
END:VEVENT
BEGIN:VEVENT
DTSTART;TZID=UTC:20220330T100000
DTEND;TZID=UTC:20220330T110000
DTSTAMP:20260425T152929
CREATED:20220329T103230Z
LAST-MODIFIED:20220329T103230Z
UID:3411-1648634400-1648638000@transparencia.motril.es
SUMMARY:La alcaldesa de Motril asiste a la inauguración del patio de la escuela infantil La Cigüeña
DESCRIPTION:
URL:https://transparencia.motril.es/evento/la-alcaldesa-de-motril-asiste-a-la-inauguracion-del-patio-de-la-escuela-infantil-la-ciguena/
LOCATION:Escuela Infantil La Cigüeña
CATEGORIES:Actos
END:VEVENT
BEGIN:VEVENT
DTSTART;TZID=UTC:20220330T110000
DTEND;TZID=UTC:20220330T120000
DTSTAMP:20260425T152929
CREATED:20220329T103256Z
LAST-MODIFIED:20220329T103256Z
UID:3414-1648638000-1648641600@transparencia.motril.es
SUMMARY:Reunión interna
DESCRIPTION:
URL:https://transparencia.motril.es/evento/reunion-interna-31/
CATEGORIES:Reunión
END:VEVENT
BEGIN:VEVENT
DTSTART;TZID=UTC:20220330T120000
DTEND;TZID=UTC:20220330T130000
DTSTAMP:20260425T152929
CREATED:20220329T103326Z
LAST-MODIFIED:20220329T103326Z
UID:3416-1648641600-1648645200@transparencia.motril.es
SUMMARY:Reunión interna
DESCRIPTION:
URL:https://transparencia.motril.es/evento/reunion-interna-32/
CATEGORIES:Reunión
END:VEVENT
BEGIN:VEVENT
DTSTART;TZID=UTC:20220330T130000
DTEND;TZID=UTC:20220330T140000
DTSTAMP:20260425T152929
CREATED:20220329T103356Z
LAST-MODIFIED:20220329T103356Z
UID:3418-1648645200-1648648800@transparencia.motril.es
SUMMARY:Reunión interna
DESCRIPTION:
URL:https://transparencia.motril.es/evento/reunion-interna-33/
CATEGORIES:Reunión
END:VEVENT
BEGIN:VEVENT
DTSTART;TZID=UTC:20220330T190000
DTEND;TZID=UTC:20220330T200000
DTSTAMP:20260425T152929
CREATED:20220329T103434Z
LAST-MODIFIED:20220329T103434Z
UID:3420-1648666800-1648670400@transparencia.motril.es
SUMMARY:Reunión interna
DESCRIPTION:
URL:https://transparencia.motril.es/evento/reunion-interna-34/
LOCATION:Salón de Protocolo\, Plaza de España\, 1\, Granada\, 18600\, España
CATEGORIES:Reunión
END:VEVENT
BEGIN:VEVENT
DTSTART;TZID=UTC:20220331T093000
DTEND;TZID=UTC:20220331T100000
DTSTAMP:20260425T152929
CREATED:20220330T121930Z
LAST-MODIFIED:20220330T121930Z
UID:3475-1648719000-1648720800@transparencia.motril.es
SUMMARY:La alcaldesa de Motril\, junto al concejal de Deportes\, asisten al evento solidario que se está llevando a cabo por la asociación Run&Run
DESCRIPTION:La alcaldesa de Motril\, Luisa García Chamorro\, junto al concejal de Deportes\, Daniel Ortega\, asisten al evento solidario que se está llevando a cabo por la asociación Run&Run.
URL:https://transparencia.motril.es/evento/la-alcaldesa-de-motril-junto-al-concejal-de-deportes-asisten-al-evento-solidario-que-se-esta-llevando-a-cabo-por-la-asociacion-runrun/
LOCATION:Entrada sur del polideportivo
CATEGORIES:Deportes
END:VEVENT
END:VCALENDAR