BEGIN:VCALENDAR
VERSION:2.0
PRODID:-//Ayuntamiento de Motril. Transparencia - ECPv6.15.20//NONSGML v1.0//EN
CALSCALE:GREGORIAN
METHOD:PUBLISH
X-WR-CALNAME:Ayuntamiento de Motril. Transparencia
X-ORIGINAL-URL:https://transparencia.motril.es
X-WR-CALDESC:Eventos para Ayuntamiento de Motril. Transparencia
REFRESH-INTERVAL;VALUE=DURATION:PT1H
X-Robots-Tag:noindex
X-PUBLISHED-TTL:PT1H
BEGIN:VTIMEZONE
TZID:UTC
BEGIN:STANDARD
TZOFFSETFROM:+0000
TZOFFSETTO:+0000
TZNAME:UTC
DTSTART:20230101T000000
END:STANDARD
END:VTIMEZONE
BEGIN:VEVENT
DTSTART;VALUE=DATE:20240325
DTEND;VALUE=DATE:20240326
DTSTAMP:20260424T222943
CREATED:20240326T090341Z
LAST-MODIFIED:20240326T090341Z
UID:7960-1711324800-1711411199@transparencia.motril.es
SUMMARY:La alcaldesa de Motril\, Luisa García Chamorro\, junto con el teniente de alcalde de Seguridad Ciudadana\, José Peña\, y el concejal de Fiestas\, Gerardo Romano\, visitan los pasos de la procesión de la Cofradía la Oración de Nuestro Señor de la Humildad en el Huerto de los Olivos y María Stma. de la Victoria de Motril.
DESCRIPTION:
URL:https://transparencia.motril.es/evento/la-alcaldesa-de-motril-luisa-garcia-chamorro-junto-con-el-teniente-de-alcalde-de-seguridad-ciudadana-jose-pena-y-el-concejal-de-fiestas-gerardo-romano-visitan-los-pasos-de-la-procesion-de-la-cof/
END:VEVENT
BEGIN:VEVENT
DTSTART;VALUE=DATE:20240325
DTEND;VALUE=DATE:20240326
DTSTAMP:20260424T222943
CREATED:20240326T090415Z
LAST-MODIFIED:20240326T090415Z
UID:7962-1711324800-1711411199@transparencia.motril.es
SUMMARY:La alcaldesa de Motril\, Luisa García Chamorro\, junto con la teniente de alcalde de Igualdad\, Inmaculada Torres\, y la concejal de Educación\, Madelin Banqueri\, reciben a la directiva del CEIP Reina Fabiola con motivo del Premio Meridiana 2024.
DESCRIPTION:
URL:https://transparencia.motril.es/evento/la-alcaldesa-de-motril-luisa-garcia-chamorro-junto-con-la-teniente-de-alcalde-de-igualdad-inmaculada-torres-y-la-concejal-de-educacion-madelin-banqueri-reciben-a-la-directiva-del-ceip-reina-fabi/
END:VEVENT
BEGIN:VEVENT
DTSTART;VALUE=DATE:20240325
DTEND;VALUE=DATE:20240326
DTSTAMP:20260424T222943
CREATED:20240326T090446Z
LAST-MODIFIED:20240326T090446Z
UID:7965-1711324800-1711411199@transparencia.motril.es
SUMMARY:La alcaldesa de Motril\, Luisa García Chamorro\, junto a la teniente de alcalde de Promoción Turística\, María Ángeles Escámez\, asisten al paso por Cofradía la Oración de Nuestro Señor de la Humildad en el Huerto de los Olivos y María Stma. de la Victoria de Motril.
DESCRIPTION:
URL:https://transparencia.motril.es/evento/la-alcaldesa-de-motril-luisa-garcia-chamorro-junto-a-la-teniente-de-alcalde-de-promocion-turistica-maria-angeles-escamez-asisten-al-paso-por-cofradia-la-oracion-de-nuestro-senor-de-la-humildad-en/
END:VEVENT
BEGIN:VEVENT
DTSTART;VALUE=DATE:20240327
DTEND;VALUE=DATE:20240328
DTSTAMP:20260424T222943
CREATED:20240327T091849Z
LAST-MODIFIED:20240327T091849Z
UID:7968-1711497600-1711583999@transparencia.motril.es
SUMMARY:La alcaldesa de Motril\, Luisa García Chamorro\, junto con el teniente de alcalde de Seguridad Ciudadana\, José Peña\, y el concejal de Fiestas\, Gerardo Romano\, visitan los pasos de la procesión de la Fervorosa Hermandad de Penitencia Nuestro Padre Jesús del Gran Poder y María Santísima del Mayor Dolor.
DESCRIPTION:
URL:https://transparencia.motril.es/evento/la-alcaldesa-de-motril-luisa-garcia-chamorro-junto-con-el-teniente-de-alcalde-de-seguridad-ciudadana-jose-pena-y-el-concejal-de-fiestas-gerardo-romano-visitan-los-pasos-de-la-procesion-de-la-fer/
END:VEVENT
BEGIN:VEVENT
DTSTART;VALUE=DATE:20240327
DTEND;VALUE=DATE:20240328
DTSTAMP:20260424T222943
CREATED:20240327T091948Z
LAST-MODIFIED:20240327T091948Z
UID:7970-1711497600-1711583999@transparencia.motril.es
SUMMARY:La alcaldesa de Motril\, Luisa García Chamorro\, junto con el teniente de alcalde de Seguridad Ciudadana\, José Peña\, y el concejal de Fiestas\, Gerardo Romano\, visitan los pasos de la procesión de la Cofradía de Penitencia del Santísimo Cristo de la Salud y Nuestra Señora del Mayor Consuelo.
DESCRIPTION:
URL:https://transparencia.motril.es/evento/la-alcaldesa-de-motril-luisa-garcia-chamorro-junto-con-el-teniente-de-alcalde-de-seguridad-ciudadana-jose-pena-y-el-concejal-de-fiestas-gerardo-romano-visitan-los-pasos-de-la-procesion-de-la-cof-2/
END:VEVENT
BEGIN:VEVENT
DTSTART;VALUE=DATE:20240327
DTEND;VALUE=DATE:20240328
DTSTAMP:20260424T222943
CREATED:20240327T092123Z
LAST-MODIFIED:20240327T092123Z
UID:7972-1711497600-1711583999@transparencia.motril.es
SUMMARY:La alcaldesa de Motril\, Luisa García Chamorro\, junto con el teniente de alcalde de Deportes\, Daniel Ortega\, reciben a los campeones del Campeonato de España de Kenpo Guadalajara 2024.
DESCRIPTION:
URL:https://transparencia.motril.es/evento/la-alcaldesa-de-motril-luisa-garcia-chamorro-junto-con-el-teniente-de-alcalde-de-deportes-daniel-ortega-reciben-a-los-campeones-del-campeonato-de-espana-de-kenpo-guadalajara-2024/
END:VEVENT
BEGIN:VEVENT
DTSTART;VALUE=DATE:20240327
DTEND;VALUE=DATE:20240328
DTSTAMP:20260424T222943
CREATED:20240327T092232Z
LAST-MODIFIED:20240327T092232Z
UID:7974-1711497600-1711583999@transparencia.motril.es
SUMMARY:La alcaldesa de Motril\, Luisa García Chamorro\, procesiona en la Cofradía de Penitencia del Santísimo Cristo de la Salud y Nuestra Señora del Mayor Consuelo.
DESCRIPTION:
URL:https://transparencia.motril.es/evento/la-alcaldesa-de-motril-luisa-garcia-chamorro-procesiona-en-la-cofradia-de-penitencia-del-santisimo-cristo-de-la-salud-y-nuestra-senora-del-mayor-consuelo/
END:VEVENT
BEGIN:VEVENT
DTSTART;VALUE=DATE:20240328
DTEND;VALUE=DATE:20240329
DTSTAMP:20260424T222943
CREATED:20240401T075906Z
LAST-MODIFIED:20240401T075906Z
UID:7976-1711584000-1711670399@transparencia.motril.es
SUMMARY:La alcaldesa de Motril\, Luisa García Chamorro\, junto con la teniente de alcalde de Participación Ciudadana\, Inmaculada Torres\, el concejal de Parques y Jardines\, Daniel Ortega\, la concejal de Educación\, Madelin Banqueri\, y el concejal de Gestión de Infraestructuras\, José Balderas\, realizan una ofrenda floral a la Hermandad de Penitencia de Nuestro Padre Jesús de Pasión y María Santísima de la Amargura.
DESCRIPTION:
URL:https://transparencia.motril.es/evento/la-alcaldesa-de-motril-luisa-garcia-chamorro-junto-con-la-teniente-de-alcalde-de-participacion-ciudadana-inmaculada-torres-el-concejal-de-parques-y-jardines-daniel-ortega-la-concejal-de-educacio/
END:VEVENT
BEGIN:VEVENT
DTSTART;VALUE=DATE:20240328
DTEND;VALUE=DATE:20240329
DTSTAMP:20260424T222943
CREATED:20240401T085958Z
LAST-MODIFIED:20240401T085958Z
UID:7978-1711584000-1711670399@transparencia.motril.es
SUMMARY:La alcaldesa de Motril\, Luisa García Chamorro\, junto con la concejal de Educación\, Madelin Banqueri\, procesionan en la Cofradía de Nuestro Padre Jesús Nazareno y María Santísima de la Esperanza.
DESCRIPTION:
URL:https://transparencia.motril.es/evento/la-alcaldesa-de-motril-luisa-garcia-chamorro-junto-con-la-concejal-de-educacion-madelin-banqueri-procesionan-en-la-cofradia-de-nuestro-padre-jesus-nazareno-y-maria-santisima-de-la-esperanza/
END:VEVENT
BEGIN:VEVENT
DTSTART;VALUE=DATE:20240329
DTEND;VALUE=DATE:20240330
DTSTAMP:20260424T222943
CREATED:20240401T091845Z
LAST-MODIFIED:20240401T091845Z
UID:7984-1711670400-1711756799@transparencia.motril.es
SUMMARY:La alcaldesa de Motril\, Luisa García Chamorro\, junto con miembros del Gobierno municipal\, procesionan en la Cofradía del Santo Sepulcro y Nuestra Señora de los Dolores.
DESCRIPTION:
URL:https://transparencia.motril.es/evento/la-alcaldesa-de-motril-luisa-garcia-chamorro-junto-con-miembros-del-gobierno-municipal-procesionan-en-la-cofradia-del-santo-sepulcro-y-nuestra-senora-de-los-dolores/
END:VEVENT
BEGIN:VEVENT
DTSTART;VALUE=DATE:20240330
DTEND;VALUE=DATE:20240331
DTSTAMP:20260424T222943
CREATED:20240401T091710Z
LAST-MODIFIED:20240401T091710Z
UID:7982-1711756800-1711843199@transparencia.motril.es
SUMMARY:La alcaldesa de Motril\, Luisa García Chamorro\, junto con la teniente de alcalde de Participación Ciudadana\, Inmaculada Torres\, y el concejal de Fiestas y Eventos\, Gerardo Romano\, procesionan en la Cofradía Nuestra Señora de la Soledad y Santísimo Cristo Yacente.
DESCRIPTION:
URL:https://transparencia.motril.es/evento/la-alcaldesa-de-motril-luisa-garcia-chamorro-junto-con-la-teniente-de-alcalde-de-participacion-ciudadana-inmaculada-torres-y-el-concejal-de-fiestas-y-eventos-gerardo-romano-procesionan-en-la-cof/
END:VEVENT
BEGIN:VEVENT
DTSTART;VALUE=DATE:20240331
DTEND;VALUE=DATE:20240401
DTSTAMP:20260424T222943
CREATED:20240401T091941Z
LAST-MODIFIED:20240401T091941Z
UID:7986-1711843200-1711929599@transparencia.motril.es
SUMMARY:La alcaldesa de Motril\, Luisa García Chamorro\, junto con la teniente de alcalde de Participación Ciudadana\, Inmaculada Torres\, asisten a la Carrera Oficial de la Muy Antigua Archicofradía del Dulce Nombre de Jesús y Primitiva y Real Hermandad y Cofradía de Nazarenos de la Santa Vera Cruz (Cristo de la Expiración) y María Santísima del Valle.
DESCRIPTION:
URL:https://transparencia.motril.es/evento/la-alcaldesa-de-motril-luisa-garcia-chamorro-junto-con-la-teniente-de-alcalde-de-participacion-ciudadana-inmaculada-torres-asisten-a-la-carrera-oficial-de-la-muy-antigua-archicofradia-del-dulce-no/
END:VEVENT
BEGIN:VEVENT
DTSTART;VALUE=DATE:20240402
DTEND;VALUE=DATE:20240403
DTSTAMP:20260424T222943
CREATED:20240402T113012Z
LAST-MODIFIED:20240402T113012Z
UID:7991-1712016000-1712102399@transparencia.motril.es
SUMMARY:La alcaldesa de Motril\, Luisa García Chamorro\, junto con el teniente de alcalde de Seguridad Ciudadana\, José Peña\, comparecen con motivo del estado de las playas.
DESCRIPTION:
URL:https://transparencia.motril.es/evento/la-alcaldesa-de-motril-luisa-garcia-chamorro-junto-con-el-teniente-de-alcalde-de-seguridad-ciudadana-jose-pena-comparecen-con-motivo-del-estado-de-las-playas/
END:VEVENT
BEGIN:VEVENT
DTSTART;VALUE=DATE:20240403
DTEND;VALUE=DATE:20240404
DTSTAMP:20260424T222943
CREATED:20240402T125001Z
LAST-MODIFIED:20240402T125001Z
UID:7993-1712102400-1712188799@transparencia.motril.es
SUMMARY:La alcaldesa de Motril\, Luisa García Chamorro\, junto con el teniente de alcalde de Urbanismo\, Antonio Escámez\, y la teniente de alcalde de Participación Ciudadana\, Inmaculada Torres\, asisten a la firma del convenio de colaboración entre el Ayuntamiento de Motril y el Colegio Oficial de Aparejadores y Arquitectos Técnicos de Granada y a la inauguración de la jornada taller: Indicadores de Accesibilidad Universal en el Informe de Evaluación del Edificio.
DESCRIPTION:
URL:https://transparencia.motril.es/evento/la-alcaldesa-de-motril-luisa-garcia-chamorro-junto-con-el-teniente-de-alcalde-de-urbanismo-antonio-escamez-y-la-teniente-de-alcalde-de-participacion-ciudadana-inmaculada-torres-asisten-a-la-firm/
END:VEVENT
BEGIN:VEVENT
DTSTART;VALUE=DATE:20240405
DTEND;VALUE=DATE:20240406
DTSTAMP:20260424T222943
CREATED:20240405T070933Z
LAST-MODIFIED:20240405T070933Z
UID:8003-1712275200-1712361599@transparencia.motril.es
SUMMARY:El Ayuntamiento de Motril celebra sesión Extraordinaria.
DESCRIPTION:
URL:https://transparencia.motril.es/evento/el-ayuntamiento-de-motril-celebra-sesion-extraordinaria/
LOCATION:Salón de Plenos de la Casa Consistorial\, PLAZA DE ESPAÑA\, 1\, MOTRIL\, Granada\, 18600\, España
END:VEVENT
BEGIN:VEVENT
DTSTART;VALUE=DATE:20240406
DTEND;VALUE=DATE:20240415
DTSTAMP:20260424T222943
CREATED:20240408T072316Z
LAST-MODIFIED:20240408T072316Z
UID:8204-1712361600-1713139199@transparencia.motril.es
SUMMARY:La alcaldesa de Motril\, Luisa García Chamorro\, asiste a la feria Seatrade Cruise Global.
DESCRIPTION:
URL:https://transparencia.motril.es/evento/la-alcaldesa-de-motril-luisa-garcia-chamorro-asiste-a-la-feria-seatrade-cruise-global/
END:VEVENT
BEGIN:VEVENT
DTSTART;VALUE=DATE:20240417
DTEND;VALUE=DATE:20240501
DTSTAMP:20260424T222943
CREATED:20240415T101323Z
LAST-MODIFIED:20240415T101323Z
UID:8215-1713312000-1714521599@transparencia.motril.es
SUMMARY:La alcaldesa de Motril\, Luisa García Chamorro\, asiste al Seminar on Knowledge-Based Economy and City Competitiveness -  Net Zero and Sustainable Development
DESCRIPTION:
URL:https://transparencia.motril.es/evento/la-alcaldesa-de-motril-luisa-garcia-chamorro-asiste-al-seminar-on-knowledge-based-economy-and-city-competitiveness-net-zero-and-sustainable-development/
END:VEVENT
BEGIN:VEVENT
DTSTART;TZID=UTC:20240503T003000
DTEND;TZID=UTC:20240503T130000
DTSTAMP:20260424T222943
CREATED:20240502T120053Z
LAST-MODIFIED:20240502T120053Z
UID:8280-1714696200-1714741200@transparencia.motril.es
SUMMARY:La alcaldesa de Motril\, Luisa García Chamorro\, junto a miembros del equipo de Gobierno asisten a la inauguración de las Cruces de Mayo 2024.
DESCRIPTION:
URL:https://transparencia.motril.es/evento/la-alcaldesa-de-motril-luisa-garcia-chamorro-junto-a-miembros-del-equipo-de-gobierno-asisten-a-la-inauguracion-de-las-cruces-de-mayo-2024/
LOCATION:Paseo de las Explanadas
END:VEVENT
BEGIN:VEVENT
DTSTART;TZID=UTC:20240503T133000
DTEND;TZID=UTC:20240503T140000
DTSTAMP:20260424T222943
CREATED:20240502T120219Z
LAST-MODIFIED:20240502T120412Z
UID:8282-1714743000-1714744800@transparencia.motril.es
SUMMARY:La alcaldesa de Motril\, Luisa García Chamorro\, junto a la teniente de alcalde de Acción Social\, Inmaculada Torres\, y el concejal de Fiestas\, Gerardo Romano\, visitan los centros de día Andalucía y Las Angustias.
DESCRIPTION:
URL:https://transparencia.motril.es/evento/la-alcaldesa-de-motril-luisa-garcia-chamorro-junto-a-la-teniente-de-alcalde-de-accion-social-inmaculada-torres-y-el-concejal-de-fiestas-gerardo-romano-visitan-los-centros-de-dia-andalucia-y-las/
END:VEVENT
BEGIN:VEVENT
DTSTART;TZID=UTC:20240504T000000
DTEND;TZID=UTC:20240504T130000
DTSTAMP:20260424T222943
CREATED:20240502T120318Z
LAST-MODIFIED:20240502T120318Z
UID:8284-1714780800-1714827600@transparencia.motril.es
SUMMARY:La alcaldesa de Motril\, Luisa García Chamorro\, junto a la concejal de Anejos\, Concepción Abarca\, visitan el centro de mayores de Santa Adela y la cruz de la Asociación de Vecinos.
DESCRIPTION:
URL:https://transparencia.motril.es/evento/la-alcaldesa-de-motril-luisa-garcia-chamorro-junto-a-la-concejal-de-anejos-concepcion-abarca-visitan-el-centro-de-mayores-de-santa-adela-y-la-cruz-de-la-asociacion-de-vecinos/
END:VEVENT
BEGIN:VEVENT
DTSTART;TZID=UTC:20240504T130000
DTEND;TZID=UTC:20240504T133000
DTSTAMP:20260424T222943
CREATED:20240502T120520Z
LAST-MODIFIED:20240502T120520Z
UID:8288-1714827600-1714829400@transparencia.motril.es
SUMMARY:La alcaldesa de Motril\, Luisa García Chamorro\, junto al concejal de Fiestas\, Gerardo Romano\, visitan la cruz de la Asociación de Vecinos de Cerrillo Jaime.
DESCRIPTION:
URL:https://transparencia.motril.es/evento/la-alcaldesa-de-motril-luisa-garcia-chamorro-junto-al-concejal-de-fiestas-gerardo-romano-visitan-la-cruz-de-la-asociacion-de-vecinos-de-cerrillo-jaime/
END:VEVENT
BEGIN:VEVENT
DTSTART;TZID=UTC:20240504T133000
DTEND;TZID=UTC:20240504T140000
DTSTAMP:20260424T222943
CREATED:20240502T120629Z
LAST-MODIFIED:20240502T120629Z
UID:8290-1714829400-1714831200@transparencia.motril.es
SUMMARY:La alcaldesa de Motril\, Luisa García Chamorro\, junto a la teniente de alcalde de Participación Ciudadana\, Inmaculada Torres y el concejal de Fiestas\, Gerardo Romano\, visitan la cruz de la Asociación de Vecinos de San Antonio.
DESCRIPTION:
URL:https://transparencia.motril.es/evento/la-alcaldesa-de-motril-luisa-garcia-chamorro-junto-a-la-teniente-de-alcalde-de-participacion-ciudadana-inmaculada-torres-y-el-concejal-de-fiestas-gerardo-romano-visitan-la-cruz-de-la-asociacion-d/
END:VEVENT
BEGIN:VEVENT
DTSTART;TZID=UTC:20240505T000000
DTEND;TZID=UTC:20240505T123000
DTSTAMP:20260424T222943
CREATED:20240502T120708Z
LAST-MODIFIED:20240502T120708Z
UID:8292-1714867200-1714912200@transparencia.motril.es
SUMMARY:La alcaldesa de Motril\, Luisa García Chamorro\, asiste a la concentración de motos Komando Kulebra’s
DESCRIPTION:
URL:https://transparencia.motril.es/evento/la-alcaldesa-de-motril-luisa-garcia-chamorro-asiste-a-la-concentracion-de-motos-komando-kulebras/
END:VEVENT
BEGIN:VEVENT
DTSTART;TZID=UTC:20240505T130000
DTEND;TZID=UTC:20240505T133000
DTSTAMP:20260424T222943
CREATED:20240502T120807Z
LAST-MODIFIED:20240502T120807Z
UID:8294-1714914000-1714915800@transparencia.motril.es
SUMMARY:La alcaldesa de Motril\, Luisa García Chamorro\, visita la fachada de la cruz Los Tres Lunares.
DESCRIPTION:
URL:https://transparencia.motril.es/evento/la-alcaldesa-de-motril-luisa-garcia-chamorro-visita-la-fachada-de-la-cruz-los-tres-lunares/
END:VEVENT
BEGIN:VEVENT
DTSTART;TZID=UTC:20240505T133000
DTEND;TZID=UTC:20240505T140000
DTSTAMP:20260424T222943
CREATED:20240502T120851Z
LAST-MODIFIED:20240502T120851Z
UID:8296-1714915800-1714917600@transparencia.motril.es
SUMMARY:La alcaldesa de Motril\, Luisa García Chamorro\, visita la Cruz de la Alegría.
DESCRIPTION:
URL:https://transparencia.motril.es/evento/la-alcaldesa-de-motril-luisa-garcia-chamorro-visita-la-cruz-de-la-alegria/
END:VEVENT
BEGIN:VEVENT
DTSTART;TZID=UTC:20240506T103000
DTEND;TZID=UTC:20240506T230000
DTSTAMP:20260424T222943
CREATED:20240502T121031Z
LAST-MODIFIED:20240502T121031Z
UID:8298-1714991400-1715036400@transparencia.motril.es
SUMMARY:La alcaldesa de Motril\, Luisa García Chamorro\, junto con el teniente de alcalde de Deportes\, Daniel Ortega\, presentan la carrera benéfica de Playa Granada.
DESCRIPTION:
URL:https://transparencia.motril.es/evento/la-alcaldesa-de-motril-luisa-garcia-chamorro-junto-con-el-teniente-de-alcalde-de-deportes-daniel-ortega-presentan-la-carrera-benefica-de-playa-granada/
LOCATION:Pabellón de Deportes
END:VEVENT
BEGIN:VEVENT
DTSTART;TZID=UTC:20240509T000000
DTEND;TZID=UTC:20240509T130000
DTSTAMP:20260424T222943
CREATED:20240509T072142Z
LAST-MODIFIED:20240509T072142Z
UID:8305-1715212800-1715259600@transparencia.motril.es
SUMMARY:La alcaldesa de Motril\, Luisa García Chamorro\, asiste al Pleno de la UNED.
DESCRIPTION:
URL:https://transparencia.motril.es/evento/la-alcaldesa-de-motril-luisa-garcia-chamorro-asiste-al-pleno-de-la-uned/
LOCATION:UNED
END:VEVENT
BEGIN:VEVENT
DTSTART;TZID=UTC:20240509T100000
DTEND;TZID=UTC:20240509T230000
DTSTAMP:20260424T222943
CREATED:20240509T071937Z
LAST-MODIFIED:20240509T071937Z
UID:8301-1715248800-1715295600@transparencia.motril.es
SUMMARY:La alcaldesa de Motril\, Luisa García Chamorro\, junto con la teniente de alcalde de Participación Ciudadana\, Inmaculada Torres\, reciben a la Asociación de Mujeres Guardias Civiles "Nuestro Corazón por Bandera"
DESCRIPTION:
URL:https://transparencia.motril.es/evento/la-alcaldesa-de-motril-luisa-garcia-chamorro-junto-con-la-teniente-de-alcalde-de-participacion-ciudadana-inmaculada-torres-reciben-a-la-asociacion-de-mujeres-guardias-civiles-nuestro-corazon/
LOCATION:Ayuntamiento de Motril
END:VEVENT
BEGIN:VEVENT
DTSTART;TZID=UTC:20240509T110000
DTEND;TZID=UTC:20240509T223000
DTSTAMP:20260424T222943
CREATED:20240509T072035Z
LAST-MODIFIED:20240509T072035Z
UID:8303-1715252400-1715293800@transparencia.motril.es
SUMMARY:La alcaldesa de Motril\, Luisa García Chamorro\, junto con la teniente de alcalde de Participación Ciudadana\, Inmaculada Torres\, visitan la muestra de cruces de los centros de mayores y residencias de participación.
DESCRIPTION:
URL:https://transparencia.motril.es/evento/la-alcaldesa-de-motril-luisa-garcia-chamorro-junto-con-la-teniente-de-alcalde-de-participacion-ciudadana-inmaculada-torres-visitan-la-muestra-de-cruces-de-los-centros-de-mayores-y-residencias-de-p/
LOCATION:Ayuntamiento de Motril
END:VEVENT
BEGIN:VEVENT
DTSTART;TZID=UTC:20240510T180000
DTEND;TZID=UTC:20240511T183000
DTSTAMP:20260424T222943
CREATED:20240510T122402Z
LAST-MODIFIED:20240510T122402Z
UID:8323-1715364000-1715452200@transparencia.motril.es
SUMMARY:La alcaldesa de Motril\, Luisa García Chamorro\, junto con el concejal de Fiestas y Eventos\, Gerardo Romano\, y la concejal de Comercio\, Susana Peña\, asisten al encuentro de juegos de mesa Ludiverso.
DESCRIPTION:
URL:https://transparencia.motril.es/evento/la-alcaldesa-de-motril-luisa-garcia-chamorro-junto-con-el-concejal-de-fiestas-y-eventos-gerardo-romano-y-la-concejal-de-comercio-susana-pena-asisten-al-encuentro-de-juegos-de-mesa-ludiverso/
LOCATION:Pabellón de Deportes
END:VEVENT
END:VCALENDAR