BEGIN:VCALENDAR
VERSION:2.0
PRODID:-//Ayuntamiento de Motril. Transparencia - ECPv6.15.20//NONSGML v1.0//EN
CALSCALE:GREGORIAN
METHOD:PUBLISH
X-WR-CALNAME:Ayuntamiento de Motril. Transparencia
X-ORIGINAL-URL:https://transparencia.motril.es
X-WR-CALDESC:Eventos para Ayuntamiento de Motril. Transparencia
REFRESH-INTERVAL;VALUE=DURATION:PT1H
X-Robots-Tag:noindex
X-PUBLISHED-TTL:PT1H
BEGIN:VTIMEZONE
TZID:UTC
BEGIN:STANDARD
TZOFFSETFROM:+0000
TZOFFSETTO:+0000
TZNAME:UTC
DTSTART:20220101T000000
END:STANDARD
END:VTIMEZONE
BEGIN:VEVENT
DTSTART;TZID=UTC:20230608T093000
DTEND;TZID=UTC:20230608T093000
DTSTAMP:20260424T131936
CREATED:20230607T171635Z
LAST-MODIFIED:20230607T171635Z
UID:6674-1686216600-1686216600@transparencia.motril.es
SUMMARY:La alcaldesa de Motril\, Luisa García Chamorro\, asiste a las Jornadas de energía\, medio ambiente y salud.
DESCRIPTION:
URL:https://transparencia.motril.es/evento/la-alcaldesa-de-motril-luisa-garcia-chamorro-asiste-a-las-jornadas-de-energia-medio-ambiente-y-salud/
CATEGORIES:Actos
END:VEVENT
BEGIN:VEVENT
DTSTART;TZID=UTC:20230609T080000
DTEND;TZID=UTC:20230609T170000
DTSTAMP:20260424T131936
CREATED:20230609T111544Z
LAST-MODIFIED:20230609T111544Z
UID:6682-1686297600-1686330000@transparencia.motril.es
SUMMARY:La alcaldesa de Motril\, Luisa García Chamorro\, asiste a la salida de la XXVII concentración de motos clásicas.
DESCRIPTION:
URL:https://transparencia.motril.es/evento/la-alcaldesa-de-motril-luisa-garcia-chamorro-asiste-a-la-salida-de-la-xxvii-concentracion-de-motos-clasicas/
END:VEVENT
BEGIN:VEVENT
DTSTART;TZID=UTC:20230609T203000
DTEND;TZID=UTC:20230609T203000
DTSTAMP:20260424T131936
CREATED:20230609T103148Z
LAST-MODIFIED:20230609T103148Z
UID:6678-1686342600-1686342600@transparencia.motril.es
SUMMARY:La alcaldesa de Motril\, Luisa García Chamorro\, asiste a la actuación de la Escuela de Baile Virgen de las Angustias ‘Esencia de abril’
DESCRIPTION:
URL:https://transparencia.motril.es/evento/la-alcaldesa-de-motril-luisa-garcia-chamorro-asiste-a-la-actuacion-de-la-escuela-de-baile-virgen-de-las-angustias-esencia-de-abril/
CATEGORIES:Actos
END:VEVENT
BEGIN:VEVENT
DTSTART;TZID=UTC:20230610T193000
DTEND;TZID=UTC:20230610T193000
DTSTAMP:20260424T131936
CREATED:20230609T111332Z
LAST-MODIFIED:20230609T111332Z
UID:6680-1686425400-1686425400@transparencia.motril.es
SUMMARY:La alcaldesa de Motril\, Luisa García Chamorro\, junto a miembros del equipo de gobierno\, asiste a la salida de la Media Maratón Internacional de Motril
DESCRIPTION:
URL:https://transparencia.motril.es/evento/la-alcaldesa-de-motril-luisa-garcia-chamorro-junto-a-miembros-del-equipo-de-gobierno-asiste-a-la-salida-de-la-media-maraton-internacional-de-motril/
CATEGORIES:Actos,Deportes
END:VEVENT
BEGIN:VEVENT
DTSTART;TZID=UTC:20230611T103000
DTEND;TZID=UTC:20230611T103000
DTSTAMP:20260424T131936
CREATED:20230609T111708Z
LAST-MODIFIED:20230609T111708Z
UID:6684-1686479400-1686479400@transparencia.motril.es
SUMMARY:La alcaldesa de Motril\, Luisa García Chamorro\, asiste al XVII Festival Aéreo Internacional Ciudad de Motril - Costa Tropical de Granada
DESCRIPTION:
URL:https://transparencia.motril.es/evento/la-alcaldesa-de-motril-luisa-garcia-chamorro-asiste-al-xvii-festival-aereo-internacional-ciudad-de-motril-costa-tropical-de-granada/
CATEGORIES:Actos
END:VEVENT
BEGIN:VEVENT
DTSTART;TZID=UTC:20230612T093000
DTEND;TZID=UTC:20230612T093000
DTSTAMP:20260424T131936
CREATED:20230612T072642Z
LAST-MODIFIED:20230612T072642Z
UID:6686-1686562200-1686562200@transparencia.motril.es
SUMMARY:Reunión interna
DESCRIPTION:
URL:https://transparencia.motril.es/evento/reunion-interna-257/
CATEGORIES:Reunión
END:VEVENT
BEGIN:VEVENT
DTSTART;TZID=UTC:20230612T110000
DTEND;TZID=UTC:20230612T110000
DTSTAMP:20260424T131936
CREATED:20230612T072734Z
LAST-MODIFIED:20230612T072734Z
UID:6688-1686567600-1686567600@transparencia.motril.es
SUMMARY:Reunión interna
DESCRIPTION:
URL:https://transparencia.motril.es/evento/reunion-interna-258/
CATEGORIES:Reunión
END:VEVENT
BEGIN:VEVENT
DTSTART;TZID=UTC:20230613T093000
DTEND;TZID=UTC:20230613T093000
DTSTAMP:20260424T131936
CREATED:20230612T092118Z
LAST-MODIFIED:20230612T092118Z
UID:6691-1686648600-1686648600@transparencia.motril.es
SUMMARY:Reunión interna
DESCRIPTION:
URL:https://transparencia.motril.es/evento/reunion-interna-259/
CATEGORIES:Reunión
END:VEVENT
BEGIN:VEVENT
DTSTART;TZID=UTC:20230613T130000
DTEND;TZID=UTC:20230613T130000
DTSTAMP:20260424T131936
CREATED:20230612T092220Z
LAST-MODIFIED:20230612T092220Z
UID:6693-1686661200-1686661200@transparencia.motril.es
SUMMARY:Reunión interna
DESCRIPTION:
URL:https://transparencia.motril.es/evento/reunion-interna-260/
CATEGORIES:Reunión
END:VEVENT
BEGIN:VEVENT
DTSTART;TZID=UTC:20230614T090000
DTEND;TZID=UTC:20230614T090000
DTSTAMP:20260424T131936
CREATED:20230614T103848Z
LAST-MODIFIED:20230614T103848Z
UID:6699-1686733200-1686733200@transparencia.motril.es
SUMMARY:La alcaldesa de Motril\, Luisa García Chamorro\, y el teniente de alcalde de Agricultura\, Antonio Escámez\, asisten a la inauguración de las II Jornadas técnicas de subtropicales
DESCRIPTION:
URL:https://transparencia.motril.es/evento/la-alcaldesa-de-motril-luisa-garcia-chamorro-y-el-teniente-de-alcalde-de-agricultura-antonio-escamez-asisten-a-la-inauguracion-de-las-ii-jornadas-tecnicas-de-subtropicales/
CATEGORIES:Actos,Agricultura
END:VEVENT
BEGIN:VEVENT
DTSTART;TZID=UTC:20230614T210000
DTEND;TZID=UTC:20230614T210000
DTSTAMP:20260424T131936
CREATED:20230614T104128Z
LAST-MODIFIED:20230614T104128Z
UID:6701-1686776400-1686776400@transparencia.motril.es
SUMMARY:La alcaldesa de Motril\, Luisa García Chamorro\, y el concejal de Deportes\, Daniel Ortega\, asisten a la entrega de premios del I Torneo de Fútbol inclusivo Ciudad de Motril
DESCRIPTION:
URL:https://transparencia.motril.es/evento/la-alcaldesa-de-motril-luisa-garcia-chamorro-y-el-concejal-de-deportes-daniel-ortega-asisten-a-la-entrega-de-premios-del-i-torneo-de-futbol-inclusivo-ciudad-de-motril/
CATEGORIES:Actos,Deportes
END:VEVENT
BEGIN:VEVENT
DTSTART;TZID=UTC:20230615T100000
DTEND;TZID=UTC:20230615T100000
DTSTAMP:20260424T131936
CREATED:20230614T105120Z
LAST-MODIFIED:20230614T105120Z
UID:6703-1686823200-1686823200@transparencia.motril.es
SUMMARY:La alcaldesa de Motril\, Luisa García Chamorro\, y la teniente de alcalde de Acción Social\, Inmaculada Torres\, asisten al programa ‘Semana grupo social Once’.
DESCRIPTION:
URL:https://transparencia.motril.es/evento/la-alcaldesa-de-motril-luisa-garcia-chamorro-y-la-teniente-de-alcalde-de-accion-social-inmaculada-torres-asisten-al-programa-semana-grupo-social-once/
CATEGORIES:Acción Social,Actos
END:VEVENT
BEGIN:VEVENT
DTSTART;VALUE=DATE:20231119
DTEND;VALUE=DATE:20231120
DTSTAMP:20260424T131936
CREATED:20240206T114624Z
LAST-MODIFIED:20240206T114624Z
UID:7504-1700352000-1700438399@transparencia.motril.es
SUMMARY:La alcaldesa de Motril\, Luisa García Chamorro\, junto con miembros del Gobierno municipal\, asisten a XII Trofeo Benéfico de Fútbol Sala de Run & Run Motril.
DESCRIPTION:
URL:https://transparencia.motril.es/evento/la-alcaldesa-de-motril-luisa-garcia-chamorro-junto-con-miembros-del-gobierno-municipal-asisten-a-xii-trofeo-benefico-de-futbol-sala-de-run-run-motril-2/
LOCATION:Puerto de Motril
CATEGORIES:Deportes
END:VEVENT
BEGIN:VEVENT
DTSTART;TZID=UTC:20231119T113000
DTEND;TZID=UTC:20231119T120000
DTSTAMP:20260424T131936
CREATED:20240201T112116Z
LAST-MODIFIED:20240201T112116Z
UID:7469-1700393400-1700395200@transparencia.motril.es
SUMMARY:La alcaldesa de Motril\, Luisa García Chamorro\, junto con miembros del Gobierno municipal\, asisten a XII Trofeo Benéfico de Fútbol Sala de Run & Run Motril.
DESCRIPTION:Pista deportiva de la Autoridad Portuaria de Motril
URL:https://transparencia.motril.es/evento/la-alcaldesa-de-motril-luisa-garcia-chamorro-junto-con-miembros-del-gobierno-municipal-asisten-a-xii-trofeo-benefico-de-futbol-sala-de-run-run-motril/
END:VEVENT
BEGIN:VEVENT
DTSTART;VALUE=DATE:20231120
DTEND;VALUE=DATE:20231121
DTSTAMP:20260424T131936
CREATED:20240206T114702Z
LAST-MODIFIED:20240206T114702Z
UID:7506-1700438400-1700524799@transparencia.motril.es
SUMMARY:La alcaldesa de Motril\, Luisa García Chamorro\, asiste al acto de apoyo al ferrocarril.
DESCRIPTION:
URL:https://transparencia.motril.es/evento/la-alcaldesa-de-motril-luisa-garcia-chamorro-asiste-al-acto-de-apoyo-al-ferrocarril-2/
LOCATION:Edificio Azul Puerto de Motril
END:VEVENT
BEGIN:VEVENT
DTSTART;VALUE=DATE:20231120
DTEND;VALUE=DATE:20231121
DTSTAMP:20260424T131936
CREATED:20240206T114803Z
LAST-MODIFIED:20240206T114803Z
UID:7508-1700438400-1700524799@transparencia.motril.es
SUMMARY:La alcaldesa de Motril\, junto con el teniente de alcalde de Relaciones Instituciones\, José Peña\, reciben al general de división y jefe del sistema de vigilancia aeroespacial\, José Luis Ortiz-Cañavate Levenfeld.
DESCRIPTION:
URL:https://transparencia.motril.es/evento/la-alcaldesa-de-motril-junto-con-el-teniente-de-alcalde-de-relaciones-instituciones-jose-pena-reciben-al-general-de-division-y-jefe-del-sistema-de-vigilancia-aeroespacial-jose-luis-ortiz-canavate-2/
LOCATION:Salón de Protocolo\, Plaza de España\, 1\, Granada\, 18600\, España
CATEGORIES:Recepciones
END:VEVENT
BEGIN:VEVENT
DTSTART;TZID=UTC:20231120T100000
DTEND;TZID=UTC:20231120T110000
DTSTAMP:20260424T131936
CREATED:20240201T112328Z
LAST-MODIFIED:20240201T112328Z
UID:7471-1700474400-1700478000@transparencia.motril.es
SUMMARY:La alcaldesa de Motril\, Luisa García Chamorro\, asiste al acto de apoyo al ferrocarril.
DESCRIPTION:Sala de Consejo Autoridad Portuaria
URL:https://transparencia.motril.es/evento/la-alcaldesa-de-motril-luisa-garcia-chamorro-asiste-al-acto-de-apoyo-al-ferrocarril/
CATEGORIES:Actos
END:VEVENT
BEGIN:VEVENT
DTSTART;TZID=UTC:20231120T133000
DTEND;TZID=UTC:20231120T140000
DTSTAMP:20260424T131936
CREATED:20240201T112622Z
LAST-MODIFIED:20240201T112622Z
UID:7473-1700487000-1700488800@transparencia.motril.es
SUMMARY:La alcaldesa de Motril\, junto con el teniente de alcalde de Relaciones Instituciones\, José Peña\, reciben al general de división y jefe del sistema de vigilancia aeroespacial\, José Luis Ortiz-Cañavate Levenfeld.
DESCRIPTION:
URL:https://transparencia.motril.es/evento/la-alcaldesa-de-motril-junto-con-el-teniente-de-alcalde-de-relaciones-instituciones-jose-pena-reciben-al-general-de-division-y-jefe-del-sistema-de-vigilancia-aeroespacial-jose-luis-ortiz-canavate/
LOCATION:Salón de Protocolo\, Plaza de España\, 1\, Granada\, 18600\, España
END:VEVENT
BEGIN:VEVENT
DTSTART;TZID=UTC:20231121T110000
DTEND;TZID=UTC:20231121T120000
DTSTAMP:20260424T131936
CREATED:20240201T111826Z
LAST-MODIFIED:20240201T111826Z
UID:7467-1700564400-1700568000@transparencia.motril.es
SUMMARY:La alcaldesa de Motril\, Luisa García Chamorro\, junto al teniente de alcalde de Economía y Hacienda\, Nicolás Navarro\, y el teniente de alcalde de Urbanismo\, Antonio Escámez\, presentan los presupuestos para el año 2024.
DESCRIPTION:
URL:https://transparencia.motril.es/evento/la-alcaldesa-de-motril-luisa-garcia-chamorro-junto-al-teniente-de-alcalde-de-economia-y-hacienda-nicolas-navarro-y-el-teniente-de-alcalde-de-urbanismo-antonio-escamez-presentan-los-presupuestos/
LOCATION:Salón de Protocolo\, Plaza de España\, 1\, Granada\, 18600\, España
END:VEVENT
BEGIN:VEVENT
DTSTART;TZID=UTC:20231122T180000
DTEND;TZID=UTC:20231122T190000
DTSTAMP:20260424T131936
CREATED:20240201T111642Z
LAST-MODIFIED:20240201T111642Z
UID:7465-1700676000-1700679600@transparencia.motril.es
SUMMARY:La alcaldesa de Motril\, Luisa García Chamorro\, junto con la teniente de alcalde de Acción Social\, Inmaculada Torres\, asisten al Consejo Local de Infancia y Adolescencia.
DESCRIPTION:
URL:https://transparencia.motril.es/evento/la-alcaldesa-de-motril-luisa-garcia-chamorro-junto-con-la-teniente-de-alcalde-de-accion-social-inmaculada-torres-asisten-al-consejo-local-de-infancia-y-adolescencia/
LOCATION:Salón de Plenos\, Plaza de España\, 1\, Granada\, 18600\, España
END:VEVENT
BEGIN:VEVENT
DTSTART;TZID=UTC:20231123T173000
DTEND;TZID=UTC:20231123T183000
DTSTAMP:20260424T131936
CREATED:20240201T110831Z
LAST-MODIFIED:20240201T110831Z
UID:7461-1700760600-1700764200@transparencia.motril.es
SUMMARY:La alcaldesa de Motril\, Luisa García Chamorro\, junto con la teniente de alcalde de Igualdad\, Inmaculada Torres\, y miembros de la corporación municipal\, asisten a las III Jornadas Jurídicas sobre Violencia de Género.
DESCRIPTION:
URL:https://transparencia.motril.es/evento/la-alcaldesa-de-motril-luisa-garcia-chamorro-junto-con-la-teniente-de-alcalde-de-igualdad-inmaculada-torres-y-miembros-de-la-corporacion-municipal-asisten-a-las-iii-jornadas-juridicas-sobre-viole/
LOCATION:Teatro Calderón de la Barca\, Plaza Paulino Bellido\, s/n\, Motril\, Granada\, 18600\, España
END:VEVENT
BEGIN:VEVENT
DTSTART;TZID=UTC:20231123T193000
DTEND;TZID=UTC:20231123T203000
DTSTAMP:20260424T131936
CREATED:20240201T111220Z
LAST-MODIFIED:20240201T111220Z
UID:7463-1700767800-1700771400@transparencia.motril.es
SUMMARY:La alcaldesa de Motril\, Luisa García Chamorro\, junto con miembros del Gobierno municipal\, asisten al acto institucional de presentación de la Cámara de Comercio de Motril.
DESCRIPTION:Coworking Digital Motril Conecta
URL:https://transparencia.motril.es/evento/la-alcaldesa-de-motril-luisa-garcia-chamorro-junto-con-miembros-del-gobierno-municipal-asisten-al-acto-institucional-de-presentacion-de-la-camara-de-comercio-de-motril/
END:VEVENT
BEGIN:VEVENT
DTSTART;TZID=UTC:20231124T110000
DTEND;TZID=UTC:20231124T113000
DTSTAMP:20260424T131936
CREATED:20240201T110329Z
LAST-MODIFIED:20240201T110329Z
UID:7455-1700823600-1700825400@transparencia.motril.es
SUMMARY:La alcaldesa de Motril\, Luisa García Chamorro\, junto con la teniente de alcalde de Igualdad\, Inmaculada Torres\, asisten al acto con motivo del Día Internacional contra la Violencia de Género.
DESCRIPTION:
URL:https://transparencia.motril.es/evento/la-alcaldesa-de-motril-luisa-garcia-chamorro-junto-con-la-teniente-de-alcalde-de-igualdad-inmaculada-torres-asisten-al-acto-con-motivo-del-dia-internacional-contra-la-violencia-de-genero/
LOCATION:Teatro Calderón de la Barca\, Plaza Paulino Bellido\, s/n\, Motril\, Granada\, 18600\, España
CATEGORIES:Acción Social
END:VEVENT
BEGIN:VEVENT
DTSTART;TZID=UTC:20231124T120000
DTEND;TZID=UTC:20231124T130000
DTSTAMP:20260424T131936
CREATED:20240201T110510Z
LAST-MODIFIED:20240201T110510Z
UID:7457-1700827200-1700830800@transparencia.motril.es
SUMMARY:La alcaldesa de Motril\, Luisa García Chamorro\, junto con el teniente de alcalde de Medioambiente\, Antonio Escámez\, reciben al delegado de Gran Consumo y GNV Zona Sur\, Francisco Bueno Nieto.
DESCRIPTION:
URL:https://transparencia.motril.es/evento/la-alcaldesa-de-motril-luisa-garcia-chamorro-junto-con-el-teniente-de-alcalde-de-medioambiente-antonio-escamez-reciben-al-delegado-de-gran-consumo-y-gnv-zona-sur-francisco-bueno-nieto/
LOCATION:Sala de Protocolo\, Ayuntamiento de Motril. Plaza de España\, 1\, 18600\, Granada\, 18600\, España
END:VEVENT
BEGIN:VEVENT
DTSTART;TZID=UTC:20231124T130000
DTEND;TZID=UTC:20231124T140000
DTSTAMP:20260424T131936
CREATED:20240201T110646Z
LAST-MODIFIED:20240201T110646Z
UID:7459-1700830800-1700834400@transparencia.motril.es
SUMMARY:La alcaldesa de Motril\, Luisa García Chamorro\, junto con la concejal encargada del área de Salud\, Susana Peña\, reciben al presidente del Colegio de Enfermería de Granada\, Jacinto Escobar.
DESCRIPTION:
URL:https://transparencia.motril.es/evento/la-alcaldesa-de-motril-luisa-garcia-chamorro-junto-con-la-concejal-encargada-del-area-de-salud-susana-pena-reciben-al-presidente-del-colegio-de-enfermeria-de-granada-jacinto-escobar/
LOCATION:Sala de Protocolo\, Ayuntamiento de Motril. Plaza de España\, 1\, 18600\, Granada\, 18600\, España
CATEGORIES:Recepciones
END:VEVENT
BEGIN:VEVENT
DTSTART;TZID=UTC:20231125T183000
DTEND;TZID=UTC:20231125T193000
DTSTAMP:20260424T131936
CREATED:20240201T105725Z
LAST-MODIFIED:20240201T105725Z
UID:7451-1700937000-1700940600@transparencia.motril.es
SUMMARY:La alcaldesa de Motril\, Luisa García Chamorro\, y miembros del Gobierno municipal\, asisten al concierto de la zambra flamenca a cargo del grupo ‘El Templo del Flamenco’.
DESCRIPTION:
URL:https://transparencia.motril.es/evento/la-alcaldesa-de-motril-luisa-garcia-chamorro-y-miembros-del-gobierno-municipal-asisten-al-concierto-de-la-zambra-flamenca-a-cargo-del-grupo-el-templo-del-flamenco/
LOCATION:Fábrica de Nuestra Señora del Pilar\, Motril\, Granada\, 18600\, España
CATEGORIES:Actos
END:VEVENT
BEGIN:VEVENT
DTSTART;TZID=UTC:20231125T190000
DTEND;TZID=UTC:20231125T203000
DTSTAMP:20260424T131936
CREATED:20240201T110130Z
LAST-MODIFIED:20240201T110130Z
UID:7453-1700938800-1700944200@transparencia.motril.es
SUMMARY:La alcaldesa de Motril\, Luisa García Chamorro\, junto con el teniente de alcalde de Deportes\, Daniel Ortega\, asisten a la presentación de 16 equipos del Club Baloncesto Costa Motril.
DESCRIPTION:
URL:https://transparencia.motril.es/evento/la-alcaldesa-de-motril-luisa-garcia-chamorro-junto-con-el-teniente-de-alcalde-de-deportes-daniel-ortega-asisten-a-la-presentacion-de-16-equipos-del-club-baloncesto-costa-motril/
LOCATION:Pabellón de Deportes
CATEGORIES:Deportes
END:VEVENT
BEGIN:VEVENT
DTSTART;TZID=UTC:20231128T093000
DTEND;TZID=UTC:20231128T120000
DTSTAMP:20260424T131936
CREATED:20240201T105502Z
LAST-MODIFIED:20240201T105502Z
UID:7449-1701163800-1701172800@transparencia.motril.es
SUMMARY:La corporación municipal celebra sesión plenaria ordinaria.
DESCRIPTION:
URL:https://transparencia.motril.es/evento/la-corporacion-municipal-celebra-sesion-plenaria-ordinaria-3/
LOCATION:Salón de Plenos de la Casa Consistorial\, PLAZA DE ESPAÑA\, 1\, MOTRIL\, Granada\, 18600\, España
END:VEVENT
BEGIN:VEVENT
DTSTART;TZID=UTC:20231129T090000
DTEND;TZID=UTC:20231129T100000
DTSTAMP:20260424T131936
CREATED:20240201T094116Z
LAST-MODIFIED:20240201T094116Z
UID:7439-1701248400-1701252000@transparencia.motril.es
SUMMARY:La alcaldesa de Motril\, Luisa García Chamorro\, junto con la teniente de alcalde de Formación y Empleo\, María Ángeles Escámez\, asisten a las I Jornadas Tecnológicas y de Emprendimiento.
DESCRIPTION:IES Francisco Javier De Burgos
URL:https://transparencia.motril.es/evento/la-alcaldesa-de-motril-luisa-garcia-chamorro-junto-con-la-teniente-de-alcalde-de-formacion-y-empleo-maria-angeles-escamez-asisten-a-las-i-jornadas-tecnologicas-y-de-emprendimiento/
CATEGORIES:Formación y Empleo
END:VEVENT
BEGIN:VEVENT
DTSTART;TZID=UTC:20231129T100000
DTEND;TZID=UTC:20231129T103000
DTSTAMP:20260424T131936
CREATED:20240201T094339Z
LAST-MODIFIED:20240201T094339Z
UID:7441-1701252000-1701253800@transparencia.motril.es
SUMMARY:La alcaldesa de Motril\, Luisa García Chamorro\, junto con el concejal de Parques y Jardines\, Daniel Ortega\, visitan la plantación de pascueros.
DESCRIPTION:Vivero municipal de Motril.
URL:https://transparencia.motril.es/evento/la-alcaldesa-de-motril-luisa-garcia-chamorro-junto-con-el-concejal-de-parques-y-jardines-daniel-ortega-visitan-la-plantacion-de-pascueros/
CATEGORIES:Parques y Jardines
END:VEVENT
END:VCALENDAR