BEGIN:VCALENDAR
VERSION:2.0
PRODID:-//Ayuntamiento de Motril. Transparencia - ECPv6.15.20//NONSGML v1.0//EN
CALSCALE:GREGORIAN
METHOD:PUBLISH
X-WR-CALNAME:Ayuntamiento de Motril. Transparencia
X-ORIGINAL-URL:https://transparencia.motril.es
X-WR-CALDESC:Eventos para Ayuntamiento de Motril. Transparencia
REFRESH-INTERVAL;VALUE=DURATION:PT1H
X-Robots-Tag:noindex
X-PUBLISHED-TTL:PT1H
BEGIN:VTIMEZONE
TZID:UTC
BEGIN:STANDARD
TZOFFSETFROM:+0000
TZOFFSETTO:+0000
TZNAME:UTC
DTSTART:20210101T000000
END:STANDARD
END:VTIMEZONE
BEGIN:VEVENT
DTSTART;TZID=UTC:20221020T093000
DTEND;TZID=UTC:20221020T093000
DTSTAMP:20260424T125544
CREATED:20221019T131647Z
LAST-MODIFIED:20221019T131647Z
UID:4919-1666258200-1666258200@transparencia.motril.es
SUMMARY:Reunión interna
DESCRIPTION:
URL:https://transparencia.motril.es/evento/reunion-interna-108/
CATEGORIES:Reunión
END:VEVENT
BEGIN:VEVENT
DTSTART;TZID=UTC:20221020T100000
DTEND;TZID=UTC:20221020T100000
DTSTAMP:20260424T125544
CREATED:20221019T131830Z
LAST-MODIFIED:20221019T131830Z
UID:4921-1666260000-1666260000@transparencia.motril.es
SUMMARY:La alcaldesa de Motril\, Luisa García Chamorro\, junto a la teniente de alcalde de Acción social\, Inmaculada Torres\, presentan el certamen de arte Diverso.
DESCRIPTION:
URL:https://transparencia.motril.es/evento/la-alcaldesa-de-motril-luisa-garcia-chamorro-junto-a-la-teniente-de-alcalde-de-accion-social-inmaculada-torres-presentan-el-certamen-de-arte-diverso/
CATEGORIES:Acción Social,Actos
END:VEVENT
BEGIN:VEVENT
DTSTART;TZID=UTC:20221020T110000
DTEND;TZID=UTC:20221020T110000
DTSTAMP:20260424T125544
CREATED:20221019T132033Z
LAST-MODIFIED:20221019T132033Z
UID:4923-1666263600-1666263600@transparencia.motril.es
SUMMARY:La alcaldesa de Motril\, Luisa García Chamorro\, junto a la teniente de alcalde de Acción social\, Inmaculada Torres\, firma un convenio de Centro Gualdalinfo para el anejo de Varadero.
DESCRIPTION:
URL:https://transparencia.motril.es/evento/la-alcaldesa-de-motril-luisa-garcia-chamorro-junto-a-la-teniente-de-alcalde-de-accion-social-inmaculada-torres-firma-un-convenio-de-centro-gualdalinfo-para-el-anejo-de-varadero/
CATEGORIES:Actos
END:VEVENT
BEGIN:VEVENT
DTSTART;TZID=UTC:20221020T120000
DTEND;TZID=UTC:20221020T120000
DTSTAMP:20260424T125544
CREATED:20221019T132121Z
LAST-MODIFIED:20221019T132121Z
UID:4925-1666267200-1666267200@transparencia.motril.es
SUMMARY:Reunión interna
DESCRIPTION:
URL:https://transparencia.motril.es/evento/reunion-interna-109/
END:VEVENT
BEGIN:VEVENT
DTSTART;TZID=UTC:20221020T130000
DTEND;TZID=UTC:20221020T130000
DTSTAMP:20260424T125544
CREATED:20221019T132327Z
LAST-MODIFIED:20221019T132327Z
UID:4927-1666270800-1666270800@transparencia.motril.es
SUMMARY:La alcaldesa de Motril\, Luisa García Chamorro\, junto con varios miembros del equipo de gobierno\, asiste al stand que Cruz Roja instala en la Plaza de la Aurora con motivo del Día de la banderita.
DESCRIPTION:
URL:https://transparencia.motril.es/evento/la-alcaldesa-de-motril-luisa-garcia-chamorro-junto-con-varios-miembros-del-equipo-de-gobierno-asiste-al-stand-que-cruz-roja-instala-en-la-plaza-de-la-aurora-con-motivo-del-dia-de-la-banderita/
END:VEVENT
BEGIN:VEVENT
DTSTART;TZID=UTC:20221020T193000
DTEND;TZID=UTC:20221020T193000
DTSTAMP:20260424T125544
CREATED:20221019T132451Z
LAST-MODIFIED:20221019T132451Z
UID:4929-1666294200-1666294200@transparencia.motril.es
SUMMARY:La alcaldesa de Motril\, Luisa García Chamorro\, asiste al X aniversario del Club Cámara de Comercio de Granada.
DESCRIPTION:
URL:https://transparencia.motril.es/evento/la-alcaldesa-de-motril-luisa-garcia-chamorro-asiste-al-x-aniversario-del-club-camara-de-comercio-de-granada/
CATEGORIES:Actos,Comercio
END:VEVENT
BEGIN:VEVENT
DTSTART;TZID=UTC:20221024T103000
DTEND;TZID=UTC:20221024T103000
DTSTAMP:20260424T125544
CREATED:20221023T080120Z
LAST-MODIFIED:20221023T200506Z
UID:4931-1666607400-1666607400@transparencia.motril.es
SUMMARY:Reunión Delegación Cultura
DESCRIPTION:
URL:https://transparencia.motril.es/evento/reunion-interna-110/
CATEGORIES:Reunión
END:VEVENT
BEGIN:VEVENT
DTSTART;TZID=UTC:20221025T103000
DTEND;TZID=UTC:20221025T103000
DTSTAMP:20260424T125544
CREATED:20221024T113736Z
LAST-MODIFIED:20221024T113736Z
UID:4935-1666693800-1666693800@transparencia.motril.es
SUMMARY:La alcaldesa de Motril\, Luisa García Chamorro junto a la teniente de alcalde de Acción social\, Inmaculada Torres\, asiste a la clausura de los cursos de Afammer
DESCRIPTION:
URL:https://transparencia.motril.es/evento/la-alcaldesa-de-motril-luisa-garcia-chamorro-junto-a-la-teniente-de-alcalde-de-accion-social-inmaculada-torres-asiste-a-la-clausura-de-los-cursos-de-afammer/
CATEGORIES:Acción Social,Actos
END:VEVENT
BEGIN:VEVENT
DTSTART;TZID=UTC:20221025T120000
DTEND;TZID=UTC:20221025T120000
DTSTAMP:20260424T125544
CREATED:20221024T113914Z
LAST-MODIFIED:20221024T113914Z
UID:4937-1666699200-1666699200@transparencia.motril.es
SUMMARY:Reunión interna
DESCRIPTION:
URL:https://transparencia.motril.es/evento/reunion-interna-111/
CATEGORIES:Reunión
END:VEVENT
BEGIN:VEVENT
DTSTART;TZID=UTC:20221025T130000
DTEND;TZID=UTC:20221025T130000
DTSTAMP:20260424T125544
CREATED:20221024T114040Z
LAST-MODIFIED:20221024T114040Z
UID:4939-1666702800-1666702800@transparencia.motril.es
SUMMARY:Reunión interna
DESCRIPTION:
URL:https://transparencia.motril.es/evento/reunion-interna-112/
CATEGORIES:Reunión
END:VEVENT
BEGIN:VEVENT
DTSTART;TZID=UTC:20221025T203000
DTEND;TZID=UTC:20221025T203000
DTSTAMP:20260424T125544
CREATED:20221024T114330Z
LAST-MODIFIED:20221024T114330Z
UID:4941-1666729800-1666729800@transparencia.motril.es
SUMMARY:La alcaldesa de Motril\, Luisa García Chamorro\, junto a la concejala de Patrimonio Industrial del Azúcar\, Madelin Banqueri\, asiste a la inauguración de la exposición del I Certamen de Pintura rápida al aire libre
DESCRIPTION:
URL:https://transparencia.motril.es/evento/la-alcaldesa-de-motril-luisa-garcia-chamorro-junto-a-la-concejala-de-patrimonio-industrial-del-azucar-madelin-banqueri-asiste-a-la-inauguracion-de-la-exposicion-del-i-certamen-de-pintura-rapida-al/
CATEGORIES:Actos
END:VEVENT
BEGIN:VEVENT
DTSTART;TZID=UTC:20221026T100000
DTEND;TZID=UTC:20221026T100000
DTSTAMP:20260424T125544
CREATED:20221025T124951Z
LAST-MODIFIED:20221025T124951Z
UID:4950-1666778400-1666778400@transparencia.motril.es
SUMMARY:Reunión interna
DESCRIPTION:
URL:https://transparencia.motril.es/evento/reunion-interna-113/
CATEGORIES:Reunión
END:VEVENT
BEGIN:VEVENT
DTSTART;TZID=UTC:20221026T103000
DTEND;TZID=UTC:20221026T103000
DTSTAMP:20260424T125544
CREATED:20221025T124703Z
LAST-MODIFIED:20221025T124703Z
UID:4943-1666780200-1666780200@transparencia.motril.es
SUMMARY:La alcaldesa de Motril\, Luisa García Chamorro\, junto a varios miembros del equipo de gobierno\, visita el nuevo punto de carga de vehículos eléctricos
DESCRIPTION:
URL:https://transparencia.motril.es/evento/la-alcaldesa-de-motril-luisa-garcia-chamorro-junto-a-varios-miembros-del-equipo-de-gobierno-visita-el-nuevo-punto-de-carga-de-vehiculos-electricos/
CATEGORIES:Actos
END:VEVENT
BEGIN:VEVENT
DTSTART;TZID=UTC:20221026T113000
DTEND;TZID=UTC:20221026T113000
DTSTAMP:20260424T125544
CREATED:20221025T124754Z
LAST-MODIFIED:20221025T124754Z
UID:4945-1666783800-1666783800@transparencia.motril.es
SUMMARY:La alcaldesa de Motril\, Luisa García Chamorro\, junto a varios miembros del equipo de gobierno\, visita los actos del Día internacional del Daño adquirido
DESCRIPTION:
URL:https://transparencia.motril.es/evento/la-alcaldesa-de-motril-luisa-garcia-chamorro-junto-a-varios-miembros-del-equipo-de-gobierno-visita-los-actos-del-dia-internacional-del-dano-adquirido/
CATEGORIES:Acción Social
END:VEVENT
BEGIN:VEVENT
DTSTART;TZID=UTC:20221026T120000
DTEND;TZID=UTC:20221026T120000
DTSTAMP:20260424T125544
CREATED:20221025T124847Z
LAST-MODIFIED:20221025T124847Z
UID:4947-1666785600-1666785600@transparencia.motril.es
SUMMARY:La alcaldesa de Motril\, Luisa García Chamorro\, junto a varios miembros del equipo de gobierno\, visita el taller que realiza la asociación Mucho Corazón sobre técnicas de reanimación cardiopulmonar
DESCRIPTION:
URL:https://transparencia.motril.es/evento/la-alcaldesa-de-motril-luisa-garcia-chamorro-junto-a-varios-miembros-del-equipo-de-gobierno-visita-el-taller-que-realiza-la-asociacion-mucho-corazon-sobre-tecnicas-de-reanimacion-cardiopulmonar/
CATEGORIES:Acción Social
END:VEVENT
BEGIN:VEVENT
DTSTART;TZID=UTC:20221026T130000
DTEND;TZID=UTC:20221026T130000
DTSTAMP:20260424T125544
CREATED:20221025T125046Z
LAST-MODIFIED:20221025T125046Z
UID:4952-1666789200-1666789200@transparencia.motril.es
SUMMARY:Reunión interna
DESCRIPTION:
URL:https://transparencia.motril.es/evento/reunion-interna-114/
CATEGORIES:Reunión
END:VEVENT
BEGIN:VEVENT
DTSTART;TZID=UTC:20221027T100000
DTEND;TZID=UTC:20221027T100000
DTSTAMP:20260424T125544
CREATED:20221026T082611Z
LAST-MODIFIED:20221026T082611Z
UID:4955-1666864800-1666864800@transparencia.motril.es
SUMMARY:La alcaldesa de Motril\, Luisa García Chamorro\, junto a miembros del equipo de gobierno\, asiste a la colocación de una placa en homenaje a los mayores del municipio
DESCRIPTION:
URL:https://transparencia.motril.es/evento/la-alcaldesa-de-motril-luisa-garcia-chamorro-junto-a-miembros-del-equipo-de-gobierno-asiste-a-la-colocacion-de-una-placa-en-homenaje-a-los-mayores-del-municipio/
CATEGORIES:Actos
END:VEVENT
BEGIN:VEVENT
DTSTART;TZID=UTC:20221027T110000
DTEND;TZID=UTC:20221027T110000
DTSTAMP:20260424T125544
CREATED:20221026T082808Z
LAST-MODIFIED:20221026T082808Z
UID:4957-1666868400-1666868400@transparencia.motril.es
SUMMARY:Reunión interna
DESCRIPTION:
URL:https://transparencia.motril.es/evento/reunion-interna-115/
CATEGORIES:Reunión
END:VEVENT
BEGIN:VEVENT
DTSTART;TZID=UTC:20221027T123000
DTEND;TZID=UTC:20221027T123000
DTSTAMP:20260424T125544
CREATED:20221026T083014Z
LAST-MODIFIED:20221026T083014Z
UID:4959-1666873800-1666873800@transparencia.motril.es
SUMMARY:La alcaldesa de Motril\, Luisa García Chamorro y el teniente de alcalde de Agricultura\, Antonio Escámez\, visitan caminos rurales.
DESCRIPTION:
URL:https://transparencia.motril.es/evento/la-alcaldesa-de-motril-luisa-garcia-chamorro-y-el-teniente-de-alcalde-de-agricultura-antonio-escamez-visitan-caminos-rurales/
CATEGORIES:Agricultura
END:VEVENT
BEGIN:VEVENT
DTSTART;TZID=UTC:20221027T203000
DTEND;TZID=UTC:20221027T203000
DTSTAMP:20260424T125544
CREATED:20221026T083229Z
LAST-MODIFIED:20221026T083229Z
UID:4961-1666902600-1666902600@transparencia.motril.es
SUMMARY:La alcaldesa de Motril\, Luisa García Chamorro y miembros del equipo de gobierno asisten a la convocatoria de la Plataforma por las Infraestructuras.
DESCRIPTION:
URL:https://transparencia.motril.es/evento/la-alcaldesa-de-motril-luisa-garcia-chamorro-y-miembros-del-equipo-de-gobierno-asisten-a-la-convocatoria-de-la-plataforma-por-las-infraestructuras/
CATEGORIES:Actos
END:VEVENT
BEGIN:VEVENT
DTSTART;TZID=UTC:20221028T093000
DTEND;TZID=UTC:20221028T093000
DTSTAMP:20260424T125544
CREATED:20221027T085639Z
LAST-MODIFIED:20221027T085639Z
UID:4963-1666949400-1666949400@transparencia.motril.es
SUMMARY:La corporación municipal celebra pleno ordinario.
DESCRIPTION:
URL:https://transparencia.motril.es/evento/la-corporacion-municipal-celebra-pleno-ordinario/
CATEGORIES:Pleno
END:VEVENT
BEGIN:VEVENT
DTSTART;TZID=UTC:20221028T130000
DTEND;TZID=UTC:20221028T130000
DTSTAMP:20260424T125544
CREATED:20221027T090025Z
LAST-MODIFIED:20221027T090025Z
UID:4968-1666962000-1666962000@transparencia.motril.es
SUMMARY:Reunión interna
DESCRIPTION:
URL:https://transparencia.motril.es/evento/reunion-interna-116/
CATEGORIES:Reunión
END:VEVENT
BEGIN:VEVENT
DTSTART;TZID=UTC:20221028T203000
DTEND;TZID=UTC:20221028T203000
DTSTAMP:20260424T125544
CREATED:20221027T090210Z
LAST-MODIFIED:20221027T090210Z
UID:4970-1666989000-1666989000@transparencia.motril.es
SUMMARY:La alcaldesa de Motril\, Luisa García Chamorro\, asiste a la recepción que realiza el Real Club Náutico a los regatistas que participan este fin de semana en el Campeonato de Europa mixto de vela.
DESCRIPTION:
URL:https://transparencia.motril.es/evento/la-alcaldesa-de-motril-luisa-garcia-chamorro-asiste-a-la-recepcion-que-realiza-el-real-club-nautico-a-los-regatistas-que-participan-este-fin-de-semana-en-el-campeonato-de-europa-mixto-de-vela/
END:VEVENT
BEGIN:VEVENT
DTSTART;TZID=UTC:20221029T120000
DTEND;TZID=UTC:20221029T120000
DTSTAMP:20260424T125544
CREATED:20221027T091906Z
LAST-MODIFIED:20221027T091906Z
UID:4972-1667044800-1667044800@transparencia.motril.es
SUMMARY:La alcaldesa de Motril\, Luisa García Chamorro\, junto a varios miembros del equipo de gobierno\, asiste a la inauguración de la Feria de la Caza.
DESCRIPTION:
URL:https://transparencia.motril.es/evento/la-alcaldesa-de-motril-luisa-garcia-chamorro-junto-a-varios-miembros-del-equipo-de-gobierno-asiste-a-la-inauguracion-de-la-feria-de-la-caza/
CATEGORIES:Actos
END:VEVENT
BEGIN:VEVENT
DTSTART;TZID=UTC:20221029T190000
DTEND;TZID=UTC:20221029T190000
DTSTAMP:20260424T125544
CREATED:20221027T124036Z
LAST-MODIFIED:20221027T124036Z
UID:4974-1667070000-1667070000@transparencia.motril.es
SUMMARY:La alcaldesa de Motril\, Luisa García Chamorro\, junto a miembros del equipo de gobierno\, asiste al Pasaje del Terror organizado por el área de Juventud.
DESCRIPTION:
URL:https://transparencia.motril.es/evento/la-alcaldesa-de-motril-luisa-garcia-chamorro-junto-a-miembros-del-equipo-de-gobierno-asiste-al-pasaje-del-terror-organizado-por-el-area-de-juventud/
CATEGORIES:Actos
END:VEVENT
BEGIN:VEVENT
DTSTART;TZID=UTC:20221029T200000
DTEND;TZID=UTC:20221029T200000
DTSTAMP:20260424T125544
CREATED:20221027T124242Z
LAST-MODIFIED:20221027T124242Z
UID:4976-1667073600-1667073600@transparencia.motril.es
SUMMARY:La alcaldesa de Motril\, Luisa García Chamorro\, junto a miembros del equipo de gobierno\, asiste a la presentación de las Memorias del médico y escritor motrileño Jesús Cabezas
DESCRIPTION:
URL:https://transparencia.motril.es/evento/la-alcaldesa-de-motril-luisa-garcia-chamorro-junto-a-miembros-del-equipo-de-gobierno-asiste-a-la-presentacion-de-las-memorias-del-medico-y-escritor-motrileno-jesus-cabezas/
CATEGORIES:Actos,Cultura
END:VEVENT
BEGIN:VEVENT
DTSTART;TZID=UTC:20221030T100000
DTEND;TZID=UTC:20221030T100000
DTSTAMP:20260424T125544
CREATED:20221027T124435Z
LAST-MODIFIED:20221027T124435Z
UID:4978-1667124000-1667124000@transparencia.motril.es
SUMMARY:La alcaldesa de Motril\, Luisa García Chamorro\, junto a miembros del equipo de gobierno\, asiste a la Media Maratón Ciudad de Motril.
DESCRIPTION:
URL:https://transparencia.motril.es/evento/la-alcaldesa-de-motril-luisa-garcia-chamorro-junto-a-miembros-del-equipo-de-gobierno-asiste-a-la-media-maraton-ciudad-de-motril/
CATEGORIES:Actos,Deportes
END:VEVENT
BEGIN:VEVENT
DTSTART;TZID=UTC:20221030T210000
DTEND;TZID=UTC:20221030T210000
DTSTAMP:20260424T125544
CREATED:20221027T124630Z
LAST-MODIFIED:20221027T124630Z
UID:4980-1667163600-1667163600@transparencia.motril.es
SUMMARY:La alcaldesa de Motril\, Luisa García Chamorro\, junto a miembros del equipo de gobierno\, asiste a la entrega de placas dentro de las fiestas del barrio de Los Álamos.
DESCRIPTION:
URL:https://transparencia.motril.es/evento/la-alcaldesa-de-motril-luisa-garcia-chamorro-junto-a-miembros-del-equipo-de-gobierno-asiste-a-la-entrega-de-placas-dentro-de-las-fiestas-del-barrio-de-los-alamos/
CATEGORIES:Actos
END:VEVENT
BEGIN:VEVENT
DTSTART;TZID=UTC:20221031T093000
DTEND;TZID=UTC:20221031T093000
DTSTAMP:20260424T125544
CREATED:20221031T104017Z
LAST-MODIFIED:20221031T104017Z
UID:4987-1667208600-1667208600@transparencia.motril.es
SUMMARY:La alcaldesa de Motril\, Luisa García Chamorro\, presenta la XXIII edición de la Subida al Conjuro
DESCRIPTION:
URL:https://transparencia.motril.es/evento/la-alcaldesa-de-motril-luisa-garcia-chamorro-presenta-la-xxiii-edicion-de-la-subida-al-conjuro/
CATEGORIES:Actos,Deportes
END:VEVENT
BEGIN:VEVENT
DTSTART;TZID=UTC:20221031T113000
DTEND;TZID=UTC:20221031T113000
DTSTAMP:20260424T125544
CREATED:20221031T103851Z
LAST-MODIFIED:20221031T103851Z
UID:4985-1667215800-1667215800@transparencia.motril.es
SUMMARY:Reunión interna
DESCRIPTION:
URL:https://transparencia.motril.es/evento/reunion-interna-117/
CATEGORIES:Reunión
END:VEVENT
END:VCALENDAR