BEGIN:VCALENDAR
VERSION:2.0
PRODID:-//Ayuntamiento de Motril. Transparencia - ECPv6.15.20//NONSGML v1.0//EN
CALSCALE:GREGORIAN
METHOD:PUBLISH
X-WR-CALNAME:Ayuntamiento de Motril. Transparencia
X-ORIGINAL-URL:https://transparencia.motril.es
X-WR-CALDESC:Eventos para Ayuntamiento de Motril. Transparencia
REFRESH-INTERVAL;VALUE=DURATION:PT1H
X-Robots-Tag:noindex
X-PUBLISHED-TTL:PT1H
BEGIN:VTIMEZONE
TZID:UTC
BEGIN:STANDARD
TZOFFSETFROM:+0000
TZOFFSETTO:+0000
TZNAME:UTC
DTSTART:20210101T000000
END:STANDARD
END:VTIMEZONE
BEGIN:VEVENT
DTSTART;TZID=UTC:20220802T100000
DTEND;TZID=UTC:20220802T100000
DTSTAMP:20260424T160420
CREATED:20220801T110842Z
LAST-MODIFIED:20220801T110842Z
UID:4327-1659434400-1659434400@transparencia.motril.es
SUMMARY:La alcaldesa de Motril\, Luisa García Chamorro\, asiste al acto de Toma de Posesión del Sr. Comandante\, Miguel Antonio Castro\, como Jefe del Escuadrón de Vigilancia Aérea nº9
DESCRIPTION:
URL:https://transparencia.motril.es/evento/la-alcaldesa-de-motril-luisa-garcia-chamorro-asiste-al-acto-de-toma-de-posesion-del-sr-comandante-miguel-antonio-castro-como-jefe-del-escuadron-de-vigilancia-aerea-no9/
LOCATION:Monte Conjuro
END:VEVENT
BEGIN:VEVENT
DTSTART;TZID=UTC:20220802T130000
DTEND;TZID=UTC:20220802T130000
DTSTAMP:20260424T160420
CREATED:20220801T114503Z
LAST-MODIFIED:20220801T114503Z
UID:4330-1659445200-1659445200@transparencia.motril.es
SUMMARY:La alcaldesa de Motril\, Luisa García Chamorro\, recibe a Daniel Moragues\, campeón de skate en Holanda
DESCRIPTION:
URL:https://transparencia.motril.es/evento/la-alcaldesa-de-motril-luisa-garcia-chamorro-recibe-a-daniel-moragues-campeon-de-skate-en-holanda/
LOCATION:Salón de Protocolo\, Plaza de España\, 1\, Granada\, 18600\, España
END:VEVENT
BEGIN:VEVENT
DTSTART;TZID=UTC:20220803T100000
DTEND;TZID=UTC:20220803T100000
DTSTAMP:20260424T160420
CREATED:20220802T104620Z
LAST-MODIFIED:20220802T104620Z
UID:4332-1659520800-1659520800@transparencia.motril.es
SUMMARY:La alcaldesa de Motril\, Luisa García Chamorro\, junto con la concejal de Comercio\, Susana Peña\, visitan la cafetería MD
DESCRIPTION:
URL:https://transparencia.motril.es/evento/la-alcaldesa-de-motril-luisa-garcia-chamorro-junto-con-la-concejal-de-comercio-susana-pena-visitan-la-cafeteria-md/
LOCATION:Carretera de la Celulosa\, 14
END:VEVENT
BEGIN:VEVENT
DTSTART;TZID=UTC:20220803T113000
DTEND;TZID=UTC:20220803T113000
DTSTAMP:20260424T160420
CREATED:20220802T104649Z
LAST-MODIFIED:20220802T104649Z
UID:4335-1659526200-1659526200@transparencia.motril.es
SUMMARY:La alcaldesa de Motril\, Luisa García Chamorro\, recibe a los niños saharauis que han pasado este verano en Motril.
DESCRIPTION:
URL:https://transparencia.motril.es/evento/la-alcaldesa-de-motril-luisa-garcia-chamorro-recibe-a-los-ninos-saharauis-que-han-pasado-este-verano-en-motril/
LOCATION:Salón de Protocolo\, Plaza de España\, 1\, Granada\, 18600\, España
END:VEVENT
BEGIN:VEVENT
DTSTART;TZID=UTC:20220805T200000
DTEND;TZID=UTC:20220805T200000
DTSTAMP:20260424T160420
CREATED:20220804T110805Z
LAST-MODIFIED:20220804T110805Z
UID:4340-1659729600-1659729600@transparencia.motril.es
SUMMARY:La alcaldesa de Motril\, Luisa García Chamorro\, y miembros del equipo de Gobierno asisten a la misa y el pregón en honor a Nuestra Señora de la Cabeza
DESCRIPTION:
URL:https://transparencia.motril.es/evento/la-alcaldesa-de-motril-luisa-garcia-chamorro-y-miembros-del-equipo-de-gobierno-asisten-a-la-misa-y-el-pregon-en-honor-a-nuestra-senora-de-la-cabeza/
LOCATION:Santuario de Ntra. Sra. de la Cabeza
END:VEVENT
BEGIN:VEVENT
DTSTART;TZID=UTC:20220812T120000
DTEND;TZID=UTC:20220812T120000
DTSTAMP:20260424T160420
CREATED:20220811T161734Z
LAST-MODIFIED:20220811T161734Z
UID:4349-1660305600-1660305600@transparencia.motril.es
SUMMARY:La alcaldesa asiste al pasacalles flamenco de las escuelas de baile de Mercedes Martín y Virgen de las Angustias
DESCRIPTION:
URL:https://transparencia.motril.es/evento/la-alcaldesa-asiste-al-pasacalles-flamenco-de-las-escuelas-de-baile-de-mercedes-martin-y-virgen-de-las-angustias/
LOCATION:Plaza de España
END:VEVENT
BEGIN:VEVENT
DTSTART;TZID=UTC:20220812T200000
DTEND;TZID=UTC:20220812T200000
DTSTAMP:20260424T160420
CREATED:20220811T161920Z
LAST-MODIFIED:20220811T161920Z
UID:4351-1660334400-1660334400@transparencia.motril.es
SUMMARY:La alcaldesa asiste al Trofeo Ciudad de Motril
DESCRIPTION:
URL:https://transparencia.motril.es/evento/la-alcaldesa-asiste-al-trofeo-ciudad-de-motril/
LOCATION:Estadio Municipal Escribano Castilla
END:VEVENT
BEGIN:VEVENT
DTSTART;TZID=UTC:20220812T213000
DTEND;TZID=UTC:20220812T213000
DTSTAMP:20260424T160420
CREATED:20220811T162014Z
LAST-MODIFIED:20220811T162014Z
UID:4353-1660339800-1660339800@transparencia.motril.es
SUMMARY:La alcaldesa de Motril y miembros del equipo de Gobierno asisten a las actuaciones programadas con motivo del Día del Mayor
DESCRIPTION:
URL:https://transparencia.motril.es/evento/la-alcaldesa-de-motril-y-miembros-del-equipo-de-gobierno-asisten-a-las-actuaciones-programadas-con-motivo-del-dia-del-mayor/
LOCATION:Recinto Ferial de Motril
END:VEVENT
BEGIN:VEVENT
DTSTART;TZID=UTC:20220812T223000
DTEND;TZID=UTC:20220812T223000
DTSTAMP:20260424T160420
CREATED:20220811T162105Z
LAST-MODIFIED:20220811T162105Z
UID:4356-1660343400-1660343400@transparencia.motril.es
SUMMARY:La alcaldesa de Motril y miembros del equipo de Gobierno asisten a la Zarzuela 'La Caramba'
DESCRIPTION:
URL:https://transparencia.motril.es/evento/la-alcaldesa-de-motril-y-miembros-del-equipo-de-gobierno-asisten-a-la-zarzuela-la-caramba/
LOCATION:Colegio Virgen de la Cabeza
END:VEVENT
BEGIN:VEVENT
DTSTART;TZID=UTC:20220813T110000
DTEND;TZID=UTC:20220813T110000
DTSTAMP:20260424T160420
CREATED:20220812T183319Z
LAST-MODIFIED:20220812T183319Z
UID:4376-1660388400-1660388400@transparencia.motril.es
SUMMARY:La Alcaldesa de Motril acude a la fiesta infantil con colchones hinchables acuáticos con motivo de la Feria de Día
DESCRIPTION:
URL:https://transparencia.motril.es/evento/la-alcaldesa-de-motril-acude-a-la-fiesta-infantil-con-colchones-hinchables-acuaticos-con-motivo-de-la-feria-de-dia/
LOCATION:Plaza de España
END:VEVENT
BEGIN:VEVENT
DTSTART;TZID=UTC:20220813T203000
DTEND;TZID=UTC:20220813T203000
DTSTAMP:20260424T160420
CREATED:20220812T183529Z
LAST-MODIFIED:20220812T183529Z
UID:4378-1660422600-1660422600@transparencia.motril.es
SUMMARY:La Alcaldesa de Motril\, junto con el equipo de Gobierno\, acude a la ofrenda floral y de alimentos a Nuestra Señora de la Cabeza Coronada
DESCRIPTION:
URL:https://transparencia.motril.es/evento/la-alcaldesa-de-motril-junto-con-el-equipo-de-gobierno-acude-a-la-ofrenda-floral-y-de-alimentos-a-nuestra-senora-de-la-cabeza-coronada/
LOCATION:Santuario de Ntra. Sra. de la Cabeza
END:VEVENT
BEGIN:VEVENT
DTSTART;TZID=UTC:20220814T110000
DTEND;TZID=UTC:20220814T110000
DTSTAMP:20260424T160420
CREATED:20220812T183738Z
LAST-MODIFIED:20220812T183738Z
UID:4380-1660474800-1660474800@transparencia.motril.es
SUMMARY:La Alcaldesa de Motril acude a la Mesa informativa sobre la campaña de protección solar que realiza la Asociación Española Contra el Cáncer
DESCRIPTION:
URL:https://transparencia.motril.es/evento/la-alcaldesa-de-motril-acude-a-la-mesa-informativa-sobre-la-campana-de-proteccion-solar-que-realiza-la-asociacion-espanola-contra-el-cancer/
LOCATION:Playa Granada junto a Restaurante Los Moriscos
END:VEVENT
BEGIN:VEVENT
DTSTART;TZID=UTC:20220815T120000
DTEND;TZID=UTC:20220815T120000
DTSTAMP:20260424T160420
CREATED:20220812T184005Z
LAST-MODIFIED:20220812T184005Z
UID:4383-1660564800-1660564800@transparencia.motril.es
SUMMARY:La Alcaldesa de Motril acude a la Función Principal de Nuestra Señora de la Cabeza Coronada y posterior acto de imposición de mando y faja de Almirante por el motrileño Ignacio Villanueva Serrano
DESCRIPTION:
URL:https://transparencia.motril.es/evento/la-alcaldesa-de-motril-acude-a-la-funcion-principal-de-nuestra-senora-de-la-cabeza-coronada-y-posterior-acto-de-imposicion-de-mando-y-faja-de-almirante-por-el-motrileno-ignacio-villanueva-serrano/
LOCATION:Santuario de Ntra. Sra. de la Cabeza
END:VEVENT
BEGIN:VEVENT
DTSTART;TZID=UTC:20220815T133000
DTEND;TZID=UTC:20220815T133000
DTSTAMP:20260424T160420
CREATED:20220812T184132Z
LAST-MODIFIED:20220812T184133Z
UID:4385-1660570200-1660570200@transparencia.motril.es
SUMMARY:La Alcaldesa de Motril acude a la entrega de los premios de la 81 travesía a nado del Puerto de Motril
DESCRIPTION:
URL:https://transparencia.motril.es/evento/la-alcaldesa-de-motril-acude-a-la-entrega-de-los-premios-de-la-81-travesia-a-nado-del-puerto-de-motril/
LOCATION:Real Club Náutico\, Motril\, 18600\, España
END:VEVENT
BEGIN:VEVENT
DTSTART;TZID=UTC:20220815T210000
DTEND;TZID=UTC:20220815T210000
DTSTAMP:20260424T160420
CREATED:20220812T184248Z
LAST-MODIFIED:20220812T184248Z
UID:4387-1660597200-1660597200@transparencia.motril.es
SUMMARY:La Alcaldesa de Motril acude a la Procesión de Nuestra Señora de la Cabeza Coronada
DESCRIPTION:
URL:https://transparencia.motril.es/evento/la-alcaldesa-de-motril-acude-a-la-procesion-de-nuestra-senora-de-la-cabeza-coronada/
LOCATION:Santuario de Ntra. Sra. de la Cabeza
END:VEVENT
BEGIN:VEVENT
DTSTART;TZID=UTC:20220819T120000
DTEND;TZID=UTC:20220819T120000
DTSTAMP:20260424T160420
CREATED:20220818T101042Z
LAST-MODIFIED:20220818T101042Z
UID:4500-1660910400-1660910400@transparencia.motril.es
SUMMARY:Reunión interna
DESCRIPTION:
URL:https://transparencia.motril.es/evento/reunion-interna-82/
END:VEVENT
BEGIN:VEVENT
DTSTART;TZID=UTC:20220819T220000
DTEND;TZID=UTC:20220819T220000
DTSTAMP:20260424T160420
CREATED:20220818T100919Z
LAST-MODIFIED:20220818T100919Z
UID:4498-1660946400-1660946400@transparencia.motril.es
SUMMARY:La alcaldesa de Motril\, Luisa García Chamorro\, asiste al espectáculo del Rey León
DESCRIPTION:
URL:https://transparencia.motril.es/evento/la-alcaldesa-de-motril-luisa-garcia-chamorro-asiste-al-espectaculo-del-rey-leon/
LOCATION:Plaza de Toros de Motril
END:VEVENT
BEGIN:VEVENT
DTSTART;TZID=UTC:20220820T200000
DTEND;TZID=UTC:20220820T200000
DTSTAMP:20260424T160420
CREATED:20220819T112725Z
LAST-MODIFIED:20220819T112725Z
UID:4619-1661025600-1661025600@transparencia.motril.es
SUMMARY:La alcaldesa de Motril\, Luisa García Chamorro\, y miembros del equipo de Gobierno\, junto al presidente de la Federación Española de Fútbol\, Luis Rubiales\, asisten a la presentación de los equipos del club Puerto de Motril C.F.
DESCRIPTION:
URL:https://transparencia.motril.es/evento/la-alcaldesa-de-motril-luisa-garcia-chamorro-y-miembros-del-equipo-de-gobierno-junto-al-presidente-de-la-federacion-espanola-de-futbol-luis-rubiales-asisten-a-la-presentacion-de-los-equipos-del-c/
LOCATION:Campo de fútbol de Varadero
END:VEVENT
BEGIN:VEVENT
DTSTART;TZID=UTC:20220823T100000
DTEND;TZID=UTC:20220823T100000
DTSTAMP:20260424T160420
CREATED:20220823T074722Z
LAST-MODIFIED:20220823T074722Z
UID:4679-1661248800-1661248800@transparencia.motril.es
SUMMARY:Reunión interna
DESCRIPTION:
URL:https://transparencia.motril.es/evento/reunion-interna-83/
CATEGORIES:Reunión
END:VEVENT
BEGIN:VEVENT
DTSTART;TZID=UTC:20220823T110000
DTEND;TZID=UTC:20220823T110000
DTSTAMP:20260424T160420
CREATED:20220823T074821Z
LAST-MODIFIED:20220823T074821Z
UID:4682-1661252400-1661252400@transparencia.motril.es
SUMMARY:Reunión interna
DESCRIPTION:
URL:https://transparencia.motril.es/evento/reunion-interna-84/
CATEGORIES:Reunión
END:VEVENT
BEGIN:VEVENT
DTSTART;TZID=UTC:20220823T200000
DTEND;TZID=UTC:20220823T200000
DTSTAMP:20260424T160420
CREATED:20220823T075300Z
LAST-MODIFIED:20220823T075337Z
UID:4684-1661284800-1661284800@transparencia.motril.es
SUMMARY:La alcaldesa de Motril\, Luisa García Chamorro\, acude a los entrenamientos del CF Motril
DESCRIPTION:
URL:https://transparencia.motril.es/evento/la-alcaldesa-de-motril-acude-a-los-entrenamientos-del-cf-motril/
END:VEVENT
BEGIN:VEVENT
DTSTART;TZID=UTC:20220824T093000
DTEND;TZID=UTC:20220824T093000
DTSTAMP:20260424T160420
CREATED:20220823T113250Z
LAST-MODIFIED:20220823T113250Z
UID:4691-1661333400-1661333400@transparencia.motril.es
SUMMARY:Reunión interna
DESCRIPTION:
URL:https://transparencia.motril.es/evento/reunion-interna-85/
CATEGORIES:Reunión
END:VEVENT
BEGIN:VEVENT
DTSTART;TZID=UTC:20220825T213000
DTEND;TZID=UTC:20220825T213000
DTSTAMP:20260424T160420
CREATED:20220824T074441Z
LAST-MODIFIED:20220824T081710Z
UID:4693-1661463000-1661463000@transparencia.motril.es
SUMMARY:La alcaldesa de Motril\, Luisa García Chamorro\, acude al encendido del alumbrado de las fiestas de Santa Adela y ofrece el pregón inaugural.
DESCRIPTION:
URL:https://transparencia.motril.es/evento/la-alcaldesa-de-motril-luisa-garcia-chamorro-ofrece-el-pregon-inaugural-de-las-fiestas-de-santa-adela/
CATEGORIES:Actos
END:VEVENT
BEGIN:VEVENT
DTSTART;TZID=UTC:20220826T110000
DTEND;TZID=UTC:20220826T110000
DTSTAMP:20260424T160420
CREATED:20220826T090845Z
LAST-MODIFIED:20220826T090845Z
UID:4703-1661511600-1661511600@transparencia.motril.es
SUMMARY:Reunión interna
DESCRIPTION:
URL:https://transparencia.motril.es/evento/reunion-interna-86/
CATEGORIES:Reunión
END:VEVENT
BEGIN:VEVENT
DTSTART;TZID=UTC:20220826T203000
DTEND;TZID=UTC:20220826T203000
DTSTAMP:20260424T160420
CREATED:20220825T095408Z
LAST-MODIFIED:20220825T095408Z
UID:4697-1661545800-1661545800@transparencia.motril.es
SUMMARY:LA alcaldesa de Motril\, Luisa García Chamorro\, acude a la entrega de los Premios Sirenita Del Real Club Náutico de Motril
DESCRIPTION:
URL:https://transparencia.motril.es/evento/la-alcaldesa-de-motril-luisa-garcia-chamorro-acude-a-la-entrega-de-los-premios-sirenita-del-real-club-nautico-de-motril/
CATEGORIES:Actos
END:VEVENT
BEGIN:VEVENT
DTSTART;TZID=UTC:20220827T140000
DTEND;TZID=UTC:20220827T140000
DTSTAMP:20260424T160420
CREATED:20220825T095523Z
LAST-MODIFIED:20220825T095523Z
UID:4699-1661608800-1661608800@transparencia.motril.es
SUMMARY:La alcaldesa de Motril\, Luisa García Chamorro\, acude al almuerzo que organizan los vecinos de Santa Adela con motivo de las fiestas de barrio.
DESCRIPTION:
URL:https://transparencia.motril.es/evento/la-alcaldesa-de-motril-luisa-garcia-chamorro-acude-al-almuerzo-que-organizan-los-vecinos-de-santa-adela-con-motivo-de-las-fiestas-de-barrio/
CATEGORIES:Actos
END:VEVENT
BEGIN:VEVENT
DTSTART;TZID=UTC:20220829T120000
DTEND;TZID=UTC:20220829T120000
DTSTAMP:20260424T160420
CREATED:20220826T073443Z
LAST-MODIFIED:20220826T073443Z
UID:4701-1661774400-1661774400@transparencia.motril.es
SUMMARY:La alcaldesa de Motril\, Luisa García Chamorro\, acude al acto de colocación de la primera piedra del paseo marítimo de Varadero.
DESCRIPTION:
URL:https://transparencia.motril.es/evento/la-alcaldesa-de-motril-luisa-garcia-chamorro-acude-al-acto-de-colocacion-de-la-primera-piedra-del-paseo-maritimo-de-varadero/
CATEGORIES:Actos
END:VEVENT
BEGIN:VEVENT
DTSTART;TZID=UTC:20220831T110000
DTEND;TZID=UTC:20220831T110000
DTSTAMP:20260424T160420
CREATED:20220830T111416Z
LAST-MODIFIED:20220830T111416Z
UID:4711-1661943600-1661943600@transparencia.motril.es
SUMMARY:La alcaldesa de Motril\, Luisa García Chamorro\, junto a varios miembros del equipo de gobierno y representantes de la empresa\, visitan la urbanización que construye Molina Olea en Playa Granada.
DESCRIPTION:
URL:https://transparencia.motril.es/evento/la-alcaldesa-de-motril-luisa-garcia-chamorro-junto-a-varios-miembros-del-equipo-de-gobierno-y-representantes-de-la-empresa-visitan-la-urbanizacion-que-construye-molina-olea-en-playa-granada/
CATEGORIES:Actos
END:VEVENT
BEGIN:VEVENT
DTSTART;TZID=UTC:20220831T120000
DTEND;TZID=UTC:20220831T120000
DTSTAMP:20260424T160420
CREATED:20220830T111445Z
LAST-MODIFIED:20220830T113247Z
UID:4713-1661947200-1661947200@transparencia.motril.es
SUMMARY:Reunión interna
DESCRIPTION:
URL:https://transparencia.motril.es/evento/reunion-interna-87/
END:VEVENT
BEGIN:VEVENT
DTSTART;TZID=UTC:20220831T220000
DTEND;TZID=UTC:20220831T220000
DTSTAMP:20260424T160420
CREATED:20220830T113602Z
LAST-MODIFIED:20220830T113602Z
UID:4716-1661983200-1661983200@transparencia.motril.es
SUMMARY:La alcaldesa de Motril\, Luisa García Chamorro\, acude a la proyección de la película del ciclo Cine al fresquito en el Parque de los Pueblos de América.
DESCRIPTION:
URL:https://transparencia.motril.es/evento/la-alcaldesa-de-motril-luisa-garcia-chamorro-acude-a-la-proyeccion-de-la-pelicula-del-ciclo-cine-al-fresquito-en-el-parque-de-los-pueblos-de-america/
CATEGORIES:Actos
END:VEVENT
END:VCALENDAR