BEGIN:VCALENDAR
VERSION:2.0
PRODID:-//Ayuntamiento de Motril. Transparencia - ECPv6.15.20//NONSGML v1.0//EN
CALSCALE:GREGORIAN
METHOD:PUBLISH
X-WR-CALNAME:Ayuntamiento de Motril. Transparencia
X-ORIGINAL-URL:https://transparencia.motril.es
X-WR-CALDESC:Eventos para Ayuntamiento de Motril. Transparencia
REFRESH-INTERVAL;VALUE=DURATION:PT1H
X-Robots-Tag:noindex
X-PUBLISHED-TTL:PT1H
BEGIN:VTIMEZONE
TZID:UTC
BEGIN:STANDARD
TZOFFSETFROM:+0000
TZOFFSETTO:+0000
TZNAME:UTC
DTSTART:20230101T000000
END:STANDARD
END:VTIMEZONE
BEGIN:VEVENT
DTSTART;TZID=UTC:20240619T080000
DTEND;TZID=UTC:20240619T170000
DTSTAMP:20260425T025613
CREATED:20240619T115227Z
LAST-MODIFIED:20240619T115227Z
UID:8757-1718784000-1718816400@transparencia.motril.es
SUMMARY:La alcaldesa de Motril\, Luisa García Chamorro\, junto con miembros del Gobierno municipal\, asisten al Encuentro Club Cámara de Motril 2024.
DESCRIPTION:
URL:https://transparencia.motril.es/evento/la-alcaldesa-de-motril-luisa-garcia-chamorro-junto-con-miembros-del-gobierno-municipal-asisten-al-encuentro-club-camara-de-motril-2024/
LOCATION:Villa Astrida\, Calle Rector Lorenzo Morillas Cuevas\, 4.\, Motril\, Granada\, 18613
END:VEVENT
BEGIN:VEVENT
DTSTART;TZID=UTC:20240619T090000
DTEND;TZID=UTC:20240619T100000
DTSTAMP:20260425T025613
CREATED:20240618T121239Z
LAST-MODIFIED:20240618T121239Z
UID:8734-1718787600-1718791200@transparencia.motril.es
SUMMARY:La alcaldesa de Motril\, Luisa García Chamorro\, junto con el teniente de alcalde de Relaciones Instituciones\, José Peña\, asisten al solemne izado de la bandera con motivo de la conmemoración del X Aniversario de la Proclamación de S.M. El Rey Felipe VI.
DESCRIPTION:
URL:https://transparencia.motril.es/evento/la-alcaldesa-de-motril-luisa-garcia-chamorro-junto-con-el-teniente-de-alcalde-de-relaciones-instituciones-jose-pena-asisten-al-solemne-izado-de-la-bandera-con-motivo-de-la-conmemoracion-del-x-aniv/
END:VEVENT
BEGIN:VEVENT
DTSTART;TZID=UTC:20240619T120000
DTEND;TZID=UTC:20240619T130000
DTSTAMP:20260425T025613
CREATED:20240618T121341Z
LAST-MODIFIED:20240618T121341Z
UID:8736-1718798400-1718802000@transparencia.motril.es
SUMMARY:La alcaldesa de Motril\, Luisa García Chamorro\, junto con el teniente de alcalde de Playas\, José Peña\, visitan los nuevos columpios de Playa Granada.
DESCRIPTION:
URL:https://transparencia.motril.es/evento/la-alcaldesa-de-motril-luisa-garcia-chamorro-junto-con-el-teniente-de-alcalde-de-playas-jose-pena-visitan-los-nuevos-columpios-de-playa-granada/
END:VEVENT
BEGIN:VEVENT
DTSTART;TZID=UTC:20240619T183000
DTEND;TZID=UTC:20240619T193000
DTSTAMP:20260425T025613
CREATED:20240618T121458Z
LAST-MODIFIED:20240618T121458Z
UID:8739-1718821800-1718825400@transparencia.motril.es
SUMMARY:La alcaldesa de Motril\, Luisa García Chamorro\, junto con la teniente de alcalde de Participación Ciudadana\, Inmaculada Torres\, y la concejal de Educación\, Madelin Banqueri\, asisten a la clausura del curso del Aula Permanente de Formación Abierta.
DESCRIPTION:
URL:https://transparencia.motril.es/evento/la-alcaldesa-de-motril-luisa-garcia-chamorro-junto-con-la-teniente-de-alcalde-de-participacion-ciudadana-inmaculada-torres-y-la-concejal-de-educacion-madelin-banqueri-asisten-a-la-clausura-del-c/
END:VEVENT
END:VCALENDAR