BEGIN:VCALENDAR
VERSION:2.0
PRODID:-//Ayuntamiento de Motril. Transparencia - ECPv6.15.20//NONSGML v1.0//EN
CALSCALE:GREGORIAN
METHOD:PUBLISH
X-ORIGINAL-URL:https://transparencia.motril.es
X-WR-CALDESC:Eventos para Ayuntamiento de Motril. Transparencia
REFRESH-INTERVAL;VALUE=DURATION:PT1H
X-Robots-Tag:noindex
X-PUBLISHED-TTL:PT1H
BEGIN:VTIMEZONE
TZID:UTC
BEGIN:STANDARD
TZOFFSETFROM:+0000
TZOFFSETTO:+0000
TZNAME:UTC
DTSTART:20230101T000000
END:STANDARD
END:VTIMEZONE
BEGIN:VEVENT
DTSTART;TZID=UTC:20240608T113000
DTEND;TZID=UTC:20240608T120000
DTSTAMP:20260425T013552
CREATED:20240608T102455Z
LAST-MODIFIED:20240608T102455Z
UID:8467-1717846200-1717848000@transparencia.motril.es
SUMMARY:La alcaldesa de Motril\, Luisa García Chamorro\, junto con el teniente de alcalde de Patrimonio\, Juan Fernando Hernández\, asisten a la celebración del I Certamen de pintura al aire libre de Motril 2024.
DESCRIPTION:
URL:https://transparencia.motril.es/evento/la-alcaldesa-de-motril-luisa-garcia-chamorro-junto-con-el-teniente-de-alcalde-de-patrimonio-juan-fernando-hernandez-asisten-a-la-celebracion-del-i-certamen-de-pintura-al-aire-libre-de-motril-2024/
END:VEVENT
END:VCALENDAR