BEGIN:VCALENDAR
VERSION:2.0
PRODID:-//Ayuntamiento de Motril. Transparencia - ECPv6.15.20//NONSGML v1.0//EN
CALSCALE:GREGORIAN
METHOD:PUBLISH
X-ORIGINAL-URL:https://transparencia.motril.es
X-WR-CALDESC:Eventos para Ayuntamiento de Motril. Transparencia
REFRESH-INTERVAL;VALUE=DURATION:PT1H
X-Robots-Tag:noindex
X-PUBLISHED-TTL:PT1H
BEGIN:VTIMEZONE
TZID:UTC
BEGIN:STANDARD
TZOFFSETFROM:+0000
TZOFFSETTO:+0000
TZNAME:UTC
DTSTART:20230101T000000
END:STANDARD
END:VTIMEZONE
BEGIN:VEVENT
DTSTART;TZID=UTC:20240531T100000
DTEND;TZID=UTC:20240531T230000
DTSTAMP:20260425T001237
CREATED:20240606T065115Z
LAST-MODIFIED:20240606T065115Z
UID:8457-1717149600-1717196400@transparencia.motril.es
SUMMARY:La alcaldesa de Motril\, Luisa García Chamorro\, asiste al desayuno empresarial de AECOST.
DESCRIPTION:
URL:https://transparencia.motril.es/evento/la-alcaldesa-de-motril-luisa-garcia-chamorro-asiste-al-desayuno-empresarial-de-aecost/
END:VEVENT
BEGIN:VEVENT
DTSTART;TZID=UTC:20240531T113000
DTEND;TZID=UTC:20240531T120000
DTSTAMP:20260425T001237
CREATED:20240606T065201Z
LAST-MODIFIED:20240606T065201Z
UID:8459-1717155000-1717156800@transparencia.motril.es
SUMMARY:La alcaldesa de Motril\, Luisa García Chamorro\, junto con el teniente de alcalde de Agricultura\, Antonio Escámez\, asisten a la clausura del VIII Congreso Provincial de COAG.
DESCRIPTION:
URL:https://transparencia.motril.es/evento/la-alcaldesa-de-motril-luisa-garcia-chamorro-junto-con-el-teniente-de-alcalde-de-agricultura-antonio-escamez-asisten-a-la-clausura-del-viii-congreso-provincial-de-coag/
END:VEVENT
BEGIN:VEVENT
DTSTART;TZID=UTC:20240531T130000
DTEND;TZID=UTC:20240531T133000
DTSTAMP:20260425T001237
CREATED:20240606T065251Z
LAST-MODIFIED:20240606T065251Z
UID:8461-1717160400-1717162200@transparencia.motril.es
SUMMARY:La alcaldesa de Motril\, Luisa García Chamorro\, junto con la teniente de alcalde de Acción Social\, Inmaculada Torres\, asisten a la lectura del manifiesto del Día Mundial Sin Tabaco.
DESCRIPTION:
URL:https://transparencia.motril.es/evento/la-alcaldesa-de-motril-luisa-garcia-chamorro-junto-con-la-teniente-de-alcalde-de-accion-social-inmaculada-torres-asisten-a-la-lectura-del-manifiesto-del-dia-mundial-sin-tabaco/
LOCATION:Plaza de la Aurora
END:VEVENT
BEGIN:VEVENT
DTSTART;TZID=UTC:20240531T210000
DTEND;TZID=UTC:20240531T213000
DTSTAMP:20260425T001237
CREATED:20240606T065334Z
LAST-MODIFIED:20240606T065334Z
UID:8463-1717189200-1717191000@transparencia.motril.es
SUMMARY:La alcaldesa de Motril\, Luisa García Chamorro\, junto con miembros del Gobierno municipal\, asisten al encendido y pregón de las fiestas con motivo de San Isidro Labrador.
DESCRIPTION:
URL:https://transparencia.motril.es/evento/la-alcaldesa-de-motril-luisa-garcia-chamorro-junto-con-miembros-del-gobierno-municipal-asisten-al-encendido-y-pregon-de-las-fiestas-con-motivo-de-san-isidro-labrador/
LOCATION:Puntalón
END:VEVENT
BEGIN:VEVENT
DTSTART;TZID=UTC:20240531T220000
DTEND;TZID=UTC:20240531T233000
DTSTAMP:20260425T001237
CREATED:20240606T065421Z
LAST-MODIFIED:20240606T065421Z
UID:8465-1717192800-1717198200@transparencia.motril.es
SUMMARY:La alcaldesa de Motril\, Luisa García Chamorro\, junto con miembros del Gobierno municipal\, asisten al concierto ‘Veladas de Primavera’.
DESCRIPTION:
URL:https://transparencia.motril.es/evento/la-alcaldesa-de-motril-luisa-garcia-chamorro-junto-con-miembros-del-gobierno-municipal-asisten-al-concierto-veladas-de-primavera/
LOCATION:Parque de los Pueblos de América
END:VEVENT
END:VCALENDAR