BEGIN:VCALENDAR
VERSION:2.0
PRODID:-//Ayuntamiento de Motril. Transparencia - ECPv6.15.20//NONSGML v1.0//EN
CALSCALE:GREGORIAN
METHOD:PUBLISH
X-ORIGINAL-URL:https://transparencia.motril.es
X-WR-CALDESC:Eventos para Ayuntamiento de Motril. Transparencia
REFRESH-INTERVAL;VALUE=DURATION:PT1H
X-Robots-Tag:noindex
X-PUBLISHED-TTL:PT1H
BEGIN:VTIMEZONE
TZID:UTC
BEGIN:STANDARD
TZOFFSETFROM:+0000
TZOFFSETTO:+0000
TZNAME:UTC
DTSTART:20230101T000000
END:STANDARD
END:VTIMEZONE
BEGIN:VEVENT
DTSTART;TZID=UTC:20240526T100000
DTEND;TZID=UTC:20240526T223000
DTSTAMP:20260425T001234
CREATED:20240528T101839Z
LAST-MODIFIED:20240528T101839Z
UID:8421-1716717600-1716762600@transparencia.motril.es
SUMMARY:La alcaldesa de Motril\, Luisa García Chamorro\, asiste a la 9ª Ruta Vespa Club Motril.
DESCRIPTION:
URL:https://transparencia.motril.es/evento/la-alcaldesa-de-motril-luisa-garcia-chamorro-asiste-a-la-9a-ruta-vespa-club-motril/
END:VEVENT
BEGIN:VEVENT
DTSTART;TZID=UTC:20240526T110000
DTEND;TZID=UTC:20240526T233000
DTSTAMP:20260425T001234
CREATED:20240528T101947Z
LAST-MODIFIED:20240528T101947Z
UID:8423-1716721200-1716766200@transparencia.motril.es
SUMMARY:La alcaldesa de Motril\, Luisa García Chamorro\, junto con miembros del equipo de Gobierno asisten a la procesión infantil de la Cruz de Mayo de la Hermandad de la Borriquita.
DESCRIPTION:
URL:https://transparencia.motril.es/evento/la-alcaldesa-de-motril-luisa-garcia-chamorro-junto-con-miembros-del-equipo-de-gobierno-asisten-a-la-procesion-infantil-de-la-cruz-de-mayo-de-la-hermandad-de-la-borriquita/
END:VEVENT
END:VCALENDAR