BEGIN:VCALENDAR
VERSION:2.0
PRODID:-//Ayuntamiento de Motril. Transparencia - ECPv6.15.20//NONSGML v1.0//EN
CALSCALE:GREGORIAN
METHOD:PUBLISH
X-ORIGINAL-URL:https://transparencia.motril.es
X-WR-CALDESC:Eventos para Ayuntamiento de Motril. Transparencia
REFRESH-INTERVAL;VALUE=DURATION:PT1H
X-Robots-Tag:noindex
X-PUBLISHED-TTL:PT1H
BEGIN:VTIMEZONE
TZID:UTC
BEGIN:STANDARD
TZOFFSETFROM:+0000
TZOFFSETTO:+0000
TZNAME:UTC
DTSTART:20230101T000000
END:STANDARD
END:VTIMEZONE
BEGIN:VEVENT
DTSTART;TZID=UTC:20240524T090000
DTEND;TZID=UTC:20240524T213000
DTSTAMP:20260425T001236
CREATED:20240528T102216Z
LAST-MODIFIED:20240528T102216Z
UID:8425-1716541200-1716586200@transparencia.motril.es
SUMMARY:El Ayuntamiento de Motril celebra sesión Extraordinaria.
DESCRIPTION:
URL:https://transparencia.motril.es/evento/el-ayuntamiento-de-motril-celebra-sesion-extraordinaria-2/
END:VEVENT
BEGIN:VEVENT
DTSTART;TZID=UTC:20240524T093000
DTEND;TZID=UTC:20240524T220000
DTSTAMP:20260425T001236
CREATED:20240528T102321Z
LAST-MODIFIED:20240528T102321Z
UID:8427-1716543000-1716588000@transparencia.motril.es
SUMMARY:La alcaldesa de Motril\, Luisa García Chamorro\, junto con el teniente de alcalde de Agricultura\, Antonio Escámez\, y el concejal de Fiestas y Eventos\, Gerardo Romano\, presentan un nuevo festival en la ciudad.
DESCRIPTION:
URL:https://transparencia.motril.es/evento/la-alcaldesa-de-motril-luisa-garcia-chamorro-junto-con-el-teniente-de-alcalde-de-agricultura-antonio-escamez-y-el-concejal-de-fiestas-y-eventos-gerardo-romano-presentan-un-nuevo-festival-en-la-c/
END:VEVENT
BEGIN:VEVENT
DTSTART;TZID=UTC:20240524T130000
DTEND;TZID=UTC:20240524T133000
DTSTAMP:20260425T001236
CREATED:20240528T102628Z
LAST-MODIFIED:20240528T102628Z
UID:8429-1716555600-1716557400@transparencia.motril.es
SUMMARY:La alcaldesa de Motril\, Luisa García Chamorro\, junto con miembros del Gobierno municipal\, reciben al general del Escuadrón de Vigilancia Aérea nº9 (EVA 9)\, Eliseo Pérez Gómez.
DESCRIPTION:
URL:https://transparencia.motril.es/evento/la-alcaldesa-de-motril-luisa-garcia-chamorro-junto-con-miembros-del-gobierno-municipal-reciben-al-general-del-escuadron-de-vigilancia-aerea-no9-eva-9-eliseo-perez-gomez/
LOCATION:Salón de Protocolo\, Plaza de España\, 1\, Granada\, 18600\, España
END:VEVENT
BEGIN:VEVENT
DTSTART;TZID=UTC:20240524T200000
DTEND;TZID=UTC:20240524T210000
DTSTAMP:20260425T001236
CREATED:20240528T103716Z
LAST-MODIFIED:20240528T103716Z
UID:8431-1716580800-1716584400@transparencia.motril.es
SUMMARY:La alcaldesa de Motril\, Luisa García Chamorro\, junto con el teniente de alcalde de Proyectos Estratégicos\, Nicolás Navarro\, el teniente de alcalde de Seguridad Ciudadana\, José Peña\, el concejal de Parques y Jardines\, Daniel Ortega\, y el concejal de Mantenimiento del Municipio\, José Balderas\, asisten a la presentación del libro De W-9 Motril a EVA no 9 1955 – 2023.
DESCRIPTION:
URL:https://transparencia.motril.es/evento/la-alcaldesa-de-motril-luisa-garcia-chamorro-junto-con-el-teniente-de-alcalde-de-proyectos-estrategicos-nicolas-navarro-el-teniente-de-alcalde-de-seguridad-ciudadana-jose-pena-el-concejal-de-par/
END:VEVENT
END:VCALENDAR