BEGIN:VCALENDAR
VERSION:2.0
PRODID:-//Ayuntamiento de Motril. Transparencia - ECPv6.15.20//NONSGML v1.0//EN
CALSCALE:GREGORIAN
METHOD:PUBLISH
X-WR-CALNAME:Ayuntamiento de Motril. Transparencia
X-ORIGINAL-URL:https://transparencia.motril.es
X-WR-CALDESC:Eventos para Ayuntamiento de Motril. Transparencia
REFRESH-INTERVAL;VALUE=DURATION:PT1H
X-Robots-Tag:noindex
X-PUBLISHED-TTL:PT1H
BEGIN:VTIMEZONE
TZID:UTC
BEGIN:STANDARD
TZOFFSETFROM:+0000
TZOFFSETTO:+0000
TZNAME:UTC
DTSTART:20230101T000000
END:STANDARD
END:VTIMEZONE
BEGIN:VEVENT
DTSTART;TZID=UTC:20240522T090000
DTEND;TZID=UTC:20240522T213000
DTSTAMP:20260425T001017
CREATED:20240521T112235Z
LAST-MODIFIED:20240521T112731Z
UID:8407-1716368400-1716413400@transparencia.motril.es
SUMMARY:La alcaldesa de Motril\, Luisa García Chamorro\, junto con el teniente de alcalde de Agricultura\, Antonio Escámez\, asisten al I Congreso Agricultura con Propósito de Tropicales.
DESCRIPTION:
URL:https://transparencia.motril.es/evento/la-alcaldesa-de-motril-luisa-garcia-chamorro-junto-con-el-teniente-de-alcalde-de-agricultura-antonio-escamez-asisten-al-i-congreso-agricultura-con-proposito-de-tropicales/
LOCATION:Cooperativa La Palma
END:VEVENT
BEGIN:VEVENT
DTSTART;TZID=UTC:20240522T100000
DTEND;TZID=UTC:20240522T230000
DTSTAMP:20260425T001017
CREATED:20240521T112346Z
LAST-MODIFIED:20240521T112804Z
UID:8409-1716372000-1716418800@transparencia.motril.es
SUMMARY:La alcaldesa de Motril\, Luisa García Chamorro\, junto con miembros del Gobierno municipal\, asisten al acto religioso con motivo de la festividad de Santa Rita.
DESCRIPTION:
URL:https://transparencia.motril.es/evento/la-alcaldesa-de-motril-luisa-garcia-chamorro-junto-con-miembros-del-gobierno-municipal-asisten-al-acto-religioso-con-motivo-de-la-festividad-de-santa-rita/
LOCATION:Iglesia de la Victoria (PP.AA)
END:VEVENT
BEGIN:VEVENT
DTSTART;TZID=UTC:20240522T190000
DTEND;TZID=UTC:20240522T193000
DTSTAMP:20260425T001017
CREATED:20240521T112502Z
LAST-MODIFIED:20240521T112844Z
UID:8411-1716404400-1716406200@transparencia.motril.es
SUMMARY:La alcaldesa de Motril\, Luisa García Chamorro\, junto con el teniente de alcalde de Deportes\, Daniel Ortega\, reciben a varios jugadores de baloncesto.
DESCRIPTION:
URL:https://transparencia.motril.es/evento/la-alcaldesa-de-motril-luisa-garcia-chamorro-junto-con-el-teniente-de-alcalde-de-deportes-daniel-ortega-reciben-a-varios-jugadores-de-baloncesto/
LOCATION:Salón de Protocolo\, Plaza de España\, 1\, Granada\, 18600\, España
END:VEVENT
BEGIN:VEVENT
DTSTART;TZID=UTC:20240522T200000
DTEND;TZID=UTC:20240522T230000
DTSTAMP:20260425T001017
CREATED:20240521T112651Z
LAST-MODIFIED:20240521T113220Z
UID:8413-1716408000-1716418800@transparencia.motril.es
SUMMARY:La alcaldesa de Motril\, Luisa García Chamorro\, junto con el teniente de alcalde de Patrimonio\, Juan Fernando Hernández\, la teniente de alcalde de Participación Ciudadana\, Inmaculada Torres\, y el concejal de Fiestas y Eventos\, procesionan con motivo de la salida extraordinaria de Santa Rita.
DESCRIPTION:
URL:https://transparencia.motril.es/evento/la-alcaldesa-de-motril-luisa-garcia-chamorro-junto-con-el-teniente-de-alcalde-de-patrimonio-juan-fernando-hernandez-la-teniente-de-alcalde-de-participacion-ciudadana-inmaculada-torres-y-el-conce/
END:VEVENT
END:VCALENDAR