BEGIN:VCALENDAR
VERSION:2.0
PRODID:-//Ayuntamiento de Motril. Transparencia - ECPv6.15.20//NONSGML v1.0//EN
CALSCALE:GREGORIAN
METHOD:PUBLISH
X-ORIGINAL-URL:https://transparencia.motril.es
X-WR-CALDESC:Eventos para Ayuntamiento de Motril. Transparencia
REFRESH-INTERVAL;VALUE=DURATION:PT1H
X-Robots-Tag:noindex
X-PUBLISHED-TTL:PT1H
BEGIN:VTIMEZONE
TZID:UTC
BEGIN:STANDARD
TZOFFSETFROM:+0000
TZOFFSETTO:+0000
TZNAME:UTC
DTSTART:20230101T000000
END:STANDARD
END:VTIMEZONE
BEGIN:VEVENT
DTSTART;TZID=UTC:20240516T093000
DTEND;TZID=UTC:20240516T100000
DTSTAMP:20260425T001237
CREATED:20240515T121808Z
LAST-MODIFIED:20240515T121808Z
UID:8346-1715851800-1715853600@transparencia.motril.es
SUMMARY:La alcaldesa de Motril\, Luisa García Chamorro\, junto con el teniente de alcalde de Calidad Urbana\, Juan Fernando Hernández\, presentan un nuevo contenedor de tapones.
DESCRIPTION:
URL:https://transparencia.motril.es/evento/la-alcaldesa-de-motril-luisa-garcia-chamorro-junto-con-el-teniente-de-alcalde-de-calidad-urbana-juan-fernando-hernandez-presentan-un-nuevo-contenedor-de-tapones/
END:VEVENT
BEGIN:VEVENT
DTSTART;TZID=UTC:20240516T190000
DTEND;TZID=UTC:20240516T200000
DTSTAMP:20260425T001237
CREATED:20240515T121952Z
LAST-MODIFIED:20240515T121952Z
UID:8350-1715886000-1715889600@transparencia.motril.es
SUMMARY:La alcaldesa de Motril\, Luisa García Chamorro\, junto con miembros del Gobierno municipal\, asisten al estreno de la novela ‘Alonso’ de Ángel Barragán Cerrato.
DESCRIPTION:
URL:https://transparencia.motril.es/evento/la-alcaldesa-de-motril-luisa-garcia-chamorro-junto-con-miembros-del-gobierno-municipal-asisten-al-estreno-de-la-novela-alonso-de-angel-barragan-cerrato/
END:VEVENT
END:VCALENDAR