BEGIN:VCALENDAR
VERSION:2.0
PRODID:-//Ayuntamiento de Motril. Transparencia - ECPv6.15.20//NONSGML v1.0//EN
CALSCALE:GREGORIAN
METHOD:PUBLISH
X-ORIGINAL-URL:https://transparencia.motril.es
X-WR-CALDESC:Eventos para Ayuntamiento de Motril. Transparencia
REFRESH-INTERVAL;VALUE=DURATION:PT1H
X-Robots-Tag:noindex
X-PUBLISHED-TTL:PT1H
BEGIN:VTIMEZONE
TZID:UTC
BEGIN:STANDARD
TZOFFSETFROM:+0000
TZOFFSETTO:+0000
TZNAME:UTC
DTSTART:20230101T000000
END:STANDARD
END:VTIMEZONE
BEGIN:VEVENT
DTSTART;TZID=UTC:20240513T103000
DTEND;TZID=UTC:20240513T110000
DTSTAMP:20260425T000555
CREATED:20240510T122820Z
LAST-MODIFIED:20240510T122820Z
UID:8329-1715596200-1715598000@transparencia.motril.es
SUMMARY:La alcaldesa de Motril\, Luisa García Chamorro\, junto con la teniente de alcalde de Acción Social\, Inmaculada Torres\, firman un acuerdo de colaboración entre el Ayuntamiento de Motril y la Asociación de Familiares de Enfermos de Alzheimer de Motril-Contigo (AFA Contigo)
DESCRIPTION:
URL:https://transparencia.motril.es/evento/la-alcaldesa-de-motril-luisa-garcia-chamorro-junto-con-la-teniente-de-alcalde-de-accion-social-inmaculada-torres-firman-un-acuerdo-de-colaboracion-entre-el-ayuntamiento-de-motril-y-la-asociacion-d/
LOCATION:Salón de Protocolo\, Plaza de España\, 1\, Granada\, 18600\, España
END:VEVENT
END:VCALENDAR