BEGIN:VCALENDAR
VERSION:2.0
PRODID:-//Ayuntamiento de Motril. Transparencia - ECPv6.15.20//NONSGML v1.0//EN
CALSCALE:GREGORIAN
METHOD:PUBLISH
X-ORIGINAL-URL:https://transparencia.motril.es
X-WR-CALDESC:Eventos para Ayuntamiento de Motril. Transparencia
REFRESH-INTERVAL;VALUE=DURATION:PT1H
X-Robots-Tag:noindex
X-PUBLISHED-TTL:PT1H
BEGIN:VTIMEZONE
TZID:UTC
BEGIN:STANDARD
TZOFFSETFROM:+0000
TZOFFSETTO:+0000
TZNAME:UTC
DTSTART:20230101T000000
END:STANDARD
END:VTIMEZONE
BEGIN:VEVENT
DTSTART;TZID=UTC:20240510T180000
DTEND;TZID=UTC:20240511T183000
DTSTAMP:20260425T001234
CREATED:20240510T122402Z
LAST-MODIFIED:20240510T122402Z
UID:8323-1715364000-1715452200@transparencia.motril.es
SUMMARY:La alcaldesa de Motril\, Luisa García Chamorro\, junto con el concejal de Fiestas y Eventos\, Gerardo Romano\, y la concejal de Comercio\, Susana Peña\, asisten al encuentro de juegos de mesa Ludiverso.
DESCRIPTION:
URL:https://transparencia.motril.es/evento/la-alcaldesa-de-motril-luisa-garcia-chamorro-junto-con-el-concejal-de-fiestas-y-eventos-gerardo-romano-y-la-concejal-de-comercio-susana-pena-asisten-al-encuentro-de-juegos-de-mesa-ludiverso/
LOCATION:Pabellón de Deportes
END:VEVENT
BEGIN:VEVENT
DTSTART;TZID=UTC:20240511T183000
DTEND;TZID=UTC:20240511T184000
DTSTAMP:20260425T001234
CREATED:20240510T122451Z
LAST-MODIFIED:20240510T122451Z
UID:8325-1715452200-1715452800@transparencia.motril.es
SUMMARY:La alcaldesa de Motril\, Luisa García Chamorro\, junto con el teniente de alcalde de Deportes\, Daniel Ortega\, y la concejal de Comercio\, Susana Peña\, asisten a la inauguración de Avigauto Recambios.
DESCRIPTION:
URL:https://transparencia.motril.es/evento/la-alcaldesa-de-motril-luisa-garcia-chamorro-junto-con-el-teniente-de-alcalde-de-deportes-daniel-ortega-y-la-concejal-de-comercio-susana-pena-asisten-a-la-inauguracion-de-avigauto-recambios/
END:VEVENT
BEGIN:VEVENT
DTSTART;TZID=UTC:20240511T190000
DTEND;TZID=UTC:20240511T193000
DTSTAMP:20260425T001234
CREATED:20240510T122616Z
LAST-MODIFIED:20240510T122616Z
UID:8327-1715454000-1715455800@transparencia.motril.es
SUMMARY:La alcaldesa de Motril\, Luisa García Chamorro\, junto con el concejal de Fiestas y Eventos\, Gerardo Romano\, y la concejal de Comercio\, Susana Peña\, asisten a la eucaristía con motivo del 125 aniversario de la presencia de la orden de Agustinos Recoletos en Motril.
DESCRIPTION:
URL:https://transparencia.motril.es/evento/la-alcaldesa-de-motril-luisa-garcia-chamorro-junto-con-el-concejal-de-fiestas-y-eventos-gerardo-romano-y-la-concejal-de-comercio-susana-pena-asisten-a-la-eucaristia-con-motivo-del-125-aniversari/
LOCATION:Plaza de San Agustín
END:VEVENT
END:VCALENDAR