BEGIN:VCALENDAR
VERSION:2.0
PRODID:-//Ayuntamiento de Motril. Transparencia - ECPv6.15.20//NONSGML v1.0//EN
CALSCALE:GREGORIAN
METHOD:PUBLISH
X-WR-CALNAME:Ayuntamiento de Motril. Transparencia
X-ORIGINAL-URL:https://transparencia.motril.es
X-WR-CALDESC:Eventos para Ayuntamiento de Motril. Transparencia
REFRESH-INTERVAL;VALUE=DURATION:PT1H
X-Robots-Tag:noindex
X-PUBLISHED-TTL:PT1H
BEGIN:VTIMEZONE
TZID:UTC
BEGIN:STANDARD
TZOFFSETFROM:+0000
TZOFFSETTO:+0000
TZNAME:UTC
DTSTART:20230101T000000
END:STANDARD
END:VTIMEZONE
BEGIN:VEVENT
DTSTART;TZID=UTC:20240504T000000
DTEND;TZID=UTC:20240504T130000
DTSTAMP:20260424T222031
CREATED:20240502T120318Z
LAST-MODIFIED:20240502T120318Z
UID:8284-1714780800-1714827600@transparencia.motril.es
SUMMARY:La alcaldesa de Motril\, Luisa García Chamorro\, junto a la concejal de Anejos\, Concepción Abarca\, visitan el centro de mayores de Santa Adela y la cruz de la Asociación de Vecinos.
DESCRIPTION:
URL:https://transparencia.motril.es/evento/la-alcaldesa-de-motril-luisa-garcia-chamorro-junto-a-la-concejal-de-anejos-concepcion-abarca-visitan-el-centro-de-mayores-de-santa-adela-y-la-cruz-de-la-asociacion-de-vecinos/
END:VEVENT
BEGIN:VEVENT
DTSTART;TZID=UTC:20240504T130000
DTEND;TZID=UTC:20240504T133000
DTSTAMP:20260424T222031
CREATED:20240502T120520Z
LAST-MODIFIED:20240502T120520Z
UID:8288-1714827600-1714829400@transparencia.motril.es
SUMMARY:La alcaldesa de Motril\, Luisa García Chamorro\, junto al concejal de Fiestas\, Gerardo Romano\, visitan la cruz de la Asociación de Vecinos de Cerrillo Jaime.
DESCRIPTION:
URL:https://transparencia.motril.es/evento/la-alcaldesa-de-motril-luisa-garcia-chamorro-junto-al-concejal-de-fiestas-gerardo-romano-visitan-la-cruz-de-la-asociacion-de-vecinos-de-cerrillo-jaime/
END:VEVENT
BEGIN:VEVENT
DTSTART;TZID=UTC:20240504T133000
DTEND;TZID=UTC:20240504T140000
DTSTAMP:20260424T222031
CREATED:20240502T120629Z
LAST-MODIFIED:20240502T120629Z
UID:8290-1714829400-1714831200@transparencia.motril.es
SUMMARY:La alcaldesa de Motril\, Luisa García Chamorro\, junto a la teniente de alcalde de Participación Ciudadana\, Inmaculada Torres y el concejal de Fiestas\, Gerardo Romano\, visitan la cruz de la Asociación de Vecinos de San Antonio.
DESCRIPTION:
URL:https://transparencia.motril.es/evento/la-alcaldesa-de-motril-luisa-garcia-chamorro-junto-a-la-teniente-de-alcalde-de-participacion-ciudadana-inmaculada-torres-y-el-concejal-de-fiestas-gerardo-romano-visitan-la-cruz-de-la-asociacion-d/
END:VEVENT
END:VCALENDAR