BEGIN:VCALENDAR
VERSION:2.0
PRODID:-//Ayuntamiento de Motril. Transparencia - ECPv6.15.20//NONSGML v1.0//EN
CALSCALE:GREGORIAN
METHOD:PUBLISH
X-ORIGINAL-URL:https://transparencia.motril.es
X-WR-CALDESC:Eventos para Ayuntamiento de Motril. Transparencia
REFRESH-INTERVAL;VALUE=DURATION:PT1H
X-Robots-Tag:noindex
X-PUBLISHED-TTL:PT1H
BEGIN:VTIMEZONE
TZID:UTC
BEGIN:STANDARD
TZOFFSETFROM:+0000
TZOFFSETTO:+0000
TZNAME:UTC
DTSTART:20230101T000000
END:STANDARD
END:VTIMEZONE
BEGIN:VEVENT
DTSTART;TZID=UTC:20240503T003000
DTEND;TZID=UTC:20240503T130000
DTSTAMP:20260424T222328
CREATED:20240502T120053Z
LAST-MODIFIED:20240502T120053Z
UID:8280-1714696200-1714741200@transparencia.motril.es
SUMMARY:La alcaldesa de Motril\, Luisa García Chamorro\, junto a miembros del equipo de Gobierno asisten a la inauguración de las Cruces de Mayo 2024.
DESCRIPTION:
URL:https://transparencia.motril.es/evento/la-alcaldesa-de-motril-luisa-garcia-chamorro-junto-a-miembros-del-equipo-de-gobierno-asisten-a-la-inauguracion-de-las-cruces-de-mayo-2024/
LOCATION:Paseo de las Explanadas
END:VEVENT
BEGIN:VEVENT
DTSTART;TZID=UTC:20240503T133000
DTEND;TZID=UTC:20240503T140000
DTSTAMP:20260424T222328
CREATED:20240502T120219Z
LAST-MODIFIED:20240502T120412Z
UID:8282-1714743000-1714744800@transparencia.motril.es
SUMMARY:La alcaldesa de Motril\, Luisa García Chamorro\, junto a la teniente de alcalde de Acción Social\, Inmaculada Torres\, y el concejal de Fiestas\, Gerardo Romano\, visitan los centros de día Andalucía y Las Angustias.
DESCRIPTION:
URL:https://transparencia.motril.es/evento/la-alcaldesa-de-motril-luisa-garcia-chamorro-junto-a-la-teniente-de-alcalde-de-accion-social-inmaculada-torres-y-el-concejal-de-fiestas-gerardo-romano-visitan-los-centros-de-dia-andalucia-y-las/
END:VEVENT
END:VCALENDAR