BEGIN:VCALENDAR
VERSION:2.0
PRODID:-//Ayuntamiento de Motril. Transparencia - ECPv6.15.20//NONSGML v1.0//EN
CALSCALE:GREGORIAN
METHOD:PUBLISH
X-ORIGINAL-URL:https://transparencia.motril.es
X-WR-CALDESC:Eventos para Ayuntamiento de Motril. Transparencia
REFRESH-INTERVAL;VALUE=DURATION:PT1H
X-Robots-Tag:noindex
X-PUBLISHED-TTL:PT1H
BEGIN:VTIMEZONE
TZID:UTC
BEGIN:STANDARD
TZOFFSETFROM:+0000
TZOFFSETTO:+0000
TZNAME:UTC
DTSTART:20230101T000000
END:STANDARD
END:VTIMEZONE
BEGIN:VEVENT
DTSTART;VALUE=DATE:20240324
DTEND;VALUE=DATE:20240325
DTSTAMP:20260424T204600
CREATED:20240326T085949Z
LAST-MODIFIED:20240326T085949Z
UID:7957-1711238400-1711324799@transparencia.motril.es
SUMMARY:La alcaldesa de Motril\, Luisa García Chamorro\, junto a la concejal de Comercio\, Susana Peña\, asisten al paso por Carrera Oficial de la Hermandad de Nuestro Padre Jesús en su Triunfal Entrada en Jerusalén y Nuestra Señora del Rosario de Motril.
DESCRIPTION:
URL:https://transparencia.motril.es/evento/la-alcaldesa-de-motril-luisa-garcia-chamorro-junto-a-la-concejal-de-comercio-susana-pena-asisten-al-paso-por-carrera-oficial-de-la-hermandad-de-nuestro-padre-jesus-en-su-triunfal-entrada-en-jerusa/
END:VEVENT
END:VCALENDAR