BEGIN:VCALENDAR
VERSION:2.0
PRODID:-//Ayuntamiento de Motril. Transparencia - ECPv6.15.20//NONSGML v1.0//EN
CALSCALE:GREGORIAN
METHOD:PUBLISH
X-WR-CALNAME:Ayuntamiento de Motril. Transparencia
X-ORIGINAL-URL:https://transparencia.motril.es
X-WR-CALDESC:Eventos para Ayuntamiento de Motril. Transparencia
REFRESH-INTERVAL;VALUE=DURATION:PT1H
X-Robots-Tag:noindex
X-PUBLISHED-TTL:PT1H
BEGIN:VTIMEZONE
TZID:UTC
BEGIN:STANDARD
TZOFFSETFROM:+0000
TZOFFSETTO:+0000
TZNAME:UTC
DTSTART:20230101T000000
END:STANDARD
END:VTIMEZONE
BEGIN:VEVENT
DTSTART;VALUE=DATE:20240323
DTEND;VALUE=DATE:20240324
DTSTAMP:20260424T204315
CREATED:20240326T085745Z
LAST-MODIFIED:20240326T085745Z
UID:7953-1711152000-1711238399@transparencia.motril.es
SUMMARY:La alcaldesa de Motril\, Luisa García Chamorro\, junto con la concejala de Comercio\, Susana Peña\, y el concejal de Obras Públicas\, José Balderas\, asisten a la salida del grupo joven de la Fervorosa Hermandad de Penitencia de Nuestro Padre Jesús del Gran Poder María Santísima del Mayor Dolor.
DESCRIPTION:
URL:https://transparencia.motril.es/evento/la-alcaldesa-de-motril-luisa-garcia-chamorro-junto-con-la-concejala-de-comercio-susana-pena-y-el-concejal-de-obras-publicas-jose-balderas-asisten-a-la-salida-del-grupo-joven-de-la-fervorosa-herm/
END:VEVENT
BEGIN:VEVENT
DTSTART;VALUE=DATE:20240323
DTEND;VALUE=DATE:20240324
DTSTAMP:20260424T204315
CREATED:20240326T085845Z
LAST-MODIFIED:20240326T085845Z
UID:7955-1711152000-1711238399@transparencia.motril.es
SUMMARY:La alcaldesa de Motril\, Luisa García Chamorro\, junto con el teniente de alcalde de Relaciones Institucionales\, José Peña\, procesionan en la Hermandad Sacramental de la Santa Cena y María Santísima del Amor.
DESCRIPTION:
URL:https://transparencia.motril.es/evento/la-alcaldesa-de-motril-luisa-garcia-chamorro-junto-con-el-teniente-de-alcalde-de-relaciones-institucionales-jose-pena-procesionan-en-la-hermandad-sacramental-de-la-santa-cena-y-maria-santisima-del/
END:VEVENT
END:VCALENDAR