BEGIN:VCALENDAR
VERSION:2.0
PRODID:-//Ayuntamiento de Motril. Transparencia - ECPv6.15.20//NONSGML v1.0//EN
CALSCALE:GREGORIAN
METHOD:PUBLISH
X-ORIGINAL-URL:https://transparencia.motril.es
X-WR-CALDESC:Eventos para Ayuntamiento de Motril. Transparencia
REFRESH-INTERVAL;VALUE=DURATION:PT1H
X-Robots-Tag:noindex
X-PUBLISHED-TTL:PT1H
BEGIN:VTIMEZONE
TZID:UTC
BEGIN:STANDARD
TZOFFSETFROM:+0000
TZOFFSETTO:+0000
TZNAME:UTC
DTSTART:20230101T000000
END:STANDARD
END:VTIMEZONE
BEGIN:VEVENT
DTSTART;VALUE=DATE:20240320
DTEND;VALUE=DATE:20240321
DTSTAMP:20260424T204602
CREATED:20240321T071041Z
LAST-MODIFIED:20240321T071041Z
UID:7939-1710892800-1710979199@transparencia.motril.es
SUMMARY:La alcaldesa de Motril\, Luisa García Chamorro\, junto con el teniente de alcalde de Seguridad Ciudadana\, José Peña\, asisten a la visita de Bomberos y Policía Local por el programa Agente Tutor.
DESCRIPTION:
URL:https://transparencia.motril.es/evento/la-alcaldesa-de-motril-luisa-garcia-chamorro-junto-con-el-teniente-de-alcalde-de-seguridad-ciudadana-jose-pena-asisten-a-la-visita-de-bomberos-y-policia-local-por-el-programa-agente-tutor/
END:VEVENT
BEGIN:VEVENT
DTSTART;VALUE=DATE:20240320
DTEND;VALUE=DATE:20240321
DTSTAMP:20260424T204602
CREATED:20240321T071208Z
LAST-MODIFIED:20240321T071208Z
UID:7941-1710892800-1710979199@transparencia.motril.es
SUMMARY:La alcaldesa de Motril\, Luisa García Chamorro\, junto con el teniente de alcalde de Presidencia\, Juan Fernando Hernández\, el presidente de la Agrupación de Cofradías y Hermandades\, Manolo Terrón\, el presidente de Telemotril\, Juan Carlos Colorado\, y José Manuel González\, presentan las retrasmisiones de Telemotril para la Semana Santa 2024.
DESCRIPTION:
URL:https://transparencia.motril.es/evento/la-alcaldesa-de-motril-luisa-garcia-chamorro-junto-con-el-teniente-de-alcalde-de-presidencia-juan-fernando-hernandez-el-presidente-de-la-agrupacion-de-cofradias-y-hermandades-manolo-terron-el-pr/
END:VEVENT
BEGIN:VEVENT
DTSTART;VALUE=DATE:20240320
DTEND;VALUE=DATE:20240321
DTSTAMP:20260424T204602
CREATED:20240321T071315Z
LAST-MODIFIED:20240321T071315Z
UID:7943-1710892800-1710979199@transparencia.motril.es
SUMMARY:La alcaldesa de Motril\, Luisa García Chamorro\, junto con la teniente de alcalde de Igualdad\, Inmaculada Torres\, asisten a la entrega de los II Premios al Emprendimiento y Liderazgo Femenino de la Costa Tropical.
DESCRIPTION:
URL:https://transparencia.motril.es/evento/la-alcaldesa-de-motril-luisa-garcia-chamorro-junto-con-la-teniente-de-alcalde-de-igualdad-inmaculada-torres-asisten-a-la-entrega-de-los-ii-premios-al-emprendimiento-y-liderazgo-femenino-de-la-cost/
LOCATION:Fábrica de Nuestra Señora del Pilar\, Motril\, Granada\, 18600\, España
END:VEVENT
END:VCALENDAR