BEGIN:VCALENDAR
VERSION:2.0
PRODID:-//Ayuntamiento de Motril. Transparencia - ECPv6.15.20//NONSGML v1.0//EN
CALSCALE:GREGORIAN
METHOD:PUBLISH
X-ORIGINAL-URL:https://transparencia.motril.es
X-WR-CALDESC:Eventos para Ayuntamiento de Motril. Transparencia
REFRESH-INTERVAL;VALUE=DURATION:PT1H
X-Robots-Tag:noindex
X-PUBLISHED-TTL:PT1H
BEGIN:VTIMEZONE
TZID:UTC
BEGIN:STANDARD
TZOFFSETFROM:+0000
TZOFFSETTO:+0000
TZNAME:UTC
DTSTART:20230101T000000
END:STANDARD
END:VTIMEZONE
BEGIN:VEVENT
DTSTART;VALUE=DATE:20240317
DTEND;VALUE=DATE:20240318
DTSTAMP:20260424T204451
CREATED:20240319T081256Z
LAST-MODIFIED:20240319T081256Z
UID:7921-1710633600-1710719999@transparencia.motril.es
SUMMARY:La alcaldesa de Motril\, Luisa García Chamorro\, junto con el concejal de Parques y Jardines\, Daniel Ortega\, asisten a la jornada de puertas abiertas del Jardín- colección de cactus y suculentas ‘Teresa’.
DESCRIPTION:
URL:https://transparencia.motril.es/evento/la-alcaldesa-de-motril-luisa-garcia-chamorro-junto-con-el-concejal-de-parques-y-jardines-daniel-ortega-asisten-a-la-jornada-de-puertas-abiertas-del-jardin-coleccion-de-cactus-y-suculentas/
END:VEVENT
BEGIN:VEVENT
DTSTART;VALUE=DATE:20240317
DTEND;VALUE=DATE:20240318
DTSTAMP:20260424T204451
CREATED:20240319T081337Z
LAST-MODIFIED:20240319T081337Z
UID:7923-1710633600-1710719999@transparencia.motril.es
SUMMARY:La alcaldesa de Motril\, Luisa García Chamorro\, junto con el teniente de alcalde de Deportes\, Daniel Ortega\, y miembros del Gobierno municipal\, inauguran una placa en honor a Pedro Puertas.
DESCRIPTION:
URL:https://transparencia.motril.es/evento/la-alcaldesa-de-motril-luisa-garcia-chamorro-junto-con-el-teniente-de-alcalde-de-deportes-daniel-ortega-y-miembros-del-gobierno-municipal-inauguran-una-placa-en-honor-a-pedro-puertas/
LOCATION:Parque de los Pueblos de América
END:VEVENT
END:VCALENDAR