BEGIN:VCALENDAR
VERSION:2.0
PRODID:-//Ayuntamiento de Motril. Transparencia - ECPv6.15.20//NONSGML v1.0//EN
CALSCALE:GREGORIAN
METHOD:PUBLISH
X-ORIGINAL-URL:https://transparencia.motril.es
X-WR-CALDESC:Eventos para Ayuntamiento de Motril. Transparencia
REFRESH-INTERVAL;VALUE=DURATION:PT1H
X-Robots-Tag:noindex
X-PUBLISHED-TTL:PT1H
BEGIN:VTIMEZONE
TZID:UTC
BEGIN:STANDARD
TZOFFSETFROM:+0000
TZOFFSETTO:+0000
TZNAME:UTC
DTSTART:20230101T000000
END:STANDARD
END:VTIMEZONE
BEGIN:VEVENT
DTSTART;VALUE=DATE:20240308
DTEND;VALUE=DATE:20240309
DTSTAMP:20260424T204520
CREATED:20240307T123724Z
LAST-MODIFIED:20240307T123724Z
UID:7848-1709856000-1709942399@transparencia.motril.es
SUMMARY:La alcaldesa de Motril\, Luisa García Chamorro\, junto con el concejal de Juventud\, Fiestas y Eventos\, Gerardo Romano\, y el concejal de Gestión de Infraestructuras y Obras\, José Balderas\, visitan la construcción del nuevo edificio para la Casa de la Juventud y Formación y Empleo.
DESCRIPTION:
URL:https://transparencia.motril.es/evento/la-alcaldesa-de-motril-luisa-garcia-chamorro-junto-con-el-concejal-de-juventud-fiestas-y-eventos-gerardo-romano-y-el-concejal-de-gestion-de-infraestructuras-y-obras-jose-balderas-visitan-la-con/
END:VEVENT
BEGIN:VEVENT
DTSTART;VALUE=DATE:20240308
DTEND;VALUE=DATE:20240309
DTSTAMP:20260424T204520
CREATED:20240307T123845Z
LAST-MODIFIED:20240307T123845Z
UID:7850-1709856000-1709942399@transparencia.motril.es
SUMMARY:La alcaldesa de Motril\, Luisa García Chamorro\, junto con miembros del Gobierno y la corporación municipal\, asisten a los actos religiosos con motivo de la festividad de San Juan de Dios\, patrón del cuerpo de Bomberos.
DESCRIPTION:
URL:https://transparencia.motril.es/evento/la-alcaldesa-de-motril-luisa-garcia-chamorro-junto-con-miembros-del-gobierno-y-la-corporacion-municipal-asisten-a-los-actos-religiosos-con-motivo-de-la-festividad-de-san-juan-de-dios-patron-del-cu/
END:VEVENT
BEGIN:VEVENT
DTSTART;VALUE=DATE:20240308
DTEND;VALUE=DATE:20240309
DTSTAMP:20260424T204520
CREATED:20240307T123933Z
LAST-MODIFIED:20240307T123933Z
UID:7852-1709856000-1709942399@transparencia.motril.es
SUMMARY:La alcaldesa de Motril\, Luisa García Chamorro\, junto con miembros del Gobierno y de la corporación municipal\, asisten al acto institucional con motivo de la festividad de San Juan de Dios\, patrón del cuerpo de Bomberos.
DESCRIPTION:
URL:https://transparencia.motril.es/evento/la-alcaldesa-de-motril-luisa-garcia-chamorro-junto-con-miembros-del-gobierno-y-de-la-corporacion-municipal-asisten-al-acto-institucional-con-motivo-de-la-festividad-de-san-juan-de-dios-patron-del/
LOCATION:Teatro Calderón de la Barca\, Plaza Paulino Bellido\, s/n\, Motril\, Granada\, 18600\, España
END:VEVENT
BEGIN:VEVENT
DTSTART;VALUE=DATE:20240308
DTEND;VALUE=DATE:20240309
DTSTAMP:20260424T204520
CREATED:20240307T124102Z
LAST-MODIFIED:20240307T124102Z
UID:7854-1709856000-1709942399@transparencia.motril.es
SUMMARY:La alcaldesa de Motril\, Luisa García Chamorro\, junto con el teniente de alcalde de Deportes\, Daniel Ortega\, reciben a los 11 taekwondistas ganadores del campeonato España.
DESCRIPTION:
URL:https://transparencia.motril.es/evento/la-alcaldesa-de-motril-luisa-garcia-chamorro-junto-con-el-teniente-de-alcalde-de-deportes-daniel-ortega-reciben-a-los-11-taekwondistas-ganadores-del-campeonato-espana/
LOCATION:Salón de Protocolo\, Plaza de España\, 1\, Granada\, 18600\, España
END:VEVENT
BEGIN:VEVENT
DTSTART;VALUE=DATE:20240308
DTEND;VALUE=DATE:20240309
DTSTAMP:20260424T204520
CREATED:20240307T124237Z
LAST-MODIFIED:20240307T124237Z
UID:7856-1709856000-1709942399@transparencia.motril.es
SUMMARY:La alcaldesa de Motril\, Luisa García Chamorro\, junto con la teniente de alcalde de Igualdad\, Inmaculada Torres\, y miembros de la corporación municipal\, asisten al acto institucional con motivo del Día Internacional de la Mujer.
DESCRIPTION:
URL:https://transparencia.motril.es/evento/la-alcaldesa-de-motril-luisa-garcia-chamorro-junto-con-la-teniente-de-alcalde-de-igualdad-inmaculada-torres-y-miembros-de-la-corporacion-municipal-asisten-al-acto-institucional-con-motivo-del-dia/
LOCATION:Teatro Calderón de la Barca\, Plaza Paulino Bellido\, s/n\, Motril\, Granada\, 18600\, España
END:VEVENT
END:VCALENDAR