BEGIN:VCALENDAR
VERSION:2.0
PRODID:-//Ayuntamiento de Motril. Transparencia - ECPv6.15.20//NONSGML v1.0//EN
CALSCALE:GREGORIAN
METHOD:PUBLISH
X-ORIGINAL-URL:https://transparencia.motril.es
X-WR-CALDESC:Eventos para Ayuntamiento de Motril. Transparencia
REFRESH-INTERVAL;VALUE=DURATION:PT1H
X-Robots-Tag:noindex
X-PUBLISHED-TTL:PT1H
BEGIN:VTIMEZONE
TZID:UTC
BEGIN:STANDARD
TZOFFSETFROM:+0000
TZOFFSETTO:+0000
TZNAME:UTC
DTSTART:20230101T000000
END:STANDARD
END:VTIMEZONE
BEGIN:VEVENT
DTSTART;VALUE=DATE:20240301
DTEND;VALUE=DATE:20240302
DTSTAMP:20260424T191731
CREATED:20240229T121528Z
LAST-MODIFIED:20240229T121528Z
UID:7776-1709251200-1709337599@transparencia.motril.es
SUMMARY:El Ayuntamiento de Motril celebra sesión plenaria extraordinaria.
DESCRIPTION:
URL:https://transparencia.motril.es/evento/el-ayuntamiento-de-motril-celebra-sesion-plenaria-extraordinaria-2/
LOCATION:Salón de Plenos de la Casa Consistorial\, PLAZA DE ESPAÑA\, 1\, MOTRIL\, Granada\, 18600\, España
CATEGORIES:Pleno
END:VEVENT
BEGIN:VEVENT
DTSTART;VALUE=DATE:20240301
DTEND;VALUE=DATE:20240302
DTSTAMP:20260424T191731
CREATED:20240229T121832Z
LAST-MODIFIED:20240229T121832Z
UID:7778-1709251200-1709337599@transparencia.motril.es
SUMMARY:Junta de Gobierno local
DESCRIPTION:
URL:https://transparencia.motril.es/evento/junta-de-gobierno-local-7/
LOCATION:Salón de Protocolo\, Plaza de España\, 1\, Granada\, 18600\, España
END:VEVENT
END:VCALENDAR