BEGIN:VCALENDAR
VERSION:2.0
PRODID:-//Ayuntamiento de Motril. Transparencia - ECPv6.15.20//NONSGML v1.0//EN
CALSCALE:GREGORIAN
METHOD:PUBLISH
X-ORIGINAL-URL:https://transparencia.motril.es
X-WR-CALDESC:Eventos para Ayuntamiento de Motril. Transparencia
REFRESH-INTERVAL;VALUE=DURATION:PT1H
X-Robots-Tag:noindex
X-PUBLISHED-TTL:PT1H
BEGIN:VTIMEZONE
TZID:UTC
BEGIN:STANDARD
TZOFFSETFROM:+0000
TZOFFSETTO:+0000
TZNAME:UTC
DTSTART:20230101T000000
END:STANDARD
END:VTIMEZONE
BEGIN:VEVENT
DTSTART;VALUE=DATE:20240227
DTEND;VALUE=DATE:20240228
DTSTAMP:20260424T191729
CREATED:20240226T125119Z
LAST-MODIFIED:20240226T125119Z
UID:7744-1708992000-1709078399@transparencia.motril.es
SUMMARY:La alcaldesa de Motril\, Luisa García Chamorro\, junto con la concejal de Educación\, Madelin Banqueri\, presentan el nuevo autobús de enfermería.
DESCRIPTION:
URL:https://transparencia.motril.es/evento/la-alcaldesa-de-motril-luisa-garcia-chamorro-junto-con-la-concejal-de-educacion-madelin-banqueri-presentan-el-nuevo-autobus-de-enfermeria/
LOCATION:Salón de Protocolo\, Plaza de España\, 1\, Granada\, 18600\, España
END:VEVENT
BEGIN:VEVENT
DTSTART;VALUE=DATE:20240227
DTEND;VALUE=DATE:20240228
DTSTAMP:20260424T191729
CREATED:20240226T125300Z
LAST-MODIFIED:20240226T125300Z
UID:7746-1708992000-1709078399@transparencia.motril.es
SUMMARY:La alcaldesa de Motril\, Luisa García Chamorro\, junto con el equipo de Gobierno municipal\, comparecen para tratar un asunto sobre la limpieza del municipio.
DESCRIPTION:
URL:https://transparencia.motril.es/evento/la-alcaldesa-de-motril-luisa-garcia-chamorro-junto-con-el-equipo-de-gobierno-municipal-comparecen-para-tratar-un-asunto-sobre-la-limpieza-del-municipio/
LOCATION:Salón de Protocolo\, Plaza de España\, 1\, Granada\, 18600\, España
END:VEVENT
BEGIN:VEVENT
DTSTART;VALUE=DATE:20240227
DTEND;VALUE=DATE:20240228
DTSTAMP:20260424T191729
CREATED:20240227T124600Z
LAST-MODIFIED:20240227T124600Z
UID:7770-1708992000-1709078399@transparencia.motril.es
SUMMARY:La alcaldesa de Motril\, Luisa García Chamorro\, junto con el teniente de alcalde de Deporte\, Daniel Ortega\, asisten a las actividades deportivas con motivo del Día de Andalucía.
DESCRIPTION:
URL:https://transparencia.motril.es/evento/la-alcaldesa-de-motril-luisa-garcia-chamorro-junto-con-el-teniente-de-alcalde-de-deporte-daniel-ortega-asisten-a-las-actividades-deportivas-con-motivo-del-dia-de-andalucia/
LOCATION:Plaza de la Coronación
END:VEVENT
END:VCALENDAR