BEGIN:VCALENDAR
VERSION:2.0
PRODID:-//Ayuntamiento de Motril. Transparencia - ECPv6.15.20//NONSGML v1.0//EN
CALSCALE:GREGORIAN
METHOD:PUBLISH
X-WR-CALNAME:Ayuntamiento de Motril. Transparencia
X-ORIGINAL-URL:https://transparencia.motril.es
X-WR-CALDESC:Eventos para Ayuntamiento de Motril. Transparencia
REFRESH-INTERVAL;VALUE=DURATION:PT1H
X-Robots-Tag:noindex
X-PUBLISHED-TTL:PT1H
BEGIN:VTIMEZONE
TZID:UTC
BEGIN:STANDARD
TZOFFSETFROM:+0000
TZOFFSETTO:+0000
TZNAME:UTC
DTSTART:20230101T000000
END:STANDARD
END:VTIMEZONE
BEGIN:VEVENT
DTSTART;VALUE=DATE:20240222
DTEND;VALUE=DATE:20240223
DTSTAMP:20260424T191404
CREATED:20240222T094547Z
LAST-MODIFIED:20240222T094547Z
UID:7711-1708560000-1708646399@transparencia.motril.es
SUMMARY:La alcaldesa de Motril\, Luisa García Chamorro\, junto con el concejal encargado de Obras Públicas\, José Balderas\, y la concejal de Patrimonio Industrial Azucarero\, Madelin Banqueri\, visitan la Fábrica del Pilar.
DESCRIPTION:
URL:https://transparencia.motril.es/evento/la-alcaldesa-de-motril-luisa-garcia-chamorro-junto-con-el-concejal-encargado-de-obras-publicas-jose-balderas-y-la-concejal-de-patrimonio-industrial-azucarero-madelin-banqueri-visitan-la-fabrica/
LOCATION:Fábrica de Nuestra Señora del Pilar\, Motril\, Granada\, 18600\, España
CATEGORIES:Obras
END:VEVENT
BEGIN:VEVENT
DTSTART;VALUE=DATE:20240222
DTEND;VALUE=DATE:20240223
DTSTAMP:20260424T191404
CREATED:20240222T094645Z
LAST-MODIFIED:20240222T094645Z
UID:7713-1708560000-1708646399@transparencia.motril.es
SUMMARY:La alcaldesa de Motril\, Luisa García Chamorro\, junto con el teniente de alcalde de Urbanismo\, Antonio Escámez\, presentan la III edición del Premio a la Excelencia y a las Buenas Prácticas de la Fundación Miguel García.
DESCRIPTION:
URL:https://transparencia.motril.es/evento/la-alcaldesa-de-motril-luisa-garcia-chamorro-junto-con-el-teniente-de-alcalde-de-urbanismo-antonio-escamez-presentan-la-iii-edicion-del-premio-a-la-excelencia-y-a-las-buenas-practicas-de-la-fundac/
LOCATION:Salón de Protocolo\, Plaza de España\, 1\, Granada\, 18600\, España
END:VEVENT
BEGIN:VEVENT
DTSTART;VALUE=DATE:20240222
DTEND;VALUE=DATE:20240223
DTSTAMP:20260424T191404
CREATED:20240222T094741Z
LAST-MODIFIED:20240222T094741Z
UID:7715-1708560000-1708646399@transparencia.motril.es
SUMMARY:La alcaldesa de Motril\, Luisa García Chamorro\, junto con la teniente de alcalde de Formación y Empleo\, María Ángeles Escámez\, y la teniente de alcalde de Igualdad\, Inmaculada Torres\, presentan los II Premios al Emprendimiento y Liderazgo Femenino de la Costa Tropical.
DESCRIPTION:
URL:https://transparencia.motril.es/evento/la-alcaldesa-de-motril-luisa-garcia-chamorro-junto-con-la-teniente-de-alcalde-de-formacion-y-empleo-maria-angeles-escamez-y-la-teniente-de-alcalde-de-igualdad-inmaculada-torres-presentan-los-ii/
LOCATION:Fábrica de Nuestra Señora del Pilar\, Motril\, Granada\, 18600\, España
CATEGORIES:Presentación
END:VEVENT
END:VCALENDAR