BEGIN:VCALENDAR
VERSION:2.0
PRODID:-//Ayuntamiento de Motril. Transparencia - ECPv6.15.20//NONSGML v1.0//EN
CALSCALE:GREGORIAN
METHOD:PUBLISH
X-WR-CALNAME:Ayuntamiento de Motril. Transparencia
X-ORIGINAL-URL:https://transparencia.motril.es
X-WR-CALDESC:Eventos para Ayuntamiento de Motril. Transparencia
REFRESH-INTERVAL;VALUE=DURATION:PT1H
X-Robots-Tag:noindex
X-PUBLISHED-TTL:PT1H
BEGIN:VTIMEZONE
TZID:UTC
BEGIN:STANDARD
TZOFFSETFROM:+0000
TZOFFSETTO:+0000
TZNAME:UTC
DTSTART:20230101T000000
END:STANDARD
END:VTIMEZONE
BEGIN:VEVENT
DTSTART;VALUE=DATE:20240212
DTEND;VALUE=DATE:20240213
DTSTAMP:20260424T191513
CREATED:20240212T095357Z
LAST-MODIFIED:20240212T095357Z
UID:7529-1707696000-1707782399@transparencia.motril.es
SUMMARY:La alcaldesa de Motril\, Luisa García Chamorro\, junto a la teniente de alcalde de Acción Social\, Inmaculada Torres\, y la concejal de Educación\, Madelín Banqueri\, reciben a los alumnos participantes en el proyecto intergeneracional del colegio Padre Manjón Granada.
DESCRIPTION:
URL:https://transparencia.motril.es/evento/la-alcaldesa-de-motril-luisa-garcia-chamorro-junto-a-la-teniente-de-alcalde-de-accion-social-inmaculada-torres-y-la-concejal-de-educacion-madelin-banqueri-reciben-a-los-alumnos-participantes-en/
LOCATION:Salón de Protocolo\, Plaza de España\, 1\, Granada\, 18600\, España
END:VEVENT
BEGIN:VEVENT
DTSTART;VALUE=DATE:20240212
DTEND;VALUE=DATE:20240213
DTSTAMP:20260424T191513
CREATED:20240212T095548Z
LAST-MODIFIED:20240212T095548Z
UID:7531-1707696000-1707782399@transparencia.motril.es
SUMMARY:La alcaldesa de Motril\, Luisa García Chamorro\, recibe al escritor Nicolás Díaz Barros.
DESCRIPTION:
URL:https://transparencia.motril.es/evento/la-alcaldesa-de-motril-luisa-garcia-chamorro-recibe-al-escritor-nicolas-diaz-barros/
CATEGORIES:Recepciones
END:VEVENT
BEGIN:VEVENT
DTSTART;VALUE=DATE:20240212
DTEND;VALUE=DATE:20240213
DTSTAMP:20260424T191513
CREATED:20240212T095712Z
LAST-MODIFIED:20240212T100150Z
UID:7534-1707696000-1707782399@transparencia.motril.es
SUMMARY:La alcaldesa de Motril\, Luisa García Chamorro\, junto a miembros de la corporación municipal guardan un minuto de silencio en memoria de los dos Guardia Civiles fallecidos en Barbate en acto de servicio.
DESCRIPTION:
URL:https://transparencia.motril.es/evento/la-alcaldesa-de-motril-luisa-garcia-chamorro-junto-a-miembros-de-la-corporacion-municipal-guardan-un-minuto-de-silencio-en-memoria-de-los-dos-guardia-civiles-fallecidos-en-barbate-en-acto-de-servici/
LOCATION:Plaza de España
CATEGORIES:Concentración
END:VEVENT
BEGIN:VEVENT
DTSTART;VALUE=DATE:20240212
DTEND;VALUE=DATE:20240213
DTSTAMP:20260424T191513
CREATED:20240212T095842Z
LAST-MODIFIED:20240212T095926Z
UID:7536-1707696000-1707782399@transparencia.motril.es
SUMMARY:La alcaldesa de Motril\, Luisa García Chamorro\, junto con el teniente de alcalde de Playas\, José Peña\, visitan la playa tras el temporal.
DESCRIPTION:
URL:https://transparencia.motril.es/evento/hola-alejandro-voy-ahora-a-la-playa-con-javi-para-hacer-seguimiento-que-esta-manana-a-primera-hora-teniamos-reportaje-pero-cuento-con-las-valoraciones-de-la-visita-queria-preguntar-que-va-a-pasa/
CATEGORIES:Turismo
END:VEVENT
BEGIN:VEVENT
DTSTART;VALUE=DATE:20240212
DTEND;VALUE=DATE:20240213
DTSTAMP:20260424T191513
CREATED:20240212T100012Z
LAST-MODIFIED:20240212T100012Z
UID:7540-1707696000-1707782399@transparencia.motril.es
SUMMARY:La alcaldesa de Motril\, Luisa García Chamorro\, junto con el teniente de alcalde de Urbanismo\, Antonio Escámez\, visitan el camino de La Puchilla.
DESCRIPTION:
URL:https://transparencia.motril.es/evento/la-alcaldesa-de-motril-luisa-garcia-chamorro-junto-con-el-teniente-de-alcalde-de-urbanismo-antonio-escamez-visitan-el-camino-de-la-puchilla/
END:VEVENT
BEGIN:VEVENT
DTSTART;VALUE=DATE:20240212
DTEND;VALUE=DATE:20240213
DTSTAMP:20260424T191513
CREATED:20240212T100226Z
LAST-MODIFIED:20240212T100226Z
UID:7543-1707696000-1707782399@transparencia.motril.es
SUMMARY:La alcaldesa de Motril\, Luisa García Chamorro\, junto con el teniente de alcalde de Deportes\, Daniel Ortega\, asisten a la entrega de premios del concurso ‘Bicimuévete por Motril’.
DESCRIPTION:
URL:https://transparencia.motril.es/evento/la-alcaldesa-de-motril-luisa-garcia-chamorro-junto-con-el-teniente-de-alcalde-de-deportes-daniel-ortega-asisten-a-la-entrega-de-premios-del-concurso-bicimuevete-por-motril/
LOCATION:Colegio Ave María
END:VEVENT
END:VCALENDAR