BEGIN:VCALENDAR
VERSION:2.0
PRODID:-//Ayuntamiento de Motril. Transparencia - ECPv6.15.20//NONSGML v1.0//EN
CALSCALE:GREGORIAN
METHOD:PUBLISH
X-WR-CALNAME:Ayuntamiento de Motril. Transparencia
X-ORIGINAL-URL:https://transparencia.motril.es
X-WR-CALDESC:Eventos para Ayuntamiento de Motril. Transparencia
REFRESH-INTERVAL;VALUE=DURATION:PT1H
X-Robots-Tag:noindex
X-PUBLISHED-TTL:PT1H
BEGIN:VTIMEZONE
TZID:UTC
BEGIN:STANDARD
TZOFFSETFROM:+0000
TZOFFSETTO:+0000
TZNAME:UTC
DTSTART:20230101T000000
END:STANDARD
END:VTIMEZONE
BEGIN:VEVENT
DTSTART;VALUE=DATE:20240205
DTEND;VALUE=DATE:20240206
DTSTAMP:20260424T191400
CREATED:20240202T104616Z
LAST-MODIFIED:20240202T124212Z
UID:7493-1707091200-1707177599@transparencia.motril.es
SUMMARY:La alcaldesa de Motril\, Luisa García Chamorro\, junto a la concejal de Patrimonio Industrial Azucarero\, Madelín Banqueri\, visitan el edificio de recepción de visitantes de la fábrica.
DESCRIPTION:
URL:https://transparencia.motril.es/evento/la-alcaldesa-de-motril-luisa-garcia-chamorro-junto-a-la-concejal-de-patrimonio-industrial-azucarero-madelin-banqueri-visitan-el-edificio-de-recepcion-de-visitantes-de-la-fabrica/
LOCATION:Fábrica de Nuestra Señora del Pilar\, Motril\, Granada\, 18600\, España
END:VEVENT
BEGIN:VEVENT
DTSTART;VALUE=DATE:20240205
DTEND;VALUE=DATE:20240206
DTSTAMP:20260424T191400
CREATED:20240202T104412Z
LAST-MODIFIED:20240202T124121Z
UID:7491-1707091200-1707177599@transparencia.motril.es
SUMMARY:La alcaldesa de Motril\, Luisa García Chamorro\, junto al teniente de alcalde de Playas\, José Lemos\, visitan los nuevos módulos de Villa Astrida
DESCRIPTION:Zona de Villa Astrida
URL:https://transparencia.motril.es/evento/la-alcaldesa-de-motril-luisa-garcia-chamorro-junto-al-teniente-de-alcalde-de-playas-jose-lemos-visitan-los-nuevos-modulos-de-villa-astrida/
END:VEVENT
BEGIN:VEVENT
DTSTART;VALUE=DATE:20240205
DTEND;VALUE=DATE:20240206
DTSTAMP:20260424T191400
CREATED:20240202T104806Z
LAST-MODIFIED:20240202T124004Z
UID:7497-1707091200-1707177599@transparencia.motril.es
SUMMARY:La alcaldesa de Motril\, Luisa García Chamorro\, recibe a la nueva gerente del Hospital Comarcal Santa Ana\, Beatriz Martínez.
DESCRIPTION:
URL:https://transparencia.motril.es/evento/la-alcaldesa-de-motril-luisa-garcia-chamorro-recibe-a-la-nueva-gerente-del-hospital-comarcal-santa-ana-beatriz-martinez/
LOCATION:Salón de Protocolo\, Plaza de España\, 1\, Granada\, 18600\, España
CATEGORIES:Reunión
END:VEVENT
END:VCALENDAR