BEGIN:VCALENDAR
VERSION:2.0
PRODID:-//Ayuntamiento de Motril. Transparencia - ECPv6.15.20//NONSGML v1.0//EN
CALSCALE:GREGORIAN
METHOD:PUBLISH
X-ORIGINAL-URL:https://transparencia.motril.es
X-WR-CALDESC:Eventos para Ayuntamiento de Motril. Transparencia
REFRESH-INTERVAL;VALUE=DURATION:PT1H
X-Robots-Tag:noindex
X-PUBLISHED-TTL:PT1H
BEGIN:VTIMEZONE
TZID:UTC
BEGIN:STANDARD
TZOFFSETFROM:+0000
TZOFFSETTO:+0000
TZNAME:UTC
DTSTART:20230101T000000
END:STANDARD
END:VTIMEZONE
BEGIN:VEVENT
DTSTART;TZID=UTC:20240131T093000
DTEND;TZID=UTC:20240131T100000
DTSTAMP:20260424T174413
CREATED:20240130T124407Z
LAST-MODIFIED:20240130T124948Z
UID:7403-1706693400-1706695200@transparencia.motril.es
SUMMARY:La alcaldesa de Motril\, Luisa García Chamorro\, es entrevistada en COPE Motril.
DESCRIPTION:
URL:https://transparencia.motril.es/evento/la-alcaldesa-de-motril-luisa-garcia-chamorro-es-entrevistada-en-cope-motril/
LOCATION:COPE Motril\, Calle Nueva\, 5.\, Motril\, Granada\, 18600
END:VEVENT
BEGIN:VEVENT
DTSTART;TZID=UTC:20240131T103000
DTEND;TZID=UTC:20240131T230000
DTSTAMP:20260424T174413
CREATED:20240130T083926Z
LAST-MODIFIED:20240130T083926Z
UID:7395-1706697000-1706742000@transparencia.motril.es
SUMMARY:Reunión interna
DESCRIPTION:
URL:https://transparencia.motril.es/evento/reunion-interna-276/
LOCATION:Salón de Protocolo\, Plaza de España\, 1\, Granada\, 18600\, España
CATEGORIES:Reunión
END:VEVENT
BEGIN:VEVENT
DTSTART;TZID=UTC:20240131T113000
DTEND;TZID=UTC:20240131T123000
DTSTAMP:20260424T174413
CREATED:20240130T132713Z
LAST-MODIFIED:20240130T132713Z
UID:7407-1706700600-1706704200@transparencia.motril.es
SUMMARY:La alcaldesa de Motril\, Luisa García Chamorro\, junto con la teniente de alcalde de Igualdad\, Inmaculada Torres\, y la concejal de Educación\, Madelin Banqueri\, asisten a la presentación del IX Concurso Provincial Araceli Morales.
DESCRIPTION:
URL:https://transparencia.motril.es/evento/la-alcaldesa-de-motril-luisa-garcia-chamorro-junto-con-la-teniente-de-alcalde-de-igualdad-inmaculada-torres-y-la-concejal-de-educacion-madelin-banqueri-asisten-a-la-presentacion-del-ix-concurso/
CATEGORIES:Presentación
END:VEVENT
BEGIN:VEVENT
DTSTART;TZID=UTC:20240131T131500
DTEND;TZID=UTC:20240131T140000
DTSTAMP:20260424T174413
CREATED:20240130T132846Z
LAST-MODIFIED:20240130T132846Z
UID:7409-1706706900-1706709600@transparencia.motril.es
SUMMARY:La alcaldesa de Motril\, Luisa García Chamorro\, junto con el teniente de alcalde de Relaciones Institucionales\, José Peña\, reciben al diputado provincial Eduardo Martos.
DESCRIPTION:
URL:https://transparencia.motril.es/evento/la-alcaldesa-de-motril-luisa-garcia-chamorro-junto-con-el-teniente-de-alcalde-de-relaciones-institucionales-jose-pena-reciben-al-diputado-provincial-eduardo-martos/
LOCATION:Salón de Protocolo\, Plaza de España\, 1\, Granada\, 18600\, España
CATEGORIES:Recepciones
END:VEVENT
END:VCALENDAR