BEGIN:VCALENDAR
VERSION:2.0
PRODID:-//Ayuntamiento de Motril. Transparencia - ECPv6.15.20//NONSGML v1.0//EN
CALSCALE:GREGORIAN
METHOD:PUBLISH
X-ORIGINAL-URL:https://transparencia.motril.es
X-WR-CALDESC:Eventos para Ayuntamiento de Motril. Transparencia
REFRESH-INTERVAL;VALUE=DURATION:PT1H
X-Robots-Tag:noindex
X-PUBLISHED-TTL:PT1H
BEGIN:VTIMEZONE
TZID:UTC
BEGIN:STANDARD
TZOFFSETFROM:+0000
TZOFFSETTO:+0000
TZNAME:UTC
DTSTART:20230101T000000
END:STANDARD
END:VTIMEZONE
BEGIN:VEVENT
DTSTART;TZID=UTC:20240124T100000
DTEND;TZID=UTC:20240124T230000
DTSTAMP:20260424T174413
CREATED:20240125T123956Z
LAST-MODIFIED:20240125T123956Z
UID:7293-1706090400-1706137200@transparencia.motril.es
SUMMARY:La alcaldesa de Motril\, Luisa García Chamorro\, junto con miembros del Gobierno municipal\, asisten a la Feria Internacional de Turismo (FITUR).
DESCRIPTION:
URL:https://transparencia.motril.es/evento/la-alcaldesa-de-motril-luisa-garcia-chamorro-junto-con-miembros-del-gobierno-municipal-asisten-a-la-feria-internacional-de-turismo-fitur/
LOCATION:IFEMA Madrid\, Av. del Partenón\, 5\, Barajas\, 28042 Madrid\, Madrid\, España
CATEGORIES:Turismo
END:VEVENT
BEGIN:VEVENT
DTSTART;TZID=UTC:20240124T193000
DTEND;TZID=UTC:20240124T200000
DTSTAMP:20260424T174413
CREATED:20240125T124135Z
LAST-MODIFIED:20240125T125114Z
UID:7295-1706124600-1706126400@transparencia.motril.es
SUMMARY:La alcaldesa de Motril\, Luisa García Chamorro\, junto con miembros del Gobierno municipal\, presentan la campaña de Motril Callao.
DESCRIPTION:
URL:https://transparencia.motril.es/evento/la-alcaldesa-de-motril-luisa-garcia-chamorro-junto-con-miembros-del-gobierno-municipal-presentan-la-campana-de-motril-callao/
LOCATION:Cine Palacio de la Prensa – Plaza de Callao\, 4\, Plaza de Callao\, 4\, Madrid
CATEGORIES:Turismo
END:VEVENT
END:VCALENDAR