BEGIN:VCALENDAR
VERSION:2.0
PRODID:-//Ayuntamiento de Motril. Transparencia - ECPv6.15.20//NONSGML v1.0//EN
CALSCALE:GREGORIAN
METHOD:PUBLISH
X-WR-CALNAME:Ayuntamiento de Motril. Transparencia
X-ORIGINAL-URL:https://transparencia.motril.es
X-WR-CALDESC:Eventos para Ayuntamiento de Motril. Transparencia
REFRESH-INTERVAL;VALUE=DURATION:PT1H
X-Robots-Tag:noindex
X-PUBLISHED-TTL:PT1H
BEGIN:VTIMEZONE
TZID:UTC
BEGIN:STANDARD
TZOFFSETFROM:+0000
TZOFFSETTO:+0000
TZNAME:UTC
DTSTART:20230101T000000
END:STANDARD
END:VTIMEZONE
BEGIN:VEVENT
DTSTART;TZID=UTC:20240113T120000
DTEND;TZID=UTC:20240113T140000
DTSTAMP:20260424T204254
CREATED:20240126T110832Z
LAST-MODIFIED:20240126T110832Z
UID:7317-1705147200-1705154400@transparencia.motril.es
SUMMARY:La alcaldesa de Motril\, Luisa García Chamorro\, junto con miembros de la Corporación municipal\, asisten a los actos con motivo del 200 aniversario de la Policía Nacional.
DESCRIPTION:
URL:https://transparencia.motril.es/evento/la-alcaldesa-de-motril-luisa-garcia-chamorro-junto-con-miembros-de-la-corporacion-municipal-asisten-a-los-actos-con-motivo-del-200-aniversario-de-la-policia-nacional/
LOCATION:Plaza de la Coronación
CATEGORIES:Policía Nacional
END:VEVENT
BEGIN:VEVENT
DTSTART;TZID=UTC:20240113T200000
DTEND;TZID=UTC:20240113T220000
DTSTAMP:20260424T204254
CREATED:20240126T111248Z
LAST-MODIFIED:20240126T111248Z
UID:7319-1705176000-1705183200@transparencia.motril.es
SUMMARY:La alcaldesa de Motril\, Luisa García Chamorro\, junto con miembros del Gobierno municipal\, asisten a la función principal y renovación del voto en honor al Día de los Terremotos.
DESCRIPTION:
URL:https://transparencia.motril.es/evento/la-alcaldesa-de-motril-luisa-garcia-chamorro-junto-con-miembros-del-gobierno-municipal-asisten-a-la-funcion-principal-y-renovacion-del-voto-en-honor-al-dia-de-los-terremotos/
LOCATION:Iglesia Mayor de la Encarnación\, Plaza de España\, Motril\, Granada\, 18600\, España
CATEGORIES:Actos
END:VEVENT
BEGIN:VEVENT
DTSTART;TZID=UTC:20240113T210000
DTEND;TZID=UTC:20240113T230000
DTSTAMP:20260424T204254
CREATED:20240126T111512Z
LAST-MODIFIED:20240126T111512Z
UID:7322-1705179600-1705186800@transparencia.motril.es
SUMMARY:La alcaldesa de Motril\, Luisa García Chamorro\, junto con miembros del Gobierno municipal\, asisten a la procesión en honor al Día de los Terremotos.
DESCRIPTION:
URL:https://transparencia.motril.es/evento/la-alcaldesa-de-motril-luisa-garcia-chamorro-junto-con-miembros-del-gobierno-municipal-asisten-a-la-procesion-en-honor-al-dia-de-los-terremotos/
LOCATION:Iglesia Mayor de la Encarnación\, Plaza de España\, Motril\, Granada\, 18600\, España
CATEGORIES:Día de los Terremotos
END:VEVENT
END:VCALENDAR