BEGIN:VCALENDAR
VERSION:2.0
PRODID:-//Ayuntamiento de Motril. Transparencia - ECPv6.15.20//NONSGML v1.0//EN
CALSCALE:GREGORIAN
METHOD:PUBLISH
X-WR-CALNAME:Ayuntamiento de Motril. Transparencia
X-ORIGINAL-URL:https://transparencia.motril.es
X-WR-CALDESC:Eventos para Ayuntamiento de Motril. Transparencia
REFRESH-INTERVAL;VALUE=DURATION:PT1H
X-Robots-Tag:noindex
X-PUBLISHED-TTL:PT1H
BEGIN:VTIMEZONE
TZID:UTC
BEGIN:STANDARD
TZOFFSETFROM:+0000
TZOFFSETTO:+0000
TZNAME:UTC
DTSTART:20230101T000000
END:STANDARD
END:VTIMEZONE
BEGIN:VEVENT
DTSTART;TZID=UTC:20240112T203000
DTEND;TZID=UTC:20240112T213000
DTSTAMP:20260424T174253
CREATED:20240126T111724Z
LAST-MODIFIED:20240126T111724Z
UID:7324-1705091400-1705095000@transparencia.motril.es
SUMMARY:La alcaldesa de Motril\, Luisa García Chamorro\, junto con la teniente de alcalde de Igualdad\, Inmaculada Torres\, y la concejal de Patrimonio Industrial Azucarero\, Madelin Banqueri\, asisten a la inauguración de la exposición y publicación;Por los caminos del Kruger”.
DESCRIPTION:
URL:https://transparencia.motril.es/evento/la-alcaldesa-de-motril-luisa-garcia-chamorro-junto-con-la-teniente-de-alcalde-de-igualdad-inmaculada-torres-y-la-concejal-de-patrimonio-industrial-azucarero-madelin-banqueri-asisten-a-la-inaugur/
LOCATION:Fábrica de Nuestra Señora del Pilar\, Motril\, Granada\, 18600\, España
CATEGORIES:Actos
END:VEVENT
END:VCALENDAR