BEGIN:VCALENDAR
VERSION:2.0
PRODID:-//Ayuntamiento de Motril. Transparencia - ECPv6.15.20//NONSGML v1.0//EN
CALSCALE:GREGORIAN
METHOD:PUBLISH
X-WR-CALNAME:Ayuntamiento de Motril. Transparencia
X-ORIGINAL-URL:https://transparencia.motril.es
X-WR-CALDESC:Eventos para Ayuntamiento de Motril. Transparencia
REFRESH-INTERVAL;VALUE=DURATION:PT1H
X-Robots-Tag:noindex
X-PUBLISHED-TTL:PT1H
BEGIN:VTIMEZONE
TZID:UTC
BEGIN:STANDARD
TZOFFSETFROM:+0000
TZOFFSETTO:+0000
TZNAME:UTC
DTSTART:20230101T000000
END:STANDARD
END:VTIMEZONE
BEGIN:VEVENT
DTSTART;TZID=UTC:20240108T090000
DTEND;TZID=UTC:20240108T220000
DTSTAMP:20260424T174256
CREATED:20240126T113711Z
LAST-MODIFIED:20240126T113711Z
UID:7340-1704704400-1704751200@transparencia.motril.es
SUMMARY:Reunión interna
DESCRIPTION:
URL:https://transparencia.motril.es/evento/reunion-interna-262/
LOCATION:Despacho alcaldesa Ayuntamiento de Motril
CATEGORIES:Reunión
END:VEVENT
BEGIN:VEVENT
DTSTART;TZID=UTC:20240108T110000
DTEND;TZID=UTC:20240108T120000
DTSTAMP:20260424T174256
CREATED:20240126T113848Z
LAST-MODIFIED:20240126T113848Z
UID:7342-1704711600-1704715200@transparencia.motril.es
SUMMARY:Reunión interna
DESCRIPTION:
URL:https://transparencia.motril.es/evento/reunion-interna-263/
LOCATION:Despacho alcaldesa Ayuntamiento de Motril
CATEGORIES:Reunión
END:VEVENT
END:VCALENDAR