BEGIN:VCALENDAR
VERSION:2.0
PRODID:-//Ayuntamiento de Motril. Transparencia - ECPv6.15.20//NONSGML v1.0//EN
CALSCALE:GREGORIAN
METHOD:PUBLISH
X-ORIGINAL-URL:https://transparencia.motril.es
X-WR-CALDESC:Eventos para Ayuntamiento de Motril. Transparencia
REFRESH-INTERVAL;VALUE=DURATION:PT1H
X-Robots-Tag:noindex
X-PUBLISHED-TTL:PT1H
BEGIN:VTIMEZONE
TZID:UTC
BEGIN:STANDARD
TZOFFSETFROM:+0000
TZOFFSETTO:+0000
TZNAME:UTC
DTSTART:20230101T000000
END:STANDARD
END:VTIMEZONE
BEGIN:VEVENT
DTSTART;TZID=UTC:20240105T153000
DTEND;TZID=UTC:20240105T160000
DTSTAMP:20260424T174413
CREATED:20240126T112621Z
LAST-MODIFIED:20240126T112621Z
UID:7330-1704468600-1704470400@transparencia.motril.es
SUMMARY:La alcaldesa de Motril\, Luisa García Chamorro\, junto con el concejal de Fiestas y Eventos\, Gerardo Romano\, y miembros del Gobierno municipal\, entregan las llaves de la ciudad de Motril a SS.MM. los Reyes Magos de Oriente.
DESCRIPTION:
URL:https://transparencia.motril.es/evento/la-alcaldesa-de-motril-luisa-garcia-chamorro-junto-con-el-concejal-de-fiestas-y-eventos-gerardo-romano-y-miembros-del-gobierno-municipal-entregan-las-llaves-de-la-ciudad-de-motril-a-ss-mm-los-re/
LOCATION:Ayuntamiento de Motril
CATEGORIES:Recepciones
END:VEVENT
BEGIN:VEVENT
DTSTART;TZID=UTC:20240105T173000
DTEND;TZID=UTC:20240105T183000
DTSTAMP:20260424T174413
CREATED:20240126T112738Z
LAST-MODIFIED:20240126T112738Z
UID:7332-1704475800-1704479400@transparencia.motril.es
SUMMARY:La alcaldesa de Motril\, Luisa García Chamorro\, asiste a la llegada de SS.MM. los Reyes Magos de Oriente a la ciudad.
DESCRIPTION:
URL:https://transparencia.motril.es/evento/la-alcaldesa-de-motril-luisa-garcia-chamorro-asiste-a-la-llegada-de-ss-mm-los-reyes-magos-de-oriente-a-la-ciudad/
LOCATION:Puerto de Motril
END:VEVENT
BEGIN:VEVENT
DTSTART;TZID=UTC:20240105T183000
DTEND;TZID=UTC:20240105T183000
DTSTAMP:20260424T174413
CREATED:20240126T112903Z
LAST-MODIFIED:20240126T112903Z
UID:7334-1704479400-1704479400@transparencia.motril.es
SUMMARY:La alcaldesa de Motril\, Luisa García Chamorro\, asiste a la tradicional cabalgata de SS.MM. los Reyes Magos de Oriente.
DESCRIPTION:
URL:https://transparencia.motril.es/evento/la-alcaldesa-de-motril-luisa-garcia-chamorro-asiste-a-la-tradicional-cabalgata-de-ss-mm-los-reyes-magos-de-oriente/
END:VEVENT
END:VCALENDAR