BEGIN:VCALENDAR
VERSION:2.0
PRODID:-//Ayuntamiento de Motril. Transparencia - ECPv6.15.20//NONSGML v1.0//EN
CALSCALE:GREGORIAN
METHOD:PUBLISH
X-WR-CALNAME:Ayuntamiento de Motril. Transparencia
X-ORIGINAL-URL:https://transparencia.motril.es
X-WR-CALDESC:Eventos para Ayuntamiento de Motril. Transparencia
REFRESH-INTERVAL;VALUE=DURATION:PT1H
X-Robots-Tag:noindex
X-PUBLISHED-TTL:PT1H
BEGIN:VTIMEZONE
TZID:UTC
BEGIN:STANDARD
TZOFFSETFROM:+0000
TZOFFSETTO:+0000
TZNAME:UTC
DTSTART:20220101T000000
END:STANDARD
END:VTIMEZONE
BEGIN:VEVENT
DTSTART;TZID=UTC:20231128T093000
DTEND;TZID=UTC:20231128T120000
DTSTAMP:20260424T143343
CREATED:20240201T105502Z
LAST-MODIFIED:20240201T105502Z
UID:7449-1701163800-1701172800@transparencia.motril.es
SUMMARY:La corporación municipal celebra sesión plenaria ordinaria.
DESCRIPTION:
URL:https://transparencia.motril.es/evento/la-corporacion-municipal-celebra-sesion-plenaria-ordinaria-3/
LOCATION:Salón de Plenos de la Casa Consistorial\, PLAZA DE ESPAÑA\, 1\, MOTRIL\, Granada\, 18600\, España
END:VEVENT
END:VCALENDAR