BEGIN:VCALENDAR
VERSION:2.0
PRODID:-//Ayuntamiento de Motril. Transparencia - ECPv6.15.20//NONSGML v1.0//EN
CALSCALE:GREGORIAN
METHOD:PUBLISH
X-WR-CALNAME:Ayuntamiento de Motril. Transparencia
X-ORIGINAL-URL:https://transparencia.motril.es
X-WR-CALDESC:Eventos para Ayuntamiento de Motril. Transparencia
REFRESH-INTERVAL;VALUE=DURATION:PT1H
X-Robots-Tag:noindex
X-PUBLISHED-TTL:PT1H
BEGIN:VTIMEZONE
TZID:UTC
BEGIN:STANDARD
TZOFFSETFROM:+0000
TZOFFSETTO:+0000
TZNAME:UTC
DTSTART:20220101T000000
END:STANDARD
END:VTIMEZONE
BEGIN:VEVENT
DTSTART;TZID=UTC:20230614T090000
DTEND;TZID=UTC:20230614T090000
DTSTAMP:20260424T111321
CREATED:20230614T103848Z
LAST-MODIFIED:20230614T103848Z
UID:6699-1686733200-1686733200@transparencia.motril.es
SUMMARY:La alcaldesa de Motril\, Luisa García Chamorro\, y el teniente de alcalde de Agricultura\, Antonio Escámez\, asisten a la inauguración de las II Jornadas técnicas de subtropicales
DESCRIPTION:
URL:https://transparencia.motril.es/evento/la-alcaldesa-de-motril-luisa-garcia-chamorro-y-el-teniente-de-alcalde-de-agricultura-antonio-escamez-asisten-a-la-inauguracion-de-las-ii-jornadas-tecnicas-de-subtropicales/
CATEGORIES:Actos,Agricultura
END:VEVENT
BEGIN:VEVENT
DTSTART;TZID=UTC:20230614T210000
DTEND;TZID=UTC:20230614T210000
DTSTAMP:20260424T111321
CREATED:20230614T104128Z
LAST-MODIFIED:20230614T104128Z
UID:6701-1686776400-1686776400@transparencia.motril.es
SUMMARY:La alcaldesa de Motril\, Luisa García Chamorro\, y el concejal de Deportes\, Daniel Ortega\, asisten a la entrega de premios del I Torneo de Fútbol inclusivo Ciudad de Motril
DESCRIPTION:
URL:https://transparencia.motril.es/evento/la-alcaldesa-de-motril-luisa-garcia-chamorro-y-el-concejal-de-deportes-daniel-ortega-asisten-a-la-entrega-de-premios-del-i-torneo-de-futbol-inclusivo-ciudad-de-motril/
CATEGORIES:Actos,Deportes
END:VEVENT
END:VCALENDAR