BEGIN:VCALENDAR
VERSION:2.0
PRODID:-//Ayuntamiento de Motril. Transparencia - ECPv6.15.20//NONSGML v1.0//EN
CALSCALE:GREGORIAN
METHOD:PUBLISH
X-WR-CALNAME:Ayuntamiento de Motril. Transparencia
X-ORIGINAL-URL:https://transparencia.motril.es
X-WR-CALDESC:Eventos para Ayuntamiento de Motril. Transparencia
REFRESH-INTERVAL;VALUE=DURATION:PT1H
X-Robots-Tag:noindex
X-PUBLISHED-TTL:PT1H
BEGIN:VTIMEZONE
TZID:UTC
BEGIN:STANDARD
TZOFFSETFROM:+0000
TZOFFSETTO:+0000
TZNAME:UTC
DTSTART:20220101T000000
END:STANDARD
END:VTIMEZONE
BEGIN:VEVENT
DTSTART;TZID=UTC:20230609T080000
DTEND;TZID=UTC:20230609T170000
DTSTAMP:20260424T111928
CREATED:20230609T111544Z
LAST-MODIFIED:20230609T111544Z
UID:6682-1686297600-1686330000@transparencia.motril.es
SUMMARY:La alcaldesa de Motril\, Luisa García Chamorro\, asiste a la salida de la XXVII concentración de motos clásicas.
DESCRIPTION:
URL:https://transparencia.motril.es/evento/la-alcaldesa-de-motril-luisa-garcia-chamorro-asiste-a-la-salida-de-la-xxvii-concentracion-de-motos-clasicas/
END:VEVENT
BEGIN:VEVENT
DTSTART;TZID=UTC:20230609T203000
DTEND;TZID=UTC:20230609T203000
DTSTAMP:20260424T111928
CREATED:20230609T103148Z
LAST-MODIFIED:20230609T103148Z
UID:6678-1686342600-1686342600@transparencia.motril.es
SUMMARY:La alcaldesa de Motril\, Luisa García Chamorro\, asiste a la actuación de la Escuela de Baile Virgen de las Angustias ‘Esencia de abril’
DESCRIPTION:
URL:https://transparencia.motril.es/evento/la-alcaldesa-de-motril-luisa-garcia-chamorro-asiste-a-la-actuacion-de-la-escuela-de-baile-virgen-de-las-angustias-esencia-de-abril/
CATEGORIES:Actos
END:VEVENT
END:VCALENDAR