BEGIN:VCALENDAR
VERSION:2.0
PRODID:-//Ayuntamiento de Motril. Transparencia - ECPv6.15.20//NONSGML v1.0//EN
CALSCALE:GREGORIAN
METHOD:PUBLISH
X-ORIGINAL-URL:https://transparencia.motril.es
X-WR-CALDESC:Eventos para Ayuntamiento de Motril. Transparencia
REFRESH-INTERVAL;VALUE=DURATION:PT1H
X-Robots-Tag:noindex
X-PUBLISHED-TTL:PT1H
BEGIN:VTIMEZONE
TZID:UTC
BEGIN:STANDARD
TZOFFSETFROM:+0000
TZOFFSETTO:+0000
TZNAME:UTC
DTSTART:20220101T000000
END:STANDARD
END:VTIMEZONE
BEGIN:VEVENT
DTSTART;TZID=UTC:20230605T100000
DTEND;TZID=UTC:20230605T100000
DTSTAMP:20260424T111448
CREATED:20230607T172037Z
LAST-MODIFIED:20230607T172037Z
UID:6676-1685959200-1685959200@transparencia.motril.es
SUMMARY:La alcaldesa de Motril\, Luisa García Chamorro\, hace balance de la celebración del Día de las Fuerzas Armadas en Motril.
DESCRIPTION:
URL:https://transparencia.motril.es/evento/la-alcaldesa-de-motril-luisa-garcia-chamorro-hace-balance-de-la-celebracion-del-dia-de-las-fuerzas-armadas-en-motril/
CATEGORIES:Actos
END:VEVENT
BEGIN:VEVENT
DTSTART;TZID=UTC:20230605T123000
DTEND;TZID=UTC:20230605T123000
DTSTAMP:20260424T111448
CREATED:20230605T101746Z
LAST-MODIFIED:20230605T101746Z
UID:6672-1685968200-1685968200@transparencia.motril.es
SUMMARY:Reunión interna
DESCRIPTION:
URL:https://transparencia.motril.es/evento/reunion-interna-256/
CATEGORIES:Reunión
END:VEVENT
END:VCALENDAR