BEGIN:VCALENDAR
VERSION:2.0
PRODID:-//Ayuntamiento de Motril. Transparencia - ECPv6.15.20//NONSGML v1.0//EN
CALSCALE:GREGORIAN
METHOD:PUBLISH
X-WR-CALNAME:Ayuntamiento de Motril. Transparencia
X-ORIGINAL-URL:https://transparencia.motril.es
X-WR-CALDESC:Eventos para Ayuntamiento de Motril. Transparencia
REFRESH-INTERVAL;VALUE=DURATION:PT1H
X-Robots-Tag:noindex
X-PUBLISHED-TTL:PT1H
BEGIN:VTIMEZONE
TZID:UTC
BEGIN:STANDARD
TZOFFSETFROM:+0000
TZOFFSETTO:+0000
TZNAME:UTC
DTSTART:20220101T000000
END:STANDARD
END:VTIMEZONE
BEGIN:VEVENT
DTSTART;TZID=UTC:20230524T113000
DTEND;TZID=UTC:20230524T113000
DTSTAMP:20260424T082747
CREATED:20230523T112721Z
LAST-MODIFIED:20230523T112721Z
UID:6655-1684927800-1684927800@transparencia.motril.es
SUMMARY:La alcaldesa de Motril\, Luisa García Chamorro\, y miembros del equipo de gobierno reciben a alumnado de intercambio con el IES La Zafra
DESCRIPTION:
URL:https://transparencia.motril.es/evento/la-alcaldesa-de-motril-luisa-garcia-chamorro-y-miembros-del-equipo-de-gobierno-reciben-a-alumnado-de-intercambio-con-el-ies-la-zafra/
CATEGORIES:Actos,Educación
END:VEVENT
BEGIN:VEVENT
DTSTART;TZID=UTC:20230524T130000
DTEND;TZID=UTC:20230524T130000
DTSTAMP:20260424T082747
CREATED:20230523T113018Z
LAST-MODIFIED:20230523T113018Z
UID:6657-1684933200-1684933200@transparencia.motril.es
SUMMARY:La alcaldesa de Motril\, Luisa García Chamorro\, junto al teniente de alcalde de Turismo y Playas\, José Lemos y la teniente de alcalde de Acción Social\, Inmaculada Torres\, visitan la Playa del Cable donde se ha instalado señalización para las personas con movilidad reducida
DESCRIPTION:
URL:https://transparencia.motril.es/evento/la-alcaldesa-de-motril-luisa-garcia-chamorro-junto-al-teniente-de-alcalde-de-turismo-y-playas-jose-lemos-y-la-teniente-de-alcalde-de-accion-social-inmaculada-torres-visitan-la-playa-del-cable-don/
CATEGORIES:Acción Social,Actos,Turismo
END:VEVENT
END:VCALENDAR