BEGIN:VCALENDAR
VERSION:2.0
PRODID:-//Ayuntamiento de Motril. Transparencia - ECPv6.15.20//NONSGML v1.0//EN
CALSCALE:GREGORIAN
METHOD:PUBLISH
X-ORIGINAL-URL:https://transparencia.motril.es
X-WR-CALDESC:Eventos para Ayuntamiento de Motril. Transparencia
REFRESH-INTERVAL;VALUE=DURATION:PT1H
X-Robots-Tag:noindex
X-PUBLISHED-TTL:PT1H
BEGIN:VTIMEZONE
TZID:UTC
BEGIN:STANDARD
TZOFFSETFROM:+0000
TZOFFSETTO:+0000
TZNAME:UTC
DTSTART:20220101T000000
END:STANDARD
END:VTIMEZONE
BEGIN:VEVENT
DTSTART;TZID=UTC:20230523T120000
DTEND;TZID=UTC:20230523T120000
DTSTAMP:20260424T082243
CREATED:20230522T172732Z
LAST-MODIFIED:20230522T172732Z
UID:6647-1684843200-1684843200@transparencia.motril.es
SUMMARY:La alcaldesa de Motril\, Luisa García Chamorro\, y miembros del equipo de gobierno reciben la cesión de maquetas para el Museo de Historia de Motril de parte de su autor\, Antonio Reinoso
DESCRIPTION:
URL:https://transparencia.motril.es/evento/la-alcaldesa-de-motril-luisa-garcia-chamorro-y-miembros-del-equipo-de-gobierno-reciben-la-cesion-de-maquetas-para-el-museo-de-historia-de-motril-de-parte-de-su-autor-antonio-reinoso/
CATEGORIES:Actos
END:VEVENT
BEGIN:VEVENT
DTSTART;TZID=UTC:20230523T180000
DTEND;TZID=UTC:20230523T180000
DTSTAMP:20260424T082243
CREATED:20230522T172853Z
LAST-MODIFIED:20230522T172853Z
UID:6649-1684864800-1684864800@transparencia.motril.es
SUMMARY:La alcaldesa de Motril\, Luisa García Chamorro\, constituye el Consejo Local de Infancia y Adolescencia.
DESCRIPTION:
URL:https://transparencia.motril.es/evento/la-alcaldesa-de-motril-luisa-garcia-chamorro-constituye-el-consejo-local-de-infancia-y-adolescencia/
CATEGORIES:Acción Social,Actos
END:VEVENT
BEGIN:VEVENT
DTSTART;TZID=UTC:20230523T193000
DTEND;TZID=UTC:20230523T193000
DTSTAMP:20260424T082243
CREATED:20230522T172952Z
LAST-MODIFIED:20230522T172952Z
UID:6651-1684870200-1684870200@transparencia.motril.es
SUMMARY:La alcaldesa de Motril\, Luisa García Chamorro\, y la teniente de alcalde de Acción Social\, Inmaculada Torres\, asisten al desarrollo y posterior clausura de las XVII Jornadas de Salud y Mujer.
DESCRIPTION:
URL:https://transparencia.motril.es/evento/la-alcaldesa-de-motril-luisa-garcia-chamorro-y-la-teniente-de-alcalde-de-accion-social-inmaculada-torres-asisten-al-desarrollo-y-posterior-clausura-de-las-xvii-jornadas-de-salud-y-mujer/
CATEGORIES:Actos
END:VEVENT
END:VCALENDAR