BEGIN:VCALENDAR
VERSION:2.0
PRODID:-//Ayuntamiento de Motril. Transparencia - ECPv6.15.20//NONSGML v1.0//EN
CALSCALE:GREGORIAN
METHOD:PUBLISH
X-WR-CALNAME:Ayuntamiento de Motril. Transparencia
X-ORIGINAL-URL:https://transparencia.motril.es
X-WR-CALDESC:Eventos para Ayuntamiento de Motril. Transparencia
REFRESH-INTERVAL;VALUE=DURATION:PT1H
X-Robots-Tag:noindex
X-PUBLISHED-TTL:PT1H
BEGIN:VTIMEZONE
TZID:UTC
BEGIN:STANDARD
TZOFFSETFROM:+0000
TZOFFSETTO:+0000
TZNAME:UTC
DTSTART:20220101T000000
END:STANDARD
END:VTIMEZONE
BEGIN:VEVENT
DTSTART;TZID=UTC:20230515T100000
DTEND;TZID=UTC:20230515T100000
DTSTAMP:20260424T082747
CREATED:20230512T113521Z
LAST-MODIFIED:20230512T113521Z
UID:6604-1684144800-1684144800@transparencia.motril.es
SUMMARY:Reunión interna
DESCRIPTION:
URL:https://transparencia.motril.es/evento/reunion-interna-251/
CATEGORIES:Reunión
END:VEVENT
BEGIN:VEVENT
DTSTART;TZID=UTC:20230515T120000
DTEND;TZID=UTC:20230515T120000
DTSTAMP:20260424T082747
CREATED:20230512T113344Z
LAST-MODIFIED:20230512T113344Z
UID:6602-1684152000-1684152000@transparencia.motril.es
SUMMARY:La alcaldesa de Motril\, Luisa García Chamorro\, y el concejal de Juventud y Fiestas\, Alejandro Vilar\, presentan la próxima edición del Motorfest
DESCRIPTION:
URL:https://transparencia.motril.es/evento/la-alcaldesa-de-motril-luisa-garcia-chamorro-y-el-concejal-de-juventud-y-fiestas-alejandro-vilar-presentan-la-proxima-edicion-del-motorfest/
CATEGORIES:Actos
END:VEVENT
BEGIN:VEVENT
DTSTART;TZID=UTC:20230515T120000
DTEND;TZID=UTC:20230515T120000
DTSTAMP:20260424T082747
CREATED:20230518T111737Z
LAST-MODIFIED:20230518T111737Z
UID:6617-1684152000-1684152000@transparencia.motril.es
SUMMARY:La alcaldesa de Motril\, Luisa García Chamorro\, y el concejal de Fiestas\, Alejandro Vilar\, presentan la próxima edición del Motores 2023.
DESCRIPTION:
URL:https://transparencia.motril.es/evento/la-alcaldesa-de-motril-luisa-garcia-chamorro-y-el-concejal-de-fiestas-alejandro-vilar-presentan-la-proxima-edicion-del-motores-2023/
CATEGORIES:Actos
END:VEVENT
BEGIN:VEVENT
DTSTART;TZID=UTC:20230515T160000
DTEND;TZID=UTC:20230515T160000
DTSTAMP:20260424T082747
CREATED:20230512T113635Z
LAST-MODIFIED:20230512T113635Z
UID:6606-1684166400-1684166400@transparencia.motril.es
SUMMARY:Reunión interna
DESCRIPTION:
URL:https://transparencia.motril.es/evento/reunion-interna-252/
CATEGORIES:Reunión
END:VEVENT
END:VCALENDAR