BEGIN:VCALENDAR
VERSION:2.0
PRODID:-//Ayuntamiento de Motril. Transparencia - ECPv6.15.20//NONSGML v1.0//EN
CALSCALE:GREGORIAN
METHOD:PUBLISH
X-WR-CALNAME:Ayuntamiento de Motril. Transparencia
X-ORIGINAL-URL:https://transparencia.motril.es
X-WR-CALDESC:Eventos para Ayuntamiento de Motril. Transparencia
REFRESH-INTERVAL;VALUE=DURATION:PT1H
X-Robots-Tag:noindex
X-PUBLISHED-TTL:PT1H
BEGIN:VTIMEZONE
TZID:UTC
BEGIN:STANDARD
TZOFFSETFROM:+0000
TZOFFSETTO:+0000
TZNAME:UTC
DTSTART:20220101T000000
END:STANDARD
END:VTIMEZONE
BEGIN:VEVENT
DTSTART;TZID=UTC:20230509T093000
DTEND;TZID=UTC:20230509T093000
DTSTAMP:20260424T082743
CREATED:20230508T123813Z
LAST-MODIFIED:20230508T123813Z
UID:6550-1683624600-1683624600@transparencia.motril.es
SUMMARY:Reunión interna
DESCRIPTION:
URL:https://transparencia.motril.es/evento/reunion-interna-244/
CATEGORIES:Reunión
END:VEVENT
BEGIN:VEVENT
DTSTART;TZID=UTC:20230509T100000
DTEND;TZID=UTC:20230509T100000
DTSTAMP:20260424T082743
CREATED:20230508T124006Z
LAST-MODIFIED:20230508T124006Z
UID:6552-1683626400-1683626400@transparencia.motril.es
SUMMARY:Reunión interna
DESCRIPTION:
URL:https://transparencia.motril.es/evento/reunion-interna-245/
CATEGORIES:Reunión
END:VEVENT
BEGIN:VEVENT
DTSTART;TZID=UTC:20230509T110000
DTEND;TZID=UTC:20230509T110000
DTSTAMP:20260424T082743
CREATED:20230508T124056Z
LAST-MODIFIED:20230508T124056Z
UID:6554-1683630000-1683630000@transparencia.motril.es
SUMMARY:Reunión interna
DESCRIPTION:
URL:https://transparencia.motril.es/evento/reunion-interna-246/
CATEGORIES:Reunión
END:VEVENT
BEGIN:VEVENT
DTSTART;TZID=UTC:20230509T120000
DTEND;TZID=UTC:20230509T120000
DTSTAMP:20260424T082743
CREATED:20230508T124517Z
LAST-MODIFIED:20230508T124517Z
UID:6556-1683633600-1683633600@transparencia.motril.es
SUMMARY:Reunión interna
DESCRIPTION:
URL:https://transparencia.motril.es/evento/reunion-interna-247/
CATEGORIES:Reunión
END:VEVENT
BEGIN:VEVENT
DTSTART;TZID=UTC:20230509T130000
DTEND;TZID=UTC:20230509T130000
DTSTAMP:20260424T082743
CREATED:20230508T124554Z
LAST-MODIFIED:20230508T124554Z
UID:6558-1683637200-1683637200@transparencia.motril.es
SUMMARY:Reunión interna
DESCRIPTION:
URL:https://transparencia.motril.es/evento/reunion-interna-248/
CATEGORIES:Reunión
END:VEVENT
END:VCALENDAR