BEGIN:VCALENDAR
VERSION:2.0
PRODID:-//Ayuntamiento de Motril. Transparencia - ECPv6.15.20//NONSGML v1.0//EN
CALSCALE:GREGORIAN
METHOD:PUBLISH
X-ORIGINAL-URL:https://transparencia.motril.es
X-WR-CALDESC:Eventos para Ayuntamiento de Motril. Transparencia
REFRESH-INTERVAL;VALUE=DURATION:PT1H
X-Robots-Tag:noindex
X-PUBLISHED-TTL:PT1H
BEGIN:VTIMEZONE
TZID:UTC
BEGIN:STANDARD
TZOFFSETFROM:+0000
TZOFFSETTO:+0000
TZNAME:UTC
DTSTART:20220101T000000
END:STANDARD
END:VTIMEZONE
BEGIN:VEVENT
DTSTART;TZID=UTC:20230508T100000
DTEND;TZID=UTC:20230508T100000
DTSTAMP:20260424T065004
CREATED:20230505T185808Z
LAST-MODIFIED:20230505T185808Z
UID:6546-1683540000-1683540000@transparencia.motril.es
SUMMARY:La alcaldesa de Motril\, Luisa García Chamorro\, y miembros del equipo de gobierno asisten al comienzo de la Exposición ‘Aniversario de la Mili. 250 años de su implantación y 20 años de su suspensión’
DESCRIPTION:
URL:https://transparencia.motril.es/evento/la-alcaldesa-de-motril-luisa-garcia-chamorro-y-miembros-del-equipo-de-gobierno-asisten-al-comienzo-de-la-exposicion-aniversario-de-la-mili-250-anos-de-su-implantacion-y-20-anos-de-su-suspe/
CATEGORIES:Actos
END:VEVENT
BEGIN:VEVENT
DTSTART;TZID=UTC:20230508T110000
DTEND;TZID=UTC:20230508T110000
DTSTAMP:20260424T065004
CREATED:20230505T185916Z
LAST-MODIFIED:20230505T185916Z
UID:6548-1683543600-1683543600@transparencia.motril.es
SUMMARY:La alcaldesa de Motril\, Luisa García Chamorro\, y miembros del equipo de gobierno asisten a la visita de la consejera de Fomento\, Rocío Díaz a las obras de la segunda fase de la Ronda Sur
DESCRIPTION:
URL:https://transparencia.motril.es/evento/la-alcaldesa-de-motril-luisa-garcia-chamorro-y-miembros-del-equipo-de-gobierno-asisten-a-la-visita-de-la-consejera-de-fomento-rocio-diaz-a-las-obras-de-la-segunda-fase-de-la-ronda-sur/
CATEGORIES:Actos
END:VEVENT
END:VCALENDAR