BEGIN:VCALENDAR
VERSION:2.0
PRODID:-//Ayuntamiento de Motril. Transparencia - ECPv6.15.20//NONSGML v1.0//EN
CALSCALE:GREGORIAN
METHOD:PUBLISH
X-WR-CALNAME:Ayuntamiento de Motril. Transparencia
X-ORIGINAL-URL:https://transparencia.motril.es
X-WR-CALDESC:Eventos para Ayuntamiento de Motril. Transparencia
REFRESH-INTERVAL;VALUE=DURATION:PT1H
X-Robots-Tag:noindex
X-PUBLISHED-TTL:PT1H
BEGIN:VTIMEZONE
TZID:UTC
BEGIN:STANDARD
TZOFFSETFROM:+0000
TZOFFSETTO:+0000
TZNAME:UTC
DTSTART:20220101T000000
END:STANDARD
END:VTIMEZONE
BEGIN:VEVENT
DTSTART;TZID=UTC:20230504T093000
DTEND;TZID=UTC:20230504T093000
DTSTAMP:20260424T064909
CREATED:20230502T095059Z
LAST-MODIFIED:20230502T095059Z
UID:6531-1683192600-1683192600@transparencia.motril.es
SUMMARY:Reunión interna
DESCRIPTION:
URL:https://transparencia.motril.es/evento/reunion-interna-241/
CATEGORIES:Reunión
END:VEVENT
BEGIN:VEVENT
DTSTART;TZID=UTC:20230504T100000
DTEND;TZID=UTC:20230504T100000
DTSTAMP:20260424T064909
CREATED:20230502T093314Z
LAST-MODIFIED:20230502T093314Z
UID:6527-1683194400-1683194400@transparencia.motril.es
SUMMARY:La alcaldesa de Motril\, Luisa García Chamorro\, y Daniel Ortega\, concejal de Deportes\, junto a María Palomares\, del Club Rítmica Costa Tropical\, presentan la próxima celebración en Motril de la Fase del Campeonato de Andalucía
DESCRIPTION:
URL:https://transparencia.motril.es/evento/la-alcaldesa-de-motril-luisa-garcia-chamorro-y-daniel-ortega-concejal-de-deportes-junto-a-maria-palomares-del-club-ritmica-costa-tropical-presentan-la-proxima-celebracion-en-motril-de-la-fase-de/
CATEGORIES:Actos,Deportes
END:VEVENT
BEGIN:VEVENT
DTSTART;TZID=UTC:20230504T103000
DTEND;TZID=UTC:20230504T103000
DTSTAMP:20260424T064909
CREATED:20230502T095008Z
LAST-MODIFIED:20230502T095008Z
UID:6529-1683196200-1683196200@transparencia.motril.es
SUMMARY:La alcaldesa de Motril\, Luisa García Chamorro\, y la teniente de alcalde de Acción Social\, Inmaculada Torres\, visitan los Centros de mayores de Altamar y Rompeolas
DESCRIPTION:
URL:https://transparencia.motril.es/evento/la-alcaldesa-de-motril-luisa-garcia-chamorro-y-la-teniente-de-alcalde-de-accion-social-inmaculada-torres-visitan-los-centros-de-mayores-de-altamar-y-rompeolas/
CATEGORIES:Acción Social,Actos
END:VEVENT
BEGIN:VEVENT
DTSTART;TZID=UTC:20230504T130000
DTEND;TZID=UTC:20230504T130000
DTSTAMP:20260424T064909
CREATED:20230502T095235Z
LAST-MODIFIED:20230502T095235Z
UID:6535-1683205200-1683205200@transparencia.motril.es
SUMMARY:Reunión interna
DESCRIPTION:
URL:https://transparencia.motril.es/evento/reunion-interna-243/
CATEGORIES:Reunión
END:VEVENT
END:VCALENDAR