BEGIN:VCALENDAR
VERSION:2.0
PRODID:-//Ayuntamiento de Motril. Transparencia - ECPv6.15.20//NONSGML v1.0//EN
CALSCALE:GREGORIAN
METHOD:PUBLISH
X-ORIGINAL-URL:https://transparencia.motril.es
X-WR-CALDESC:Eventos para Ayuntamiento de Motril. Transparencia
REFRESH-INTERVAL;VALUE=DURATION:PT1H
X-Robots-Tag:noindex
X-PUBLISHED-TTL:PT1H
BEGIN:VTIMEZONE
TZID:UTC
BEGIN:STANDARD
TZOFFSETFROM:+0000
TZOFFSETTO:+0000
TZNAME:UTC
DTSTART:20220101T000000
END:STANDARD
END:VTIMEZONE
BEGIN:VEVENT
DTSTART;TZID=UTC:20230502T103000
DTEND;TZID=UTC:20230502T103000
DTSTAMP:20260424T064958
CREATED:20230502T091959Z
LAST-MODIFIED:20230502T091959Z
UID:6511-1683023400-1683023400@transparencia.motril.es
SUMMARY:Reunión interna
DESCRIPTION:
URL:https://transparencia.motril.es/evento/reunion-interna-239/
CATEGORIES:Reunión
END:VEVENT
BEGIN:VEVENT
DTSTART;TZID=UTC:20230502T110000
DTEND;TZID=UTC:20230502T110000
DTSTAMP:20260424T064958
CREATED:20230502T092114Z
LAST-MODIFIED:20230502T092114Z
UID:6515-1683025200-1683025200@transparencia.motril.es
SUMMARY:Reunión interna
DESCRIPTION:
URL:https://transparencia.motril.es/evento/reunion-interna-240/
CATEGORIES:Reunión
END:VEVENT
BEGIN:VEVENT
DTSTART;TZID=UTC:20230502T120000
DTEND;TZID=UTC:20230502T120000
DTSTAMP:20260424T064958
CREATED:20230502T092226Z
LAST-MODIFIED:20230502T092226Z
UID:6517-1683028800-1683028800@transparencia.motril.es
SUMMARY:La corporación municipal celebra pleno extraordinario de sorteo de mesas electorales
DESCRIPTION:
URL:https://transparencia.motril.es/evento/la-corporacion-municipal-celebra-pleno-extraordinario-de-sorteo-de-mesas-electorales/
CATEGORIES:Pleno
END:VEVENT
BEGIN:VEVENT
DTSTART;TZID=UTC:20230502T120000
DTEND;TZID=UTC:20230502T120000
DTSTAMP:20260424T064958
CREATED:20230502T095124Z
LAST-MODIFIED:20230502T095124Z
UID:6533-1683028800-1683028800@transparencia.motril.es
SUMMARY:Reunión interna
DESCRIPTION:
URL:https://transparencia.motril.es/evento/reunion-interna-242/
CATEGORIES:Reunión
END:VEVENT
BEGIN:VEVENT
DTSTART;TZID=UTC:20230502T130000
DTEND;TZID=UTC:20230502T130000
DTSTAMP:20260424T064958
CREATED:20230502T092041Z
LAST-MODIFIED:20230502T092041Z
UID:6513-1683032400-1683032400@transparencia.motril.es
SUMMARY:La alcaldesa de Motril\, Luisa García Chamorro\, junto a miembros del equipo de gobierno\, visitan las cruces de Motril 2023
DESCRIPTION:
URL:https://transparencia.motril.es/evento/la-alcaldesa-de-motril-luisa-garcia-chamorro-junto-a-miembros-del-equipo-de-gobierno-visitan-las-cruces-de-motril-2023-4/
CATEGORIES:Actos
END:VEVENT
BEGIN:VEVENT
DTSTART;TZID=UTC:20230502T130000
DTEND;TZID=UTC:20230502T130000
DTSTAMP:20260424T064958
CREATED:20230502T092321Z
LAST-MODIFIED:20230502T092321Z
UID:6519-1683032400-1683032400@transparencia.motril.es
SUMMARY:La alcaldesa de Motril\, Luisa García Chamorro\, junto a miembros del equipo de gobierno\, visitan las cruces de Motril 2023
DESCRIPTION:
URL:https://transparencia.motril.es/evento/la-alcaldesa-de-motril-luisa-garcia-chamorro-junto-a-miembros-del-equipo-de-gobierno-visitan-las-cruces-de-motril-2023-5/
CATEGORIES:Actos
END:VEVENT
BEGIN:VEVENT
DTSTART;TZID=UTC:20230502T204500
DTEND;TZID=UTC:20230502T204500
DTSTAMP:20260424T064958
CREATED:20230502T092405Z
LAST-MODIFIED:20230502T092405Z
UID:6521-1683060300-1683060300@transparencia.motril.es
SUMMARY:La alcaldesa de Motril\, Luisa García Chamorro\, junto a miembros del equipo de gobierno\, realizan la entrega de premios de las cruces de Motril 2023
DESCRIPTION:
URL:https://transparencia.motril.es/evento/la-alcaldesa-de-motril-luisa-garcia-chamorro-junto-a-miembros-del-equipo-de-gobierno-realizan-la-entrega-de-premios-de-las-cruces-de-motril-2023/
CATEGORIES:Actos
END:VEVENT
BEGIN:VEVENT
DTSTART;TZID=UTC:20230502T210000
DTEND;TZID=UTC:20230502T210000
DTSTAMP:20260424T064958
CREATED:20230502T092523Z
LAST-MODIFIED:20230502T092523Z
UID:6523-1683061200-1683061200@transparencia.motril.es
SUMMARY:La alcaldesa de Motril\, Luisa García Chamorro\, junto a miembros del equipo de gobierno\, asisten al concierto de La Tentación
DESCRIPTION:
URL:https://transparencia.motril.es/evento/la-alcaldesa-de-motril-luisa-garcia-chamorro-junto-a-miembros-del-equipo-de-gobierno-asisten-al-concierto-de-la-tentacion/
CATEGORIES:Actos
END:VEVENT
END:VCALENDAR