BEGIN:VCALENDAR
VERSION:2.0
PRODID:-//Ayuntamiento de Motril. Transparencia - ECPv6.15.20//NONSGML v1.0//EN
CALSCALE:GREGORIAN
METHOD:PUBLISH
X-WR-CALNAME:Ayuntamiento de Motril. Transparencia
X-ORIGINAL-URL:https://transparencia.motril.es
X-WR-CALDESC:Eventos para Ayuntamiento de Motril. Transparencia
REFRESH-INTERVAL;VALUE=DURATION:PT1H
X-Robots-Tag:noindex
X-PUBLISHED-TTL:PT1H
BEGIN:VTIMEZONE
TZID:UTC
BEGIN:STANDARD
TZOFFSETFROM:+0000
TZOFFSETTO:+0000
TZNAME:UTC
DTSTART:20220101T000000
END:STANDARD
END:VTIMEZONE
BEGIN:VEVENT
DTSTART;TZID=UTC:20230427T100000
DTEND;TZID=UTC:20230427T170000
DTSTAMP:20260424T050646
CREATED:20230426T135437Z
LAST-MODIFIED:20230426T135437Z
UID:6468-1682589600-1682614800@transparencia.motril.es
SUMMARY:La alcaldesa de Motril\, Luisa García Chamorro\, asiste a la presentación de la 8ª edición de la Ruta Vespa Club Motril
DESCRIPTION:
URL:https://transparencia.motril.es/evento/la-alcaldesa-de-motril-luisa-garcia-chamorro-asiste-a-la-presentacion-de-la-8a-edicion-de-la-ruta-vespa-club-motril/
CATEGORIES:Actos
END:VEVENT
BEGIN:VEVENT
DTSTART;TZID=UTC:20230427T123000
DTEND;TZID=UTC:20230427T123000
DTSTAMP:20260424T050646
CREATED:20230426T140758Z
LAST-MODIFIED:20230426T140758Z
UID:6470-1682598600-1682598600@transparencia.motril.es
SUMMARY:La alcaldesa de Motril\, Luisa García Chamorro\, y la teniente de alcalde de Acción Social\, Inmaculada Torres\, visitan las actividades del Centro de mayores de Las Angustias
DESCRIPTION:
URL:https://transparencia.motril.es/evento/la-alcaldesa-de-motril-luisa-garcia-chamorro-y-la-teniente-de-alcalde-de-accion-social-inmaculada-torres-visitan-las-actividades-del-centro-de-mayores-de-las-angustias/
CATEGORIES:Acción Social,Actos
END:VEVENT
BEGIN:VEVENT
DTSTART;TZID=UTC:20230427T190000
DTEND;TZID=UTC:20230427T190000
DTSTAMP:20260424T050646
CREATED:20230426T140909Z
LAST-MODIFIED:20230426T140909Z
UID:6472-1682622000-1682622000@transparencia.motril.es
SUMMARY:La alcaldesa de Motril\, Luisa García Chamorro\, junto a miembros del equipo de gobierno\, asisten al Desfile de Lencería y baño de la AECC
DESCRIPTION:
URL:https://transparencia.motril.es/evento/la-alcaldesa-de-motril-luisa-garcia-chamorro-junto-a-miembros-del-equipo-de-gobierno-asisten-al-desfile-de-lenceria-y-bano-de-la-aecc/
CATEGORIES:Actos
END:VEVENT
BEGIN:VEVENT
DTSTART;TZID=UTC:20230427T200000
DTEND;TZID=UTC:20230427T200000
DTSTAMP:20260424T050646
CREATED:20230426T140951Z
LAST-MODIFIED:20230426T140951Z
UID:6474-1682625600-1682625600@transparencia.motril.es
SUMMARY:La alcaldesa de Motril\, Luisa García Chamorro\, junto a miembros del equipo de gobierno\, asiste a la apertura del Paseo de Varadero
DESCRIPTION:
URL:https://transparencia.motril.es/evento/la-alcaldesa-de-motril-luisa-garcia-chamorro-junto-a-miembros-del-equipo-de-gobierno-asiste-a-la-apertura-del-paseo-de-varadero/
CATEGORIES:Actos
END:VEVENT
END:VCALENDAR