BEGIN:VCALENDAR
VERSION:2.0
PRODID:-//Ayuntamiento de Motril. Transparencia - ECPv6.15.20//NONSGML v1.0//EN
CALSCALE:GREGORIAN
METHOD:PUBLISH
X-ORIGINAL-URL:https://transparencia.motril.es
X-WR-CALDESC:Eventos para Ayuntamiento de Motril. Transparencia
REFRESH-INTERVAL;VALUE=DURATION:PT1H
X-Robots-Tag:noindex
X-PUBLISHED-TTL:PT1H
BEGIN:VTIMEZONE
TZID:UTC
BEGIN:STANDARD
TZOFFSETFROM:+0000
TZOFFSETTO:+0000
TZNAME:UTC
DTSTART:20220101T000000
END:STANDARD
END:VTIMEZONE
BEGIN:VEVENT
DTSTART;TZID=UTC:20230422T110000
DTEND;TZID=UTC:20230422T110000
DTSTAMP:20260424T050729
CREATED:20230421T122442Z
LAST-MODIFIED:20230421T122442Z
UID:6432-1682161200-1682161200@transparencia.motril.es
SUMMARY:La alcaldesa de Motril\, Luisa García Chamorro despide a los jóvenes que viajan a la Ficzone de Granada
DESCRIPTION:
URL:https://transparencia.motril.es/evento/la-alcaldesa-de-motril-luisa-garcia-chamorro-despide-a-los-jovenes-que-viajan-a-la-ficzone-de-granada/
CATEGORIES:Actos
END:VEVENT
BEGIN:VEVENT
DTSTART;TZID=UTC:20230422T113000
DTEND;TZID=UTC:20230422T113000
DTSTAMP:20260424T050729
CREATED:20230421T122521Z
LAST-MODIFIED:20230421T122521Z
UID:6434-1682163000-1682163000@transparencia.motril.es
SUMMARY:La alcaldesa de Motril\, Luisa García Chamorro visita las actividades de Diversión en el Parque
DESCRIPTION:
URL:https://transparencia.motril.es/evento/la-alcaldesa-de-motril-luisa-garcia-chamorro-visita-las-actividades-de-diversion-en-el-parque/
CATEGORIES:Actos
END:VEVENT
BEGIN:VEVENT
DTSTART;TZID=UTC:20230422T123000
DTEND;TZID=UTC:20230422T123000
DTSTAMP:20260424T050729
CREATED:20230421T122617Z
LAST-MODIFIED:20230421T122617Z
UID:6436-1682166600-1682166600@transparencia.motril.es
SUMMARY:La alcaldesa de Motril\, Luisa García Chamorro\, a miembros del equipo de gobierno\, asisten a la inauguración de la Feria del Libro 2023
DESCRIPTION:
URL:https://transparencia.motril.es/evento/la-alcaldesa-de-motril-luisa-garcia-chamorro-a-miembros-del-equipo-de-gobierno-asisten-a-la-inauguracion-de-la-feria-del-libro-2023/
CATEGORIES:Actos
END:VEVENT
BEGIN:VEVENT
DTSTART;TZID=UTC:20230422T194500
DTEND;TZID=UTC:20230422T194500
DTSTAMP:20260424T050729
CREATED:20230421T122702Z
LAST-MODIFIED:20230421T122702Z
UID:6438-1682192700-1682192700@transparencia.motril.es
SUMMARY:La alcaldesa de Motril\, Luisa García Chamorro y miembros del equipo de gobierno visitan la capilla de Nuestra Señora de la Soledad y Cristo Yacente.
DESCRIPTION:
URL:https://transparencia.motril.es/evento/la-alcaldesa-de-motril-luisa-garcia-chamorro-y-miembros-del-equipo-de-gobierno-visitan-la-capilla-de-nuestra-senora-de-la-soledad-y-cristo-yacente/
CATEGORIES:Actos
END:VEVENT
END:VCALENDAR